Workbook

Sheet 記入用シート
B1: ★こちらのシートにのみ入力し、届出書シートと記入例シートには入力しないでください。 | K1: ★入力欄の黄色いセル欄にのみ入力してください。
B2: 地区計画・沿道地区計画の区域内における行為の届出書
B3: No. | C3: 記入項目 | K3: 入力欄 | O3: 備考 | P3: 記載チェック | W3: 行為の種別（届出の内容） | AA3: 地区計画の種類
B4: No.1 | C4: 届出を行う地区計画の種類を選択してください。 | O4: リストから選択してください。 | P4: =IF(K4="","必須事項です。 選択してください。","") -> 必須事項です。 選択してください。 | AA4: 蚕糸試験場跡地周辺地区地区計画 | AB4: 蚕糸 | AC4: 0
B5: No.2 | C5: 届出年月日を入力してください。 | O5: 行為の着手予定日より３０日前までに届出していただく必要があります。 | P5: =IF(K5="","必須事項です。 記入してください。","") -> 必須事項です。 記入してください。 | W5: ①土地の区画形質の変更 | AA5: 気象研究所跡地周辺地区地区計画 | AB5: 気象研 | AC5: 0
B6: No.3 | C6: 届出者の住所を入力してください。 | P6: =IF(K6="","必須事項です。 記入してください。","") -> 必須事項です。 記入してください。 | W6: ②建築物の建築又は工作物の建設 | AA6: 宮前二丁目地区地区計画 | AB6: 宮前二 | AC6: 0
B7: No.4 | C7: 届出者名を入力してください。 | K7: 会社名： | P7: =IF(L7="","任意事項です。","") -> 任意事項です。 | W7: ③建築物等の用途の変更 | AA7: 大田黒周辺地区地区計画 | AB7: 大田黒 | AC7: 0
K8: 氏名： | O8: 役職がある場合は氏名の前に記入してください。 | P8: =IF(L8="","必須事項です。 記入してください。","") -> 必須事項です。 記入してください。 | W8: ④建築物等の形態又は意匠の制限 | AA8: 高井戸一丁目地区地区計画 | AB8: 高井戸一 | AC8: 0
K9: 氏名： | O9: 複数名のお名前を入力する際は、こちらに入力してください。 | P9: =IF(L9="","任意事項です。","") -> 任意事項です。 | W9: ⑤木竹の伐採 | AA9: 荻窪三丁目地区地区計画 | AB9: 荻窪三 | AC9: 0
B10: No.5 | C10: 行為の場所（住居表示）を入力してください。 | K10: 杉並区 | P10: =IF(L10="","必須事項です。 記入してください。","") -> 必須事項です。 記入してください。 | AA10: 成田東四丁目地区地区計画 | AB10: 成田東四 | AC10: 0
B11: No.6 | C11: 行為の場所（地番表示）を入力してください。 | K11: 杉並区 | P11: =IF(L11="","必須事項です。 記入してください。","") -> 必須事項です。 記入してください。 | AA11: 宮前三丁目地区地区計画 | AB11: 宮前三 | AC11: 0
B12: No.7 | C12: 行為の着手予定日を入力してください。 | O12: 行為の届出提出日より３０日以降とする必要があります。 | P12: =IF(K12="","必須事項です。 記入してください。",IF(K5+30<=K12,"","届出年月日より30日以降の日付としてください。")) -> 必須事項です。 記入してください。 | AA12: 玉川上水・放射５号線周辺地区地区計画 | AB12: 放射５ | AC12: 0
B13: No.8 | C13: 行為の完了予定日を入力してください。 | P13: =IF(K13="","必須事項です。 記入してください。","") -> 必須事項です。 記入してください。 | AA13: 阿佐ヶ谷駅北東地区地区計画 | AB13: 北東 | AC13: 0
B14: No.9 | C14: 建築物の構造を入力してください。 | N14: 造 | P14: =IF(K14="","必須事項です。 記入してください。","") -> 必須事項です。 記入してください。 | W14: 行為の種別（建築物の建築・工作物の建築） | AA14: 杉並区環七沿道地区計画 | AB14: 環七 | AC14: 1
B15: No.10 | C15: 建築物の階数を入力してください。 | K15: 地上 | N15: 階 | P15: =IF(L15="","必須事項です。 記入してください。","") -> 必須事項です。 記入してください。 | W15: 建築物の建築 | AA15: 杉並区環状八号線沿道地区計画 | AB15: 環八 | AC15: 1
K16: 地下 | N16: 階 | W16: 工作物の建築
B17: No.11 | C17: 行為の種別（届出の内容）を選択してください。 | L17: ①土地の区画形質の変更 | O17: 該当する行為を全て選択してください。 （複数選択可） | P17: =IF(AND(K17="",K18="",K19="",K20="",K21=""),"必須事項です。 選択してください。","") -> 必須事項です。 選択してください。 | W17: 建築物・工作物
L18: ②建築物の建築又は工作物の建設 | AA18: =K4 -> 0 | AB18: =VLOOKUP($AA$18,$AA$4:$AC$17,2,FALSE) -> #N/A | AC18: =IFERROR(VLOOKUP($AA$18,$AA$4:$AC$17,3,FALSE),0) -> 0
L19: ③建築物等の用途の変更
L20: ④建築物等の形態又は意匠の変更
L21: ⑤木竹の伐採
B23: No.11で選択した行為の種別番号に該当する項目に、必要事項を入力してください | K23: 該当箇所のみ入力してください。 | W23: 新築 | X23: 新設
B24: No.12 | C24: ① | D24: 土地の区画形質の変更をする区域の面積を入力してください。 | N24: ㎡ | O24: ※単位は入力しないでください。 | P24: =IF($K$17="","入力不要",IF(K24="","①の必須事項です。 記入してください。","")) -> 入力不要 | W24: 改築 | X24: 改設
B25: No.13 | C25: ②④ | D25: 行為の種別（建築物の建築・工作物の建設）を入力してください。 | K25: 建築物の | O25: プルダウンより選択してください。 一方のみの場合は該当するもののみを選択してください。 | P25: =IF(AND($K$18="",$K$20=""),"入力不要",IF(AND(M25="",M26=""),"②④の必須事項です。 記入してください。","")) -> 入力不要 | W25: 増築 | X25: 増設
K26: 工作物の | W26: 移転 | X26: 移転
B27: No.14 | C27: ②③④ | D27: 敷地面積の合計を入力してください。 | N27: ㎡ | O27: ※単位は入力しないでください。 | P27: =IF(AND($K$18="",$K$19="",$K$20=""),"入力不要",IF(K27="","②③④の必須事項です。 記入してください。","")) -> 入力不要
B28: No.15 | C28: ②③④ | D28: 届出部分の建築又は建設面積を入力してください。 | N28: ㎡ | O28: ※単位は入力しないでください。 | P28: =IF(AND($K$18="",$K$19="",$K$20=""),"入力不要",IF(K28="","②③④の必須事項です。 記入してください。","")) -> 入力不要
B29: No.16 | C29: ②③④ | D29: 届出以外の部分の建築又は建設面積を入力してください。 | N29: ㎡ | O29: ※単位は入力しないでください。 | P29: =IF(AND($K$18="",$K$19="",$K$20=""),"入力不要",IF(K29="","任意事項です。","")) -> 入力不要
B30: No.17 | C30: ②③④ | D30: 届出部分の延べ面積を入力してください。 | N30: ㎡ | O30: ※単位は入力しないでください。 | P30: =IF(AND($K$18="",$K$19="",$K$20=""),"入力不要",IF(K30="","②③④の必須事項です。 記入してください。","")) -> 入力不要
B31: No.18 | C31: ②③④ | D31: 届出以外の部分の延べ面積を入力してください。 | N31: ㎡ | O31: ※単位は入力しないでください。 | P31: =IF(AND($K$18="",$K$19="",$K$20=""),"入力不要",IF(K31="","任意事項です。","")) -> 入力不要
B32: No.19 | C32: ②③④ | D32: 当該建築物の住宅の用途に供する部分の延べ面積を入力してください。 | N32: ㎡ | O32: ※単位は入力しないでください。 | P32: =IF(AND($K$18="",$K$19="",$K$20=""),"入力不要",IF(K32="","任意事項です。","")) -> 入力不要
B33: No.20 | C33: ②③④ | D33: 届出以外の部分で、住宅の用途に供する部分がある場合は、面積を入力してください。 | N33: ㎡ | O33: ※単位は入力しないでください。 | P33: =IF(AND($K$18="",$K$19="",$K$20=""),"入力不要",IF(K33="","任意事項です。","")) -> 入力不要
B34: No.21 | C34: ②③④ | D34: 建物の用途を入力してください。 | P34: =IF(AND($K$18="",$K$19="",$K$20=""),"入力不要",IF(K34="","②③④の必須事項です。 記入してください。","")) -> 入力不要
B35: No.22 | C35: ②③④ | D35: 地盤面からの高さを入力してください。 | N35: ｍ | O35: ※単位は入力しないでください。 | P35: =IF(AND($K$18="",$K$19="",$K$20=""),"入力不要",IF(K35="","②③④の必須事項です。 記入してください。","")) -> 入力不要
B36: No.23 | C36: ②③④ | D36: ="沿道整備道路"&IF($AC$18=1,"（"&IF(COUNTIF($K$4,"*環七*")=1,"環七","環八")&"）","")&"の路面中心からの高さを入力してください。" -> 沿道整備道路の路面中心からの高さを入力してください。 | N36: ｍ | O36: ※単位は入力しないでください。 | P36: =IF($AC$18=1,IF(AND($K$18="",$K$19="",$K$20=""),"入力不要",IF(K36="","②③④で計画地が"&IF(COUNTIF($K$4,"*環七*")=1,"環七","環八")&"に面する場合は記入してください。","")),"入力不要") -> 入力不要
B37: No.24 | C37: ②③④ | D37: ="届出部分の建築物の沿道整備道路"&IF($AC$18=1,"（"&IF(COUNTIF($K$4,"*環七*")=1,"環七","環八")&"）","")&"に面する部分の長さを入力してください。" -> 届出部分の建築物の沿道整備道路に面する部分の長さを入力してください。 | N37: ｍ | O37: ※単位は入力しないでください。 ※面する部分がある場合は必須事項です。 | P37: =IF($AC$18=1,IF(AND($K$18="",$K$19="",$K$20=""),"入力不要",IF(K37="","②③④で計画地が"&IF(COUNTIF($K$4,"*環七*")=1,"環七","環八")&"に面する場合は記入してください。","")),"入力不要") -> 入力不要
B38: No.25 | C38: ②③④ | D38: ="届出以外の部分の建築物の沿道整備道路"&IF($AC$18=1,"（"&IF(COUNTIF($K$4,"*環七*")=1,"環七","環八")&"）","")&"に面する部分の長さを入力してください。" -> 届出以外の部分の建築物の沿道整備道路に面する部分の長さを入力してください。 | N38: ｍ | O38: ※単位は入力しないでください。 | P38: =IF($AC$18=1,IF(AND($K$18="",$K$19="",$K$20=""),"入力不要",IF(K38="","任意事項です。","")),"入力不要") -> 入力不要
B39: No.26 | C39: ②③④ | D39: ="敷地の沿道整備道路"&IF($AC$18=1,"（"&IF(COUNTIF($K$4,"*環七*")=1,"環七","環八")&"）","")&"に接する部分の長さを入力してください。" -> 敷地の沿道整備道路に接する部分の長さを入力してください。 | N39: ｍ | O39: ※単位は入力しないでください。 ※敷地が接する場合は必須事項です。 | P39: =IF($AC$18=1,IF(AND($K$18="",$K$19="",$K$20=""),"入力不要",IF(K39="","②③④で計画地が"&IF(COUNTIF($K$4,"*環七*")=1,"環七","環八")&"に面する場合は記入してください。","")),"入力不要") -> 入力不要
B40: No.27 | C40: ②③④ | D40: 緑化施設の面積を入力してください。 | N40: ㎡ | O40: 杉並区では入力不要です。 | P40: 入力不要
B41: No.28 | C41: ②③④ | D41: 垣又はさくの構造を入力してください。 | O41: 例 CB(H=1000)＋メッシュフェンス800 CBでかき・さくを建てる場合は、高さもしくは段数を入力してください。 | P41: =IF(AND($K$18="",$K$19="",$K$20=""),"入力不要",IF(K41="","②③④で計画地に垣・さくの制限がかかる場合は記入してください。","")) -> 入力不要
B42: No.29 | C42: ③ | D42: 建築物等の用途の変更をする場合、変更部分の延べ面積を入力してください。 | N42: ㎡ | O42: ※単位は入力しないでください。 | P42: =IF($K$19="","入力不要",IF(K42="","③の必須事項です。 記入してください。","")) -> 入力不要
B43: No.30 | C43: ③ | D43: 建築物等の用途の変更をする場合、変更前の用途を入力してください。 | P43: =IF($K$19="","入力不要",IF(K43="","③の必須事項です。 記入してください。","")) -> 入力不要
B44: No.31 | C44: ③ | D44: 建築物等の用途の変更をする場合、変更後の用途を入力してください。 | P44: =IF($K$19="","入力不要",IF(K44="","③の必須事項です。 記入してください。","")) -> 入力不要
B45: No.32 | C45: ④ | D45: 建築物等の形態又は意匠の変更をする場合、変更の内容を入力してください。 | P45: =IF($K$20="","入力不要",IF(K45="","④の必須事項です。 記入してください。","")) -> 入力不要
B46: No.33 | C46: ⑤ | D46: 木竹の伐採をする場合、伐採面積を入力してください。 | O46: ※単位は入力しないでください。 | P46: =IF($K$21="","入力不要",IF(K46="","⑤の必須事項です。 記入してください。","")) -> 入力不要
B48: No.34 | C48: ご担当者様の会社名を入力してください。 | P48: =IF(K48="","必須事項です。 記入してください。","") -> 必須事項です。 記入してください。
B49: No.35 | C49: ご担当者様の氏名を入力してください。 | P49: =IF(K49="","必須事項です。 記入してください。","") -> 必須事項です。 記入してください。
B50: No.36 | C50: ご担当者様の電話番号を入力してください。 | P50: =IF(K50="","必須事項です。 記入してください。","") -> 必須事項です。 記入してください。

Sheet 記入例
B1: ★こちらのシートにのみ入力し、届出書シートと記入例シートには入力しないでください。 | K1: ★入力欄の黄色いセル欄にのみ入力してください。
B2: 地区計画・沿道地区計画の区域内における行為の届出書
B3: No. | C3: 記入項目 | K3: 入力欄 | O3: 備考 | P3: 記載チェック | W3: 行為の種別（届出の内容） | AA3: 地区計画の種類
B4: No.1 | C4: 届出を行う地区計画の種類を選択してください。 | K4: 杉並区環七沿道地区計画 | P4: =IF(K4="","必須事項です。 記入してください。","") | AA4: 蚕糸試験場跡地周辺地区地区計画 | AB4: 蚕糸 | AC4: 0
B5: No.2 | C5: 届出年月日を入力してください。 | K5: 46113 | O5: 行為の着手予定日より３０日前までに届出していただく必要がございます。 | P5: =IF(K5="","必須事項です。 記入してください。","") | W5: ①土地の区画形質の変更 | AA5: 気象研究所跡地周辺地区地区計画 | AB5: 気象研 | AC5: 0
B6: No.3 | C6: 届出者の住所を入力してください。 | K6: 杉並区阿佐谷南1-15-1 | P6: =IF(K6="","必須事項です。 記入してください。","") | W6: ②建築物の建築又は工作物の建設 | AA6: 宮前二丁目地区地区計画 | AB6: 宮前二 | AC6: 0
B7: No.4 | C7: 届出者名を入力してください。 | K7: 会社名： | L7: 杉並区役所 | P7: =IF(L7="","任意事項です。","") | W7: ③建築物等の用途の変更 | AA7: 大田黒周辺地区地区計画 | AB7: 大田黒 | AC7: 0
K8: 氏名： | L8: なみすけ | O8: 役職がある場合は氏名の前に記入してください。 | P8: =IF(L8="","必須事項です。 記入してください。","") | W8: ④建築物等の形態又は意匠の制限 | AA8: 高井戸一丁目地区地区計画 | AB8: 高井戸一 | AC8: 0
K9: 氏名： | L9: なみおじ | O9: 複数名のお名前を入力する際は、こちらに入力してください。 | P9: =IF(L9="","任意事項です。","") | W9: ⑤木竹の伐採 | AA9: 荻窪三丁目地区地区計画 | AB9: 荻窪三 | AC9: 0
B10: No.5 | C10: 行為の場所（住居表示）を入力してください。 | K10: 杉並区 | L10: 阿佐谷南1-15-1 | O10: 番地より先が未定の場合は、その部分を「以下未定」と入力してください。 | P10: =IF(L10="","必須事項です。 記入してください。","") | AA10: 成田東四丁目地区地区計画 | AB10: 成田東四 | AC10: 0
B11: No.6 | C11: 行為の場所（地番表示）を入力してください。 | K11: 杉並区 | L11: 阿佐谷南1-718-1 | P11: =IF(L11="","必須事項です。 記入してください。","") | AA11: 宮前三丁目地区地区計画 | AB11: 宮前三 | AC11: 0
B12: No.7 | C12: 行為の着手予定日を入力してください。 | K12: 46204 | O12: 行為の届出提出日より３０日以降とする必要がございます。 | P12: =IF(K12="","必須事項です。 記入してください。",IF(K5+30<=K12,"","届出年月日より30日以降の日付としてください。")) | AA12: 玉川上水・放射５号線周辺地区地区計画 | AB12: 放射５ | AC12: 0
B13: No.8 | C13: 行為の完了予定日を入力してください。 | K13: 46274 | P13: =IF(K13="","必須事項です。 記入してください。","") | AA13: 阿佐ヶ谷駅北東地区地区計画 | AB13: 北東 | AC13: 0
B14: No.9 | C14: 建築物の構造を入力してください。 | K14: 鉄筋コンクリート | N14: 造 | P14: =IF(K14="","必須事項です。 記入してください。","") | W14: 行為の種別（建築物の建築・工作物の建築） | AA14: 杉並区環七沿道地区計画 | AB14: 環七 | AC14: 1
B15: No.10 | C15: 建築物の階数を入力してください。 | K15: 地上 | L15: 12 | N15: 階 | P15: =IF(L15="","必須事項です。 記入してください。","") | W15: 建築物の建築 | AA15: 杉並区環状八号線沿道地区計画 | AB15: 環八 | AC15: 1
K16: 地下 | L16: 2 | N16: 階 | W16: 工作物の建築
B17: No.11 | C17: 行為の種別（届出の内容）を選択してください。（複数選択可） | K17: ○ | L17: ①土地の区画形質の変更 | P17: =IF(AND(K17="",K18="",K19="",K20="",K21=""),"必須事項です。 選択してください。","") | W17: 建築物・工作物
K18: ○ | L18: ②建築物の建築又は工作物の建設 | AA18: =K4 -> 杉並区環七沿道地区計画 | AB18: =VLOOKUP($AA$18,$AA$4:$AC$17,2,FALSE) -> 環七 | AC18: =IFERROR(VLOOKUP($AA$18,$AA$4:$AC$17,3,FALSE),0) -> 1
K19: ○ | L19: ③建築物等の用途の変更
K20: ○ | L20: ④建築物等の形態又は意匠の変更
K21: ○ | L21: ⑤木竹の伐採
B23: No.11で選択した行為の種別番号に該当する項目に、必要事項を入力してください | K23: 該当箇所のみ入力してください。 | W23: 新築 | X23: 新設
B24: No.12 | C24: ① | D24: 土地の区画形質の変更をする区域の面積を入力してください。 | K24: 1000 | N24: ㎡ | O24: ※単位は入力しないでください。 | P24: =IF($K$17="","入力不要",IF(K24="","①の必須事項です。 記入してください。","")) | W24: 改築 | X24: 改設
B25: No.13 | C25: ②④ | D25: 行為の種別（建築物の建築・工作物の建設）を入力してください。 | K25: 建築物の | M25: 新築 | O25: プルダウンより選択してください。 一方のみの場合は該当するもののみを選択してください。 | P25: =IF(AND($K$18="",$K$20=""),"入力不要",IF(AND(M25="",M26=""),"②④の必須事項です。 記入してください。","")) | W25: 増築 | X25: 増設
K26: 工作物の | M26: 増設 | W26: 移転 | X26: 移転
B27: No.14 | C27: ②③④ | D27: 敷地面積の合計を入力してください。 | K27: 1000 | N27: ㎡ | O27: ※単位は入力しないでください。 | P27: =IF(AND($K$18="",$K$19="",$K$20=""),"入力不要",IF(K27="","②③④の必須事項です。 記入してください。",""))
B28: No.15 | C28: ②③④ | D28: 届出部分の建築又は建設面積を入力してください。 | K28: 500 | N28: ㎡ | O28: ※単位は入力しないでください。 | P28: =IF(AND($K$18="",$K$19="",$K$20=""),"入力不要",IF(K28="","②③④の必須事項です。 記入してください。",""))
B29: No.16 | C29: ②③④ | D29: 届出以外の部分の建築又は建設面積を入力してください。 | K29: 100 | N29: ㎡ | O29: ※単位は入力しないでください。 | P29: =IF(AND($K$18="",$K$19="",$K$20=""),"入力不要",IF(K29="","任意事項です。",""))
B30: No.17 | C30: ②③④ | D30: 届出部分の延べ面積を入力してください。 | K30: 6000 | N30: ㎡ | O30: ※単位は入力しないでください。 | P30: =IF(AND($K$18="",$K$19="",$K$20=""),"入力不要",IF(K30="","②③④の必須事項です。 記入してください。",""))
B31: No.18 | C31: ②③④ | D31: 届出以外の部分の延べ面積を入力してください。 | K31: 1200 | N31: ㎡ | O31: ※単位は入力しないでください。 | P31: =IF(AND($K$18="",$K$19="",$K$20=""),"入力不要",IF(K31="","任意事項です。",""))
B32: No.19 | C32: ②③④ | D32: 当該建築物の住宅の用途に供する部分の延べ面積を入力してください。 | K32: 2000 | N32: ㎡ | O32: ※単位は入力しないでください。 | P32: =IF(AND($K$18="",$K$19="",$K$20=""),"入力不要",IF(K32="","任意事項です。",""))
B33: No.20 | C33: ②③④ | D33: 届出以外の部分で、住宅の用途に供する部分がある場合は、面積を入力してください。 | K33: 500 | N33: ㎡ | O33: ※単位は入力しないでください。 | P33: =IF(AND($K$18="",$K$19="",$K$20=""),"入力不要",IF(K33="","任意事項です。",""))
B34: No.21 | C34: ②③④ | D34: 建物の用途を入力してください。 | K34: 事務所 | P34: =IF(AND($K$18="",$K$19="",$K$20=""),"入力不要",IF(K34="","②③④の必須事項です。 記入してください。",""))
B35: No.22 | C35: ②③④ | D35: 地盤面からの高さを入力してください。 | K35: 40 | N35: ｍ | O35: ※単位は入力しないでください。 | P35: =IF(AND($K$18="",$K$19="",$K$20=""),"入力不要",IF(K35="","②③④の必須事項です。 記入してください。",""))
B36: No.23 | C36: ②③④ | D36: ="沿道整備道路"&IF($AC$18=1,"（"&IF(COUNTIF($K$4,"*環七*")=1,"環七","環八")&"）","")&"の路面中心からの高さを入力してください。" -> 沿道整備道路（環七）の路面中心からの高さを入力してください。 | K36: 8.2 | N36: ｍ | O36: ※単位は入力しないでください。 | P36: =IF($AC$18=1,IF(AND($K$18="",$K$19="",$K$20=""),"入力不要",IF(K36="","②③④の必須事項です。 記入してください。","")),"入力不要")
B37: No.24 | C37: ②③④ | D37: ="届出部分の建築物の沿道整備道路"&IF($AC$18=1,"（"&IF(COUNTIF($K$4,"*環七*")=1,"環七","環八")&"）","")&"に面する部分の長さを入力してください。" -> 届出部分の建築物の沿道整備道路（環七）に面する部分の長さを入力してください。 | K37: 10 | N37: ｍ | O37: ※単位は入力しないでください。 ※面する部分がある場合は必須事項です。 | P37: =IF($AC$18=1,IF(AND($K$18="",$K$19="",$K$20=""),"入力不要",IF(K37="","任意事項です。","")),"入力不要")
B38: No.25 | C38: ②③④ | D38: ="届出以外の部分の建築物の沿道整備道路"&IF($AC$18=1,"（"&IF(COUNTIF($K$4,"*環七*")=1,"環七","環八")&"）","")&"に面する部分の長さを入力してください。" -> 届出以外の部分の建築物の沿道整備道路（環七）に面する部分の長さを入力してください。 | K38: 1 | N38: ｍ | O38: ※単位は入力しないでください。 | P38: =IF($AC$18=1,IF(AND($K$18="",$K$19="",$K$20=""),"入力不要",IF(K38="","任意事項です。","")),"入力不要")
B39: No.26 | C39: ②③④ | D39: ="敷地の沿道整備道路"&IF($AC$18=1,"（"&IF(COUNTIF($K$4,"*環七*")=1,"環七","環八")&"）","")&"に接する部分の長さを入力してください。" -> 敷地の沿道整備道路（環七）に接する部分の長さを入力してください。 | K39: 18 | N39: ｍ | O39: ※単位は入力しないでください。 ※敷地が接する場合は必須事項です。 | P39: =IF($AC$18=1,IF(AND($K$18="",$K$19="",$K$20=""),"入力不要",IF(K39="","任意事項です。","")),"入力不要")
B40: No.27 | C40: ②③④ | D40: 緑化施設の面積を入力してください。 | N40: ㎡ | O40: 杉並区では入力不要です。 | P40: 入力不要
B41: No.28 | C41: ②③④ | D41: 垣又はさくの構造を入力してください。 | K41: CBH1000＋アルミフェンス200 | O41: 例 CB(H=1000)＋メッシュフェンス800 CBでかき・さくを建てる場合は、高さもしくは段数を入力してください。 | P41: =IF(AND($K$18="",$K$19="",$K$20=""),"入力不要",IF(K41="","②③④の必須事項です。 記入してください。",""))
B42: No.29 | C42: ③ | D42: 建築物等の用途の変更をする場合、変更部分の延べ面積を入力してください。 | K42: 500 | N42: ㎡ | O42: ※単位は入力しないでください。 | P42: =IF($K$19="","入力不要",IF(K42="","③の必須事項です。 記入してください。",""))
B43: No.30 | C43: ③ | D43: 建築物等の用途の変更をする場合、変更前の用途を入力してください。 | K43: 共同住宅 | P43: =IF($K$19="","入力不要",IF(K43="","③の必須事項です。 記入してください。",""))
B44: No.31 | C44: ③ | D44: 建築物等の用途の変更をする場合、変更後の用途を入力してください。 | K44: 事務所 | P44: =IF($K$19="","入力不要",IF(K44="","③の必須事項です。 記入してください。",""))
B45: No.32 | C45: ④ | D45: 建築物等の形態又は意匠の変更をする場合、変更の内容を入力してください。 | K45: 外壁の色彩の変更 | P45: =IF($K$20="","入力不要",IF(K45="","④の必須事項です。 記入してください。",""))
B46: No.33 | C46: ⑤ | D46: 木竹の伐採をする場合、伐採面積を入力してください。 | K46: 400 | O46: ※単位は入力しないでください。 | P46: =IF($K$21="","入力不要",IF(K46="","⑤の必須事項です。 記入してください。",""))
B48: No.34 | C48: ご担当者様の会社名を入力してください。 | K48: 杉並区役所 | P48: =IF(K48="","必須事項です。 記入してください。","")
B49: No.35 | C49: ご担当者様の氏名を入力してください。 | K49: なみー | P49: =IF(K49="","必須事項です。 記入してください。","")
B50: No.36 | C50: ご担当者様の電話番号を入力してください。 | K50: 03-3312-2111 | P50: =IF(K50="","必須事項です。 記入してください。","")

Sheet 帳票型入力画面
B2: 別記様式第１（第10条関係）
A3: 地区計画の区域内における行為の届出書
B4: 杉並区長殿 | H4: 届出年月日 | J4: 46113 | M4: 入力例 2026/6/19 着手予定の30日以上前に提出する必要があります
E5: 届出者 | H5: 届出人住所 | J5: 東京都杉並区阿阿佐谷南1－15－1
H7: 届出人氏名 | J7: 杉並建築株式会社 | M7: 申請者名１ | P7: 申請者名はこの三段に入力できます
J8: 代表取締社長 | M8: 申請者名２
J9: 波野 一郎 | M9: 申請者名３
B13: 都市計画法第58条の２第１項の規定に基づき、
C14: ②建築物の建築又は工作物の建設 | H14: について、下記により届け出ます。 | N14: 届出の種類を選択してください。複数の種類がある場合追加部分右の四角内に記入ください | W14: 土地の区画形質の変更
A15: 記
B16: 1 | C16: 行 為 の 場 所 | F16: 杉並区 | H16: 阿佐谷南1－15－1 | M16: （届け出先住居表示） | Z16: 木
F17: 杉並区 | H17: 阿佐谷南1－9999－1 | M17: （届け出先地番） | Z17: 鉄骨
B18: 2 | C18: 行為の着手予定日 | H18: 46144 | M18: 入力例 2026/6/19 | Z18: 鉄筋コンクリート
B19: 3 | C19: 行為の完了予定日 | H19: 46478 | M19: 入力例 2026/6/19 | Z19: 鉄骨鉄筋コンクリート
B20: 4 | C20: 設計又は施工方法 | H20: 木 | J20: 2 | M20: 建物構造（ﾌﾟﾙﾀﾞｳﾝ）および階数（数値）を入力してください | T20: ※ﾌﾟﾙﾀﾞｳﾝに構造がない場合▢に入力、リストに追加されます
C21: (1)土地の区画形質の変更 | H21: 区域の面積 | M21: ㎡ | N21: 土地の区画形質の変更の届出の場合入力してください
C22: (2)建築物の建築 又は工作物の建設 | D22: (イ)行為の種別 | F22: ( | G22: 建築物の建築 | I22: )( | J22: 新築 | L22: ) | N22: 行為の種別をﾌﾟﾙﾀﾞｳﾝから選択 | R22: 例 建築物の建築 新築
D23: （ロ）設計の概要 | H23: 届出部分 | J23: 届出以外の部分 | L23: 合計
E24: (i)敷地面積 | L24: 500 | M24: ㎡ | N24: 敷地面積の入力は「土地の区画形質」は不要です
E25: (ii)建築又は建設面積 | H25: 100 | I25: ㎡ | J25: 200 | K25: ㎡ | L25: 300 | M25: ㎡ | N25: 建築又は建設面積は「土地の区画形質」は不要です
E26: (iii)延べ面積 | H26: 100 | I26: ㎡ | J26: 200 | K26: ㎡ | L26: 300 | M26: ㎡ | N26: 延べ面積は「土地の区画形質」は不要です
H27: 50 | I27: ㎡) | J27: 50 | K27: ㎡) | L27: 100 | M27: ㎡) | N27: 容積対象面積を記入してください
E28: (iv)高さ地盤面から | F28: 10 | H28: (vi)用途 | I28: 一戸建ての住宅 | N28: （左）確認申請上の建築物最高高さを記載してください。（右）建物の用途を入力してください。例 一戸建ての住宅 「土地の区画形質」は不要です
E29: (v)緑化施設の面積 | F29: 1000 | H29: (vii)垣又はさくの構造 | K29: CB塀(H1000） | N29: （左）阿佐ヶ谷駅北東地区で緑化率の対象となる場合入力
N30: （右）垣又はさくの構造規制がある場合入力 例 CB塀（H=1000）※1番高い塀を記載ください
C31: (3)建築物等の用途の変更 | D31: (ｲ)変更部分の延べ面積 | H31: (ﾛ)変更前の用途 | K31: (ﾊ)変更後の用途 | N31: 「建築物等の用途の変更」の入力してください。
D32: 10 | H32: 店舗 | K32: 飲食 | N32: （左）確認申請上の用途変更部分の申請面積（中央）変更前の用途 例 店舗 （右） 変更後の用途 例 飲食店
C33: (4)建築物等の形態又は意匠の変更 | H33: 変更の内容 | I33: 外壁塗装 | N33: 「建築物等の形態又は意匠の変更」の内容 例 外壁の模様替え
C34: (5)木竹の伐採 | H34: 伐採面積
C47: ●連絡先 | E47: 住 所
E48: 氏 名
E49: 電話番号

Sheet 【地区計画】行為の届出書（出力）
B1: 別記様式第１
B3: 地 区 計 画 の 区 域 内 に お け る 行 為 の 届 出 書
M4: =IF(記入用シート!K5="","年 月 日",記入用シート!K5) -> 年 月 日
C5: 杉並区長 宛
E6: 届出者 | I6: 住所 | J6: =IF(記入用シート!K6="","",記入用シート!K6)
I8: 氏名 | J8: =IF(記入用シート!L7="","",記入用シート!L7)
J9: =IF(記入用シート!L8="","",記入用シート!L8)
J10: =IF(記入用シート!L9="","",記入用シート!L9)
B11: =IF(記入用シート!$AC$18=1,"沿道地区計画のシートを使用してください。","")
C12: 都市計画法第58条の２第１項の規定に基づき、
D13: =IF(記入用シート!K17="","",記入用シート!K17) | E13: 土地の区画形質の変更
D14: =IF(記入用シート!K18="","",記入用シート!K18) | E14: 建築物の建築又は工作物の建設
D15: =IF(記入用シート!K19="","",記入用シート!K19) | E15: 建築物等の用途の変更 | I15: について、下記により届け出ます。
D16: =IF(記入用シート!K20="","",記入用シート!K20) | E16: 建築物等の形態又は意匠の変更
D17: =IF(記入用シート!K21="","",記入用シート!K21) | E17: 木竹の伐採
B18: 記
C19: １ 行 為 の 場 所 | F19: 杉並区 | I19: =IF(記入用シート!L10="","",記入用シート!L10)
I20: ="（地番）"&IF(記入用シート!L11="","",記入用シート!L11) -> （地番）
C21: ２ 行為の着手予定日 | I21: =IF(記入用シート!K12="","",記入用シート!K12)
C22: ３ 行為の完了予定日 | I22: =IF(記入用シート!K13="","",記入用シート!K13)
C23: ４ 設計又は施行方法 | I23: =IF(記入用シート!K14="","",DBCS(記入用シート!K14)&"造")&IF(記入用シート!L15="","",DBCS(記入用シート!L15)&"階建て")&IF(記入用シート!L16>0,"（地下"&DBCS(記入用シート!L16)&"階）","")
C24: （１）土地の区画形質の変更 | H24: 区域の面積 | J24: =IF(記入用シート!K24="","",記入用シート!K24) | Q24: ㎡
C25: （２） | D25: (イ)行為の種別 | H25: =IF(記入用シート!M25="","","建築物の"&記入用シート!M25)&IF(OR(記入用シート!M25="",記入用シート!M26=""),"","及び")&IF(記入用シート!M26="","","工作物の"&記入用シート!M26)
D26: （ロ）設計の概要 | H26: 届出部分 | K26: 届出以外の部分 | O26: 合計
C27: 建築物の建築又は 工作物の建設 | E27: (ⅰ)敷地面積 | O27: =IF(記入用シート!K27="","",記入用シート!K27) | Q27: ㎡
E28: (ⅱ)建築又は建設面積 | H28: =IF(記入用シート!K28="","",記入用シート!K28) | J28: ㎡ | K28: =IF(記入用シート!K29="","",記入用シート!K29) | N28: ㎡ | O28: =IF(H28="","",H28+IF(K28="",0,K28)) | Q28: ㎡
E29: (ⅲ)延べ面積 | H29: =IF(記入用シート!K30="","",記入用シート!K30) | J29: ㎡ | K29: =IF(記入用シート!K31="","",記入用シート!K31) | N29: ㎡ | O29: =IF(H29="","",H29+IF(K29="",0,K29)) | Q29: ㎡
H30: ( | I30: =IF(記入用シート!K32="","",記入用シート!K32) | J30: ㎡) | K30: ( | L30: =IF(記入用シート!K33="","",記入用シート!K33) | N30: ㎡) | O30: ( | P30: =IF(I30="","",I30+IF(L30="",0,L30)) | Q30: ㎡)
E31: (ⅳ)高さ 地盤面から | F31: =IF(記入用シート!K35="","",記入用シート!K35) | G31: ｍ | H31: (ⅵ)用途 | K31: =IF(記入用シート!K34="","",記入用シート!K34)
E32: (ⅴ)緑化施設の面積 | F32: =IF(記入用シート!K40="","",記入用シート!K40) | G32: ㎡ | H32: (ⅶ) 垣又はさくの構造 | K32: =IF(記入用シート!K41="","",記入用シート!K41)
C33: (3)建築物等 の用途の変更 | E33: (ｲ)変更部分の延べ面積 | H33: (ﾛ)変更前の用途 | M33: (ﾊ)変更後の用途
E34: =IF(記入用シート!K42="","",記入用シート!K42) | G34: ㎡ | H34: =IF(記入用シート!K43="","",記入用シート!K43) | M34: =IF(記入用シート!K44="","",記入用シート!K44)
C35: (4)建築物等の形態又は意匠の変更 | H35: 変更の内容 | J35: =IF(記入用シート!K45="","",記入用シート!K45)
C36: (5)木竹の伐採 | H36: 伐採面積 | J36: =IF(記入用シート!K46="","",記入用シート!K46) | Q36: ㎡
C38: 備考
C39: １．届出者が法人である場合においては、氏名は、その法人の名称及び代表者の氏名を記載すること。
C40: ２．建築物等の用途の変更について変更部分が二以上あるときは、各部分ごとに記載すること。
C41: ３．地区計画において定められている内容に照らして、必要な事項について記載すること。
C42: ４．都市計画法第 12 条の 9 に規定する内容を定めた地区整備計画の区域内における建築物の建築又は用途の変更については、
C43: 次によること。
C44: (1) 当該建築物の建築については、(2)(ロ)(ⅲ)延べ面積欄の( )の中に当該建築物の住宅の用途に供する部分の延べ面積を記載
C45: すること。用途の変更があわせて行われるときは、用途変更後の住宅の用途に供する部分の延べ面積を記載すること。
C46: (2) 当該建築物の用途の変更については、(2)(ロ)(ⅰ)敷地面積の合計欄及び(2)(ロ)(ⅲ)延べ面積の合計欄(同欄中の( )は用途
C47: 変更後の当該建築物の住宅の用途に供する部分の延べ面積の合計欄)についても記載すること。
C48: ５．同一の土地の区域について二以上の種類の行為を行おうとするときは、一の届出書によることができる。
C49: ６．緑化施設の面積は、都市緑地法施行規則第 9 条に定める方法により算定すること。
D52: ●連絡先 会 社 名： | F52: =IF(記入用シート!K48="","",記入用シート!K48)
E53: 氏 名： | F53: =IF(記入用シート!K49="","",記入用シート!K49)
E54: 電話番号： | F54: =IF(記入用シート!K50="","",記入用シート!K50)

Sheet 【沿道地区計画】行為の届出書（出力）
B1: 別記様式第１
B3: 沿 道 地 区 計 画 の 区 域 内 に お け る 行 為 の 届 出 書
N4: =IF(記入用シート!K5="","年 月 日",記入用シート!K5) -> 年 月 日
C5: 杉並区長 宛
F6: 届出者 | J6: 住所 | K6: =IF(記入用シート!K6="","",記入用シート!K6)
J8: 氏名 | K8: =IF(記入用シート!L7="","",記入用シート!L7)
K9: =IF(記入用シート!L8="","",記入用シート!L8)
K10: =IF(記入用シート!L9="","",記入用シート!L9)
B11: =IF(OR(記入用シート!$AC$18=1,記入用シート!$K$4=""),"","地区計画のシートを使用してください。")
C12: 幹線道路の沿道の整備に関する法律第10条第１項の規定に基づき、
D13: =IF(記入用シート!K17="","",記入用シート!K17) | E13: 土地の区画形質の変更
D14: =IF(記入用シート!K18="","",記入用シート!K18) | E14: 建築物の建築又は工作物の建設
D15: =IF(記入用シート!K19="","",記入用シート!K19) | E15: 建築物等の用途の変更 | J15: について、下記により届け出ます。
D16: =IF(記入用シート!K20="","",記入用シート!K20) | E16: 建築物等の形態又は意匠の変更
D17: =IF(記入用シート!K21="","",記入用シート!K21) | E17: 木竹の伐採
B18: 記
C19: １ 行 為 の 場 所 | G19: 杉並区 | J19: =IF(記入用シート!L10="","",記入用シート!L10)
J20: ="（地番）"&IF(記入用シート!L11="","",記入用シート!L11) -> （地番）
C21: ２ 行為の着手予定日 | J21: =IF(記入用シート!K12="","",記入用シート!K12)
C22: ３ 行為の完了予定日 | J22: =IF(記入用シート!K13="","",記入用シート!K13)
C23: ４ 設計又は施行方法 | J23: =IF(記入用シート!K14="","",DBCS(記入用シート!K14)&"造")&IF(記入用シート!L15="","",DBCS(記入用シート!L15)&"階建て")&IF(記入用シート!L16>0,"（地下"&DBCS(記入用シート!L16)&"階）","")
C24: （１）土地の区画形質の変更 | I24: 区域の面積 | K24: =IF(記入用シート!K24="","",記入用シート!K24) | R24: ㎡
C25: （２） | D25: (イ)行為の種別 | I25: =IF(記入用シート!M25="","","建築物の"&記入用シート!M25)&IF(OR(記入用シート!M25="",記入用シート!M26=""),"","及び")&IF(記入用シート!M26="","","工作物の"&記入用シート!M26)
D26: （ロ） | I26: 届出部分 | L26: 届出以外の部分 | P26: 合計
C27: 建築物の建築又は工作物の建設 | E27: (ⅰ)敷地面積 | P27: =IF(記入用シート!K27="","",記入用シート!K27) | R27: ㎡
E28: (ⅱ)建築又は建設面積 | I28: =IF(記入用シート!K28="","",記入用シート!K28) | K28: ㎡ | L28: =IF(記入用シート!K29="","",記入用シート!K29) | O28: ㎡ | P28: =IF(I28="","",I28+IF(L28="",0,L28)) | R28: ㎡
E29: (ⅲ)延べ面積 | I29: =IF(記入用シート!K30="","",記入用シート!K30) | K29: ㎡ | L29: =IF(記入用シート!K31="","",記入用シート!K31) | O29: ㎡ | P29: =IF(I29="","",I29+IF(L29="",0,L29)) | R29: ㎡
D30: 設計の概要 | I30: ( | J30: =IF(記入用シート!K32="","",記入用シート!K32) | K30: ㎡) | L30: ( | M30: =IF(記入用シート!K33="","",記入用シート!K33) | O30: ㎡) | P30: ( | Q30: =IF(J30="","",J30+IF(M30="",0,M30)) | R30: ㎡)
E31: (ⅳ)建築物の沿道整備道路に 面する部分の長さ | I31: =IF(記入用シート!K37="","",記入用シート!K37) | K31: ｍ | L31: =IF(記入用シート!K38="","",記入用シート!K38) | O31: ｍ | P31: =IF(I31="","",I31+IF(L31="",0,L31)) | R31: ｍ
E32: (ⅴ)敷地の沿道整備道路に 接する部分の長さ | I32: =IF(記入用シート!K39="","",記入用シート!K39) | R32: ｍ
E33: (ⅵ) 高 さ | F33: 地盤面から | G33: =IF(記入用シート!K35="","",記入用シート!K35) | H33: ｍ | I33: (ⅶ)緑化施設の面積 | L33: =IF(記入用シート!K40="","",記入用シート!K40) | R33: ㎡
I34: (ⅷ)用途 | L34: =IF(記入用シート!K34="","",記入用シート!K34)
F35: 沿道整備道路の路面の中心から | G35: =IF(記入用シート!K36="","",記入用シート!K36) | H35: ｍ | I35: (ⅸ) 垣又はさくの構造 | L35: =IF(記入用シート!K41="","",記入用シート!K41)
C37: (3)建築物等 の用途の変更 | F37: (ｲ)変更部分の延べ面積 | I37: (ﾛ)変更前の用途 | N37: (ﾊ)変更後の用途
F38: =IF(記入用シート!K42="","",記入用シート!K42) | H38: ㎡ | I38: =IF(記入用シート!K43="","",記入用シート!K43) | N38: =IF(記入用シート!K44="","",記入用シート!K44)
C39: (4)建築物等の形態又は意匠の変更 | I39: 変更の内容 | K39: =IF(記入用シート!K45="","",記入用シート!K45)
C40: (5)木竹の伐採 | I40: 伐採面積 | K40: =IF(記入用シート!K46="","",記入用シート!K46) | R40: ㎡
C42: 備考
C43: １．届出者が法人である場合においては、氏名は、その法人の名称及び代表者の氏名を記載すること。
C44: ２．沿道地区計画において定められている内容に照らして、必要な事項について記載すること。
C45: ３．幹線道路の沿道の整備に関する法律第 9 条の 5 に規定する内容を定めた沿道地区整備計画の区域内における建築物の建築又は用途
C46: の変更については、次によること。
C47: (1) 当該建築物の建築については、(2)(ロ)(ⅲ)延べ面積欄の( )の中に当該建築物の住宅の用途に供する部分の延べ面積を記載する
C48: こと。用途の変更があわせて行われるときは、用途変更後の住宅の用途に供する部分の延べ面積を記載すること。
C49: (2) 当該建築物の用途の変更については、(2)(ロ)(ⅰ)敷地面積の合計欄及び(2)(ロ)(ⅲ)延べ面積の合計欄(同欄中の( )は用途変更
C50: 後の当該建築物の住宅の用途に供する部分の延べ面積の合計欄)についても記載すること。
C51: ４．同一の土地の区域について２以上の種類の行為を行おうとするときは一の届出書によることができる。
C52: ５．緑化施設の面積は、都市緑地法施行規則第９条に定める方法により算定すること。
D55: ●連絡先 会 社 名： | G55: =IF(記入用シート!K48="","",記入用シート!K48)
F56: 氏 名： | G56: =IF(記入用シート!K49="","",記入用シート!K49)
F57: 電話番号： | G57: =IF(記入用シート!K50="","",記入用シート!K50)

Sheet 帳票届出書（入力不可）
B2: 別記様式第１（第10条関係）
A3: 地区計画の区域内における行為の届出書
B4: 杉並区長殿 | J4: =+帳票型入力画面!J4 -> 46113
E5: 届出者 | H5: 住所 | J5: =+帳票型入力画面!J5 -> 東京都杉並区阿阿佐谷南1－15－1
H7: 氏名 | J7: =+帳票型入力画面!J7 -> 杉並建築株式会社
J8: =+帳票型入力画面!J8 -> 代表取締社長
J9: =+帳票型入力画面!J9 -> 波野 一郎
B13: 都市計画法第58条の２第１項の規定に基づき、
C14: =+帳票型入力画面!C14&" "&IF(帳票型入力画面!W14="","",帳票型入力画面!W14) -> ②建築物の建築又は工作物の建設 土地の区画形質の変更 | H14: について、下記により届け出ます。
A15: 記
B16: 1 | C16: 行 為 の 場 所 | F16: 杉並区 | H16: =+帳票型入力画面!H16 -> 阿佐谷南1－15－1
F17: 杉並区 | H17: =+帳票型入力画面!H17 -> 阿佐谷南1－9999－1
B18: 2 | C18: 行為の着手予定日 | H18: =+帳票型入力画面!H18 -> 46144
B19: 3 | C19: 行為の完了予定日 | H19: =+帳票型入力画面!H19 -> 46478
B20: 4 | C20: 設計又は施工方法 | H20: =IF(帳票型入力画面!H20="","",帳票型入力画面!H20&"造") -> 木造 | J20: =IF(帳票型入力画面!J20="","",帳票型入力画面!J20) -> 2 | K20: 階立て
C21: (1)土地の区画形質の変更 | H21: 区域の面積 | I21: =IF(帳票型入力画面!I21="","",帳票型入力画面!I21) | M21: ㎡
C22: (2)建築物の建築 又は工作物の建設 | D22: (イ)行為の種別 | F22: ( | G22: =IF(帳票型入力画面!G22="","",帳票型入力画面!G22) -> 建築物の建築 | I22: )( | J22: =IF(帳票型入力画面!J22="","",帳票型入力画面!J22) -> 新築 | L22: )
D23: （ロ）設計の概要 | H23: 届出部分 | J23: 届出以外の部分 | L23: 合計
E24: (i)敷地面積 | L24: =IF(帳票型入力画面!L24="","",帳票型入力画面!L24) -> 500 | M24: ㎡
E25: (ii)建築又は建設面積 | H25: =IF(帳票型入力画面!H25="","",帳票型入力画面!H25) -> 100 | I25: ㎡ | J25: =IF(帳票型入力画面!J25="","",帳票型入力画面!J25) -> 200 | K25: ㎡ | L25: =IF(帳票型入力画面!L25="","",帳票型入力画面!L25) -> 300 | M25: ㎡
E26: (iii)延べ面積 | H26: =IF(帳票型入力画面!H26="","",帳票型入力画面!H26) -> 100 | I26: ㎡ | J26: =IF(帳票型入力画面!J26="","",帳票型入力画面!J26) -> 200 | K26: ㎡ | L26: =IF(帳票型入力画面!L26="","",帳票型入力画面!L26) -> 300 | M26: ㎡
H27: =IF(帳票型入力画面!H27="","",帳票型入力画面!H27) -> 50 | I27: ㎡ | J27: =IF(帳票型入力画面!H27="","",帳票型入力画面!H27) -> 50 | K27: ㎡ | L27: =IF(帳票型入力画面!L24="","",帳票型入力画面!H27) -> 50 | M27: ㎡
E28: (iv)高さ地盤面から | F28: =IF(帳票型入力画面!F28="","",帳票型入力画面!F28) -> 10 | G28: ｍ | H28: (vi)用途 | I28: =IF(帳票型入力画面!I28="","",帳票型入力画面!I28) -> 一戸建ての住宅
E29: (v)緑化施設の面積 | F29: =IF(帳票型入力画面!F29="","",帳票型入力画面!F29) -> 1000 | G29: ㎡ | H29: (vii)垣又はさくの構造 | K29: =IF(帳票型入力画面!K29="","",帳票型入力画面!K29) -> CB塀(H1000）
C31: (3)建築物等の用途の変更 | D31: (ｲ)変更部分の延べ面積 | H31: (ﾛ)変更前の用途 | K31: (ﾊ)変更後の用途
D32: =IF(帳票型入力画面!D32="","",帳票型入力画面!D32) -> 10 | G32: ㎡ | H32: =IF(帳票型入力画面!H32="","",帳票型入力画面!K32) -> 飲食 | K32: =IF(帳票型入力画面!K32="","",帳票型入力画面!K32) -> 飲食
C33: (4)建築物等の形態又は意匠の変更 | H33: 変更の内容 | I33: =IF(帳票型入力画面!I33="","",帳票型入力画面!I33) -> 外壁塗装
C34: (5)木竹の伐採 | H34: 伐採面積 | K34: =IF(帳票型入力画面!K34="","",帳票型入力画面!K34)
C47: ●連絡先 | E47: 住 所 | F47: 杉並区阿佐ヶ谷南1-15-1
E48: 氏 名 | F48: 杉並二郎
E49: 電話番号 | F49: 03-3312-2111
