Workbook
Name _kk06: "[6]''!$a$1"
Name _kk29: "[6]''!$a$1"
Name _xlfn_IFERROR: #REF!
Name Avrg: #N/A
Name DaihyoFurigana: "[10]''!$p$21"
Name DaihyoJyusho: "[10]''!$f$24"
Name DaihyoShimei: "[10]''!$p$22"
Name DaihyoShokumei: "[10]''!$i$21"
Name DaihyoYubin: "[10]''!$f$23"
Name HoujinShokatsu: "[10]''!$p$19"
Name HoujinSyubetsu: "[10]''!$f$19"
Name HoujinSyubetu: "[10]''!$f$19"
Name JigyoFax: "[10]''!$o$72"
Name jigyoFurigana: "[10]''!$e$67"
Name JigyoMeisyo: "[10]''!$e$68"
Name JigyoShozai: "[10]''!$e$70"
Name JigyoShozaiKana: "[10]''!$d$10"
Name JigyosyoFurigana: "[10]''!$f$26"
Name JigyosyoMei: "[10]''!$f$27"
Name JigyosyoSyozai: "[10]''!$f$30"
Name JigyosyoYubin: "[10]''!$f$29"
Name JigyoTel: "[10]''!$g$72"
Name JigyoYubin: "[10]''!$e$69"
Name KanriJyusyo: "[10]''!$l$74"
Name KanriJyusyoKana: "[10]''!$j$14"
Name KanriShimei: "[10]''!$e$73"
Name KanriYubin: "[10]''!$l$73"
Name KenmuJigyoMei: "[10]''!$cw$101"
Name KenmuJikan: "[10]''!$cy$103"
Name KenmuShokushu: "[10]''!$cx$102"
Name KenmuUmu: "[10]''!$n$77"
Name KK_03: #N/A
Name KK_06: #N/A
Name KK2_3: #N/A
Name ｋｋｋｋ: #N/A
Name prtNo: #REF!
Name Roman_01: #N/A
Name Roman_03: #N/A
Name Roman_04: #N/A
Name Roman_06: #N/A
Name Roman2_1: #N/A
Name Roman2_3: #N/A
Name SasekiFuri: "[10]''!$e$20"
Name SasekiJyusyo: "[10]''!$l$21"
Name SasekiShimei: "[10]''!$e$21"
Name SasekiYubin: "[10]''!$l$20"
Name Serv_LIST: #N/A
Name ShinseiFax: "[10]''!$p$20"
Name ShinseiMeisyo: "[10]''!$f$14"
Name ShinseiMeisyoKana: "[10]''!$f$13"
Name ShinseiSyozai: "[10]''!$f$17"
Name ShinseiTel: "[10]''!$f$20"
Name ShinseiYubin: "[10]''!$f$16"
Name startNo: #REF!
Name startNumber: #REF!
Name table_03: #N/A
Name table_06: #N/A
Name table2_3: #N/A
Name あ: "[6]''!$a$1"

Sheet 必ずお読みください
B2: ！事前調査票及び事業計画書の記入について！
B4: 必ず、記入前にお読みください！
B6: １ はじめに
B7: 事前調査票及び事業計画書は、杉並区内で障害児通所支援の指定を受け、事業運営を検討している法人に記入していただくものです。事前面談時の参考資料としますので現時点での準備状況についてできる限り詳細にご記入ください。記載がない場合、また、記載が不十分な場合などヒアリングができないため、事前面談をお断りすることがあります。
B8: ★事業所の立ち上げには、慎重にご判断いただくようお願いいたします★ 指定申請をご検討の法人におかれましては、児童福祉法の趣旨や関係法令等を十分に理解し、「指定事業者として適正に事業を運営していけるだけの準備はできている。」という段階になりましたら、申請をしていただきますよう宜しくお願いいたします。
B9: ２ 記入上の留意点
B10: (１)事前面談では、事業の内容についてお聞きします。事業についてご理解いただけていない場合、事業所開設後の支援に影響がありますので、開設時期が遅れることがあります。
B11: (２)指定申請担当者と調査票記入者は、基本的に同一にしてください。今後、指定申請担当者宛てに連絡させていただきます。
B12: (３)各項目について、具体的に内容をご記載ください。まだ決まっていないことについては、準備状況を記入してください。
B13: (４)準備状況については、開設時期を検討する判断材料になりますので、できるだけ具体的に記入してください。
B14: (５)黄色の入力欄に記入してください。入力・選択肢の書換え後は黄色が消えます。必要に応じて行の高さを広げたり、別紙を添付してください。
B15: (６)事前面談の実施をもって、事業所開設の確約をするものではありませんので、予めご注意ください。
... B17: ３ 提出書類一覧
A18: № | B18: 【提出必須】 | I18: チェック欄
A19: ① | B19: 事前調査票
A20: ② | B20: 事業計画書
A21: ③ | B21: 収支予算書（参考様式９）
A22: ④ | B22: 事前調査票及び事業計画書チェックリスト
A23: ⑤ | B23: 平面図（任意様式） （各部屋名、㎡数（内法有効面積）、手洗いの位置、入口の場所などを明記してください）
A24: ⑥ | B24: 年間研修計画（参考様式16）
A26: № | B26: 【後日提出可】 | I26: チェック欄
A27: ⑦ | B27: 設備基準チェックリスト（参考様式14）
A28: ⑧ | B28: （該当がある場合）利用実績（参考様式15） ※杉並区及び他自治体から指定を受けている全事業所
A29: ⑨ | B29: （配置予定者が決まっている場合） 児童発達支援管理責任者の実務経験証明書（参考様式３-２）
B30: 児童発達支援管理責任者の研修修了証（任意様式）
B31: ４ 提出について
B32: 提出先：杉並区 障害者施策課 児童支援係 提出方法：区ホームページ（HP ID：28826）で案内するLoGoフォームに添付してください。 ※「任意様式」と記載のある書類については、各法人でご用意ください。 ※「参考様式」と記載のある書類については、別途作成頂いた様式があれば、そちらを使用していただいて差し支えありません。

Sheet ①事前調査票
A1: 障害児通所支援事業事前調査票
F2: 記入年月日 | H2: 令和 年 月 日
A4: 【申請者について】
A5: 法人名称
A6: 法人種別
A7: 法人所在地
A8: 代表者
A9: 定款変更 | D9: 要 ・ 不要
A10: 指定申請担当者
A11: 担当者 連絡先 | C11: 職名
C12: 電話番号
C13: ファックス番号
C14: メールアドレス
A16: 【設置を検討している事業所について】
A17: 事業所名称
A18: 事業所所在地
A19: 指定希望年月日 | D19: 令和 年 月 日
A20: 都指定協議説明会 | B20: 説明会アンケート提出日 | D20: 令和 年 月 日
B21: 参加者 | C21: 法人代表・担当者 | D21: 氏名： （役職）
C22: 管理者 | D22: 氏名：
C23: 児童発達支援管理責任者 | D23: 氏名：
A24: 事業種別 | D24: 児童発達支援 ・ 放課後等デイサービス ・ 居宅訪問型児童発達支援 ・ 保育所等訪問支援
A25: 対象 | D25: ☐重症心身障害 ☐重症心身障害以外
A26: 他サービスの事業 | D26: あり ・ なし
D27: ありの場合
A28: 定員（事業所全体） | D28: 名
A29: 送迎の有無 | D29: あり ・ なし
A30: 利用契約者見込み数
A32: 【指定申請に当たっての相談・質問】
A39: 杉並区内で障害児通所支援の指定を受け、事業運営を検討している法人や事業所に記入していただくものです。事業計画書とともに事前調査票のご作成をお願します。事前調査票や事業計画書の記載がない場合、また記載が不十分な場合などヒアリングができないため、事前相談をお断りすることがあります。

Sheet 事業計画書留意事項
A2: 事業計画書作成における留意事項
A4: １ 事業計画書
A5: 杉並区では、事業計画書や申請書類を通じて、事業者が児童福祉法や基準等を満たしているか、適切に事業を運営していくための基準理解や準備が十分にできているかを確認しています。
A6: ２ 作成にあたって
A7: ★開設法人の責任において法人のご担当者が作成ください。
A8: (１)事業計画書のフレームに沿って具体的に内容をご記載ください。また、項目の削除は行わないでください。
A9: (２)記載に係る注意点は記載欄の下に※書きで示しています。
A10: (３)黄色の入力欄にご記載ください。提供中の事業・既存事業所・他サービス・送迎の欄は該当する場合のみ記載してください。入力後は黄色が消えます。文字数に制限はありませんので、必要に応じて枠を広げてください。必須事項に未記入がある場合は受領できません。
A11: (４)記載欄については、別紙に記載いただいても構いません。
A12: ３ その他
A13: 事業計画書は、地域の特性、事業の内容及び職員体制等に応じて、事業所ごとに個別に作成するものです。そのため、他事業所の事業計画書のコピーの提出はお断りしております。なお、提出いただいた事業計画書がコピーであると判断された場合、受領をお断りする可能性があります。

Sheet ②事業計画書
A1: 事業計画書
F2: 記入年月日 | G2: 令和 年 月 日
F3: 事業所名 | G3: =①事前調査票!$D$17 -> 0
A5: １ 法人名・法人所在地
A6: 法人名称 | D6: =①事前調査票!$D$5 -> 0
A7: 法人所在地 | D7: =①事前調査票!$D$7 -> 0
A8: 代表者 | D8: =①事前調査票!$D$8 -> 0
A10: ２ 法人の別事業の内容・状況
A11: 法人内で既に障害児通所支援等を行っている場合、提供している事業種別を記載してください。また、都内に所在する障害児通所支援事業所がありましたら、事業所名と事業所番号を記載してください。
A13: 障害児通所支援事業又は 障害福祉サービス事業の実施 | D13: あり ・ なし
A14: 提供している事業種別
A15: 都内で運営している障害児通所支援事業所名
A17: ３ 事業所名・事業所所在地
A18: 指定予定年月日 | D18: =①事前調査票!$D$19 -> 令和 年 月 日
A19: 事業所名称 | D19: =①事前調査票!$D$17 -> 0
A20: 事業所在地 | D20: =①事前調査票!$D$18 -> 0
A21: 最寄り駅
A22: 事業種別（サービス名） | D22: 児童発達支援 ・ 放課後等デイサービス ・ 居宅訪問型児童発達支援 ・ 保育所等訪問支援
A23: 定員（訪問系は不要） | D23: =①事前調査票!$D$28 -> 名
A24: 対象児童（訪問系は不要） | D24: ☐重症心身障害 ☐重症心身障害以外
A25: 医療的ケアの有無（訪問系は不要） | D25: あり ・ なし
A26: ※「平面図」を添付してください。 ※「設備基準チェックリスト」を添付してください。
A29: ４ 開所理由（法人の沿革や特色、障害児通所支援を提供したいと考えたきっかけ）
A36: ※法人の理念や沿革、障害児通所支援事業に参入した理由、指定を受けたい事業種別を決めた理由、杉並区内で設置する理由などを記載してください。
A38: ５ 人員体制の確保
A39: 開所時の人員体制や採用方針、採用面接時の留意点などを記載してください。
A40: (１)採用までの取組
A41: 人員確保の方法
A42: ※知人の紹介や求人媒体の利用、法人内異動等をご記載ください。
A44: 児童発達支援管理責任者の採用面接時の質問内容
A45: ※児童発達支援管理責任者への質問事項を箇条書きでご記載ください。採用後すぐの退職が増えています。これまでの職歴や前職の退職理由、児童発達支援管理責任者としての療育方針など詳細に質問されることをお勧めします。特に短期間での転職を繰り返している場合、採用後すぐの退職の傾向が高いです。
A48: (２)開所時の人員体制（予定）
A49: 児童指導員又は保育士 | D49: 常勤 名 非常勤 名
A50: 機能訓練担当職員 | D50: 常勤 名 非常勤 名
A51: 看護職員 | D51: 常勤 名 非常勤 名
A52: 嘱託医 | D52: 常勤 名 非常勤 名
A53: その他指導員 | D53: 常勤 名 非常勤 名
A54: ※訪問支援の場合は、訪問支援員の保有資格に人数を記載してください。
A56: (３)その他
A57: 基準人員の考え方 (訪問系は不要)
...

Sheet ③収支予算書（参考様式９）
C1: 参考様式９ | D1: 収支予算書 | AB1: （単位：円）
F3: =IF($D$3="","",MOD(D3,12)+1) | H3: =IF($D$3="","",MOD(F3,12)+1) | J3: =IF($D$3="","",MOD(H3,12)+1) | L3: =IF($D$3="","",MOD(J3,12)+1) | N3: =IF($D$3="","",MOD(L3,12)+1) | P3: =IF($D$3="","",MOD(N3,12)+1) | R3: =IF($D$3="","",MOD(P3,12)+1) | T3: =IF($D$3="","",MOD(R3,12)+1) | V3: =IF($D$3="","",MOD(T3,12)+1) | X3: =IF($D$3="","",MOD(V3,12)+1) | Z3: =IF($D$3="","",MOD(X3,12)+1) | AB3: 合計
B4: 収入見込み | C4: 利用者見込数 （１日当たり） | E4: 人 | G4: 人 | I4: 人 | K4: 人 | M4: 人 | O4: 人 | Q4: 人 | S4: 人 | U4: 人 | W4: 人 | Y4: 人 | AA4: 人 | AB4: =IF(COUNT(D4:AA4)>0,SUM(D4:AA4),"")
C5: 開所日数 | AB5: =IF(COUNT(D5:AA5)>0,SUM(D5:AA5),"")
C6: 月延べ利用者数 | D6: =IF(D4="","",D4*D5) | F6: =IF(F4="","",F4*F5) | H6: =IF(H4="","",H4*H5) | J6: =IF(J4="","",J4*J5) | L6: =IF(L4="","",L4*L5) | N6: =IF(N4="","",N4*N5) | P6: =IF(P4="","",P4*P5) | R6: =IF(R4="","",R4*R5) | T6: =IF(T4="","",T4*T5) | V6: =IF(V4="","",V4*V5) | X6: =IF(X4="","",X4*X5) | Z6: =IF(Z4="","",Z4*Z5) | AB6: =IF(COUNT(D6:AA6)>0,SUM(D6:AA6),"")
C7: 算定額（＊） (１回当たり)
C8: 障害児 通所給付費 受入れ額 | H8: =IF(COUNT(D4:E5)<>2,"",D6*D7) | J8: =IF(COUNT(F4:G5)<>2,"",F6*F7) | L8: =IF(COUNT(H4:I5)<>2,"",H6*H7) | N8: =IF(COUNT(J4:K5)<>2,"",J6*J7) | P8: =IF(COUNT(L4:M5)<>2,"",L6*L7) | R8: =IF(COUNT(N4:O5)<>2,"",N6*N7) | T8: =IF(COUNT(P4:Q5)<>2,"",P6*P7) | V8: =IF(COUNT(R4:S5)<>2,"",R6*R7) | X8: =IF(COUNT(T4:U5)<>2,"",T6*T7) | Z8: =IF(COUNT(V4:W5)<>2,"",V6*V7) | AB8: =IF(COUNT(D8:AA8)>0,SUM(D8:AA8),"")
C9: 合計(Ａ) | H9: =IF(H8="","",H8) | J9: =IF(J8="","",J8) | L9: =IF(L8="","",L8) | N9: =IF(N8="","",N8) | P9: =IF(P8="","",P8) | R9: =IF(R8="","",R8) | T9: =IF(T8="","",T8) | V9: =IF(V8="","",V8) | X9: =IF(X8="","",X8) | Z9: =IF(Z8="","",Z8) | AB9: =IF(COUNT(D9:AA9)>0,SUM(D9:AA9),"")
B10: 支出見込み | C10: 人件費 | AB10: =IF(COUNT(D10:AA10)>0,SUM(D10:AA10),"")
C11: 旅費、交通費 | AB11: =IF(COUNT(D11:AA11)>0,SUM(D11:AA11),"")
C12: 事務所賃借費 | AB12: =IF(COUNT(D12:AA12)>0,SUM(D12:AA12),"")
C13: 通信費 | AB13: =IF(COUNT(D13:AA13)>0,SUM(D13:AA13),"")
C14: 諸経費 | AB14: =IF(COUNT(D14:AA14)>0,SUM(D14:AA14),"")
C15: 合計(Ｂ) | D15: =IF(COUNT(D10:E14)<>0,SUM(D10:E14),"") | F15: =IF(COUNT(F10:G14)<>0,SUM(F10:G14),"") | H15: =IF(COUNT(H10:I14)<>0,SUM(H10:I14),"") | J15: =IF(COUNT(J10:K14)<>0,SUM(J10:K14),"") | L15: =IF(COUNT(L10:M14)<>0,SUM(L10:M14),"") | N15: =IF(COUNT(N10:O14)<>0,SUM(N10:O14),"") | P15: =IF(COUNT(P10:Q14)<>0,SUM(P10:Q14),"") | R15: =IF(COUNT(R10:S14)<>0,SUM(R10:S14),"") | T15: =IF(COUNT(T10:U14)<>0,SUM(T10:U14),"") | V15: =IF(COUNT(V10:W14)<>0,SUM(V10:W14),"") | X15: =IF(COUNT(X10:Y14)<>0,SUM(X10:Y14),"") | Z15: =IF(COUNT(Z10:AA14)<>0,SUM(Z10:AA14),"") | AB15: =IF(COUNT(D15:AA15)>0,SUM(D15:AA15),"")
C16: 利益(Ａ－Ｂ) | D16: =IFERROR(IF(AND(D9="",D15=""),"",D9-D15),"") | F16: =IFERROR(IF(AND(F9="",F15=""),"",F9-F15),"") | H16: =IFERROR(IF(AND(H9="",H15=""),"",H9-H15),"") | J16: =IFERROR(IF(AND(J9="",J15=""),"",J9-J15),"") | L16: =IFERROR(IF(AND(L9="",L15=""),"",L9-L15),"") | N16: =IFERROR(IF(AND(N9="",N15=""),"",N9-N15),"") | P16: =IFERROR(IF(AND(P9="",P15=""),"",P9-P15),"") | R16: =IFERROR(IF(AND(R9="",R15=""),"",R9-R15),"") | T16: =IFERROR(IF(AND(T9="",T15=""),"",T9-T15),"") | V16: =IFERROR(IF(AND(V9="",V15=""),"",V9-V15),"") | X16: =IFERROR(IF(AND(X9="",X15=""),"",X9-X15),"") | Z16: =IFERROR(IF(AND(Z9="",Z15=""),"",Z9-Z15),"") | AB16: =IF(COUNT(D16:AA16)>0,SUM(D16:AA16),"")
C18: ＊ 算定額 ＝ （ 本体報酬 ＋ 各種加算 ） × 地域区分の単位
C19: ※ 上記の例は、４月から事業開始の例（支出の費目は、もっと細かく記載しても可）
C20: ※ 障害児通所給付費は、区市町村に請求した月の翌月末に振り込まれます。
C21: （例：４月サービス提供分は、５月に請求し、６月末に振り込まれます。）
C22: ※ 諸経費には、消耗品費、光熱水費、車両管理費、研修費、宣伝広告費、租税公課、社会保険料、借入金返済、レンタル料等が見込まれます。
C25: 参考【計算の根拠となる基本情報】
C27: ＜給付費に関する情報整理＞
C28: 地域区分 | D28: 選択してください。 | G28: 区分の単位
C29: 事業の種別
C30: 基本単位
C31: 休日単位
C33: 加算
C40: 処遇改善

Sheet ④調査票・計画書チェックリスト
A1: ＜新規指定事前調査票及び事業計画書チェックリスト（障害児通所支援）＞ | I1: 確認日付： 年 月 日 確認者氏名：
A2: 法人名（ ）
A3: 事業所名（ ）
A5: 項目 | B5: 詳細 | C5: 運営指導 | G5: チェック | H5: 参考・注意事項など
A6: 事前調査票 | C6: 各項目を漏れなく記載している。
A7: 事業計画書 | C7: 必須事項について漏れなく具体的に記載している。
A8: 制度・事業の理解 | C8: 申請する法人において、児童福祉法等の関係法令やガイドライン等の内容について確認済みであり、制度・事業の内容について理解しているか。 | H8: フランチャイズの事業所であっても、フランチャイザー（加盟元）ではなく、申請する法人が制度や事業の内容を理解していることが重要です。
A9: 指定協議説明会への参加 | C9: 管理者(予定者含む)が事前調査票提出時点から過去１年以内に指定協議説明会に参加し、面談シートを提出している。 | H9: 複数事業所の同時申請は可能ですが、事業所ごとに管理者(予定含む)の参加をお願いします。
A10: 開設時期 | C10: 開設時期が事前調査票提出日の属する月の５か月後以降となっているか。 | H10: 例： ５月３０日事前調査票提出→〇１０月１日指定希望 ５月３０日事前調査票提出→×９月１日指定希望
A11: 開設地域 | C11: 杉並区内である。 | H11: 杉並区外は、区の指定権限の範囲外となりますので、該当の自治体の障害福祉課へ直接お問い合わせください。
A12: 同法人が既に障害児通所支援事業所を開設している場合 | B12: 定員遵守※児発・放デイのみ | C12: 定員を遵守している。 | H12: ※恒常的な定員超過が認められた場合は、条例違反の状態となるため、改善を行う必要があります。（虐待のおそれのある児童を受け入れた場合や地域の実情によりやむを得ないと認めた場合を除く）
B13: 運営状況 | C13: 基準省令・条例に違反する運営状況（虐待認定後改善が確認できていない、指導検査の指摘等に伴う給付費の返還について区市町村へ返還計画を提出していない、必要な変更届の提出が滞っている、管理者・児発管が安定して支援できていない等）には当てはまっておらず、安定した運営及び適正な運営を行っている。 | H13: ・改善したかどうかの確認のため、組織としての意思決定の文書（議事録等）を添付していただく必要があります。
A14: 欠格事由 | C14: 児童福祉法第２１条の５の１５第３項各号の規定に該当しない。 | H14: 規定の例： ・法人格を有しない ・申請者が禁錮以上の刑に処せられ、その執行を終わり、又は執行を受けることがなくなるまでの者であるとき。 ・申請者が、第２１条の５の２４第１項又は第３３条の１８第６項の規定により指定を取り消され、その取消しの日から起算して５年を経過しない者であるとき。
A15: 職員配置 | B15: 管理者 | C15: 事業所の一元的な管理を担う管理者として適する資質・経験を有しており、当該事業に専ら従事することが可能である。 | H15: ※管理者は原則として専ら当該事業の管理業務に従事することが求められます。ただし、職員及び業務の一元的な管理・指揮命令を行うことが可能であり、その職責を果たせる場合であって、緊急時の対応についてあらかじめ定めがあり、必要に応じ速やかに出勤できる場合は兼務可。 ※個別に聞き取り又は文書での説明を求めることがあります。
B16: 児童発達支援管理責任者 | C16: 児童発達支援管理責任者としての実務経験・研修の要件を満たしており、個別支援計画の作成や利用者の相談援助、また他の従業者への技術的な指導・助言を行う等の役割を果たすことができる資質・経験を有しており、当該事業に専ら従事することが可能である。 | H16: ※配置予定者が決まっている場合は、実務経験証明書及び研修修了証を添付してください。 児童発達支援管理責任者は、１人以上常勤専従で配置する必要があります。
B17: 直接処遇職員 | C17: 人員配置基準を満たす有資格者を直接雇用により配置できる見込みがあり、利用者像に応じて専門スキルを有する職員等を配置することで、実施予定の療育プログラムを着実に実施することが可能である。
B18: 雇用 | C18: 申請法人が直接雇用している、またはその見込みがある。
B19: 秘密保持 | C19: 退職後の秘密保持について、誓約書の取り交わしを行っている、または開設までに取り交わしを行うことが可能である。
B20: （該当の場合のみ）重心特例 | C20: 重心特例（支援室等の共有が可能）を活用する予定の場合、生活介護との多機能型であるか。
B21: （該当の場合のみ）地域密着型通所介護との共生型 | C21: 介護保険の人員の人員基準を満たすか。
C22: 児童発達支援管理責任者を指定時に配置できない場合、配置予定の職員に児童発達支援管理責任者の研修を積極的に受けさせる等、体制の整備を計画しているか。
B23: （該当の場合のみ）療養通所介護活用型 | C23: 介護保険の人員とは別で、児童発達支援・放課後等デイサービス（重心）の人員基準を満たすか。
A24: 営業時間・サービス提供時間 ※児発・放デイのみ | C24: 営業時間とサービス提供時間の定義を理解し、適切な時間設定ができているか。 | H24: 就業時間・・・勤務すべき時間（営業時間とは異なります） 営業時間・・・基準人員を配置し、サービス提供する時間帯（送迎のみを行っている時間を除く） サービス提供時間・・・標準的なプログラム実施時間 （例）就業時間が9～18時（12～13時が休憩時間）の事業所 ・常勤児童指導員2人（管理者・児発管を除く）かつ営業時間9:30～17:30→不可（∵休憩時間に人員欠如） ・常勤児童指導員2人（管理者・児発管を除く）かつ営業時間9:30～17:30（12～13時を除く）→可
A25: 具体的な支援内容 | C25: 利用者像に応じた支援内容・タイムスケジュールが具体的に定まっており、ガイドライン・手引きを踏まえた内容になっている。 | H25: 【本人支援】障害のある子どもの発達の側面から、「健康・生活」、「運動・感覚」、「認知・行動」、「言語コミュニケーション」、「人間関係・社会性」の５領域において、将来、日常生活や社会生活を円滑に営めるようにする 【家族支援】家族が安心して子育てをできるよう、家族（きょうだい含む。）と日頃から信頼関係を構築し、不安や負担を軽減する 【移行支援】障害の有無にかかわらず、全ての子どもが共に成長できるよう、可能な限り、地域の保育、教育、放課後の居場所等を享受し、支援を受けられるようにし、かつ同年代の子どもとの仲間作りを図っていく 【地域支援】障害のあるこどもや家族を中心に据えた包括的な支援を受けられるよう、関係機関等と連携し、こどもや家族の支援を進める
A26: 送迎【該当のみ】 | B26: 送迎安全装置 | C26: 「送迎用バスの置き去り防止を支援する安全装置のガイドライン」（令和４年１２月２０日）の基準を満たす装置を設置できるか。 1.1.1. 降車時確認式の装置 （備える構造と機能） ・ 乗員の降車の際、運転手等が車内に置き去りにされた乗員がいないか確認した上で入力可能な押しボタン等の構造 ・ 車内に向けて警報を発して運転手等に置き去りにされた乗員がいないか車内の確認を促す機能 ・ 車内に向けて警報を発してから長時間確認が完了した操作がなされない等、運転手等が車内の確認を忘れて車から離れようとしている場合において、車外に向けて警報を発して乗員の置き去りの可能性があることを知らせる機能 1.1.2. 自動検知式の装置 （備える構造・機能） ・ カメラ等のセンサーにより車内に置き去りにされた乗員を検知する機能 ・ センサーにより、原動機の停止等の後に置き去りにされた乗員を検知した場合において、車外に向けて警報を発して置き去りにされた乗員を検知したことを知らせる機能 ・ センサーにより置き去りにされた乗員が検知された場合において、運転手等が車内に置き去りにされた乗員がいないか確認した上で入力可能な押しボタン等の構造 | H26: ・令和４年9月の認定こども園における置き去り事故を受け、令和５年４月から省令及び条例改正され、義務化となります。
B27: 送迎の基準理解 | C27: 「指定児童発達支援事業者は、障害児の事業所外での活動、取組等のための移動その他の障害児の移動のために自動車を運行するときは、障害児の乗車及び降車の際に、点呼その他の障害児の所在を確実に把握することができる方法により、障害児の所在を確認しなければならない」ことを理解しているか。 | H27: 「こどものバス送迎・安全徹底マニュアル」（令和４年１０月１２日）を必ずご一読ください。
B28: 車両の確保 | C28: 開設月の前月中に納車が終わる見込みか。 | H28: レンタカー・カーシェアは認めておりません。
A29: 研修 | C29: 基準省令・条例上必須となっている項目及び施設運営上必要と考えられる項目が含まれており、研修の講師は誰が担うか、実施する時期・頻度や所要時間、研修資料としてどのようなものを使用するか、といった具体的なイメージができており、年間研修計画を作成している。 | H29: 必須・・・虐待防止、身体拘束の適正化、感染症及び食中毒の予防及びまん延防止、業務継続計画 施設運営上必要と考えられる項目・・・事故防止（安全管理）、ガイドライン（児発・放デイ）・手引きその他法令の理解 ※必須項目に限らず、ガイドラインに基づき、管理者は従業者等の資質向上を図るため、「自治体等が実施する研修への参加」「事業所における勉強会の開催」「事業所に講師を招いての研修」「他事業所に従業者を派遣する研修」等の研修の措置が求められる。
A30: 収支 | C30: 事業所立ち上げに要する資金や事業開始後の、当面の運転資金の確保の目途はたっている。 | H30: 給付費はサービス提供月の２か月後に収入します。また、開設後、利用率が安定するまで通常一定期間を要するため、開設後の当面の資金が確保されている必要があります。
A31: その他 | B31: 電話番号・FAX番号 | C31: 電話番号・FAX番号の開通は開設月の前月中に終わる見込みか。
B32: 【該当のみ】保育所等訪問/居宅訪問型児発の営業日について | C32: 営業日は偏りのない設定となっているか。 | H32: 児童発達支援・放課後等デイサービスとの多機能型を除き、週４日以上の営業日の設定が望ましい

Sheet ⑥年間研修計画（参考様式16）
A1: 参考様式16
A2: 年間研修計画
A3: 法人名
A4: 事業所名
A5: サービス種別
A7: 実施時期 | B7: 研修テーマ・具体的な内容 | C7: 対象者 | D7: 実施方法 | E7: 担当者・講師等
A8: 指定前
A9: 4月
A10: 5月
A11: 6月
A12: 7月
A13: 8月
A14: 9月
A15: 10月
A16: 11月
A17: 12月
A18: 1月
A19: 2月
... A24: ・研修テーマの例：制度・法令、障害理解、支援方法、虐待防止、身体拘束等の適正化。

Sheet ⑦設備基準チェックリスト（参考様式14）
A1: 参考様式14
A2: ＜設備基準チェックリスト（障害児通所支援）＞ | F2: 確認日付： 年 月 日 確認者氏名：
A3: 法人名（ ）
A4: 事業所名（ ）
A6: 【建築基準、耐震等】 | D6: チェック | E6: 参考・注意事項など | F6: ＜備考＞
A7: 建物 | B7: 耐震基準【必須】 | C7: 昭和５６年６月１日以降に確認申請が行われた建物である、または昭和５６年６月１日以前に確認申請が行われた建物であるが、耐震診断の報告書等により新耐震基準に適合することを証明できる建物である。
B8: 法適合性【必須】 | C8: 建築基準法に適合する物件である。
B9: 用途変更 （専有部分の面積が200㎡超の場合のみ） | C9: 「児童福祉施設」に用途変更する確認申請手続きを行っている。
A10: 【関係法令】 | F10: ＜備考＞
A11: 消防法 | B11: 消防設備【必須】 | C11: 消防法に適合する設備を有する建物であることを管轄の消防署に確認している、または現時点において適合していない場合は指定希望月の２か月前末日までに必要な設備の設置工事を行うことが可能である。
B12: 消防点検【必須】 | C12: （管轄の消防署による消防点検が必要な場合）指定希望月の２か月前末日までに消防点検を完了させることが可能である。
A13: バリアフリー条例 | B13: 杉並区への確認①【必須】 | C13: まちづくり条例等の基準を別途定めているかどうかについて、杉並区の所管部署に確認している。
B14: 杉並区への確認② | C14: （①において、別途の基準を定めていることを確認した場合）定める別途の基準を満たすことが可能である。
A15: 風営法 | B15: 周辺の風営法店舗（児童発達支援センターのみ） | C15: 商業地域の場合、開設予定の児童発達支援センターから半径50ｍ以内に風営法に規定される店舗（パチンコ店等）がないことを確認している。 商業地域以外の場合、開設予定の児童発達支援センターから半径100ｍ以内に風営法に規定される店舗（パチンコ店等）がないことを確認している。
A16: 【建物所有者への確認】 | F16: ＜備考＞
A17: 建物所有者への確認 | B17: 建物所有者への確認【必須】 | C17: 建物所有者に対し、使用予定場所において実施する予定の事業内容を説明し、理解を得ている。 | E17: 自社所有の場合を除きます。
A18: 【建物設備】 | F18: ＜備考＞
A19: 支援室 ※児発・放デイのみ【必須】 | B19: 面積 | C19: 一部屋の一体的な空間において、児童発達支援センターは定員×２．４７㎡以上、児童発達支援（センター以外）は定員×３㎡以上、放課後等デイサービスは定員×４㎡以上が内法有効面積として確保されている。 | E19: 柱や洗面、固定棚等は面積から除きます。
B20: 階数 | C20: 非常災害時に即時に避難できる場所に位置しているか。 | E20: １階または２階に位置していることが望ましい。
B21: 採光 | C21: 採光がとれる窓がある。
B22: 動線 | C22: 他事業の動線と被っていない。（児童発達支援については、インクルーシブ保育の場合を除く） | E22: 多機能規模別の場合、児発と放デイの支援室の出入り口を分ける必要があります。
B23: 見通し | C23: 支援室がＬ字等の死角のある形ではなく、見通しのよい空間であり、児童の安全を担保できる環境が確保されている、または現況が壁によって死角のある状態でも、壁を取り除く工事を行うことで見通しのよい空間を確保することができる。 | E23: カメラ、ミラーの設置や、職員配置の工夫による対応をしたとしても、児童の安全上、死角のあるままでは事故の可能性があるため原則としては認めていません。
B24: 安全性 | C24: アコーディオンカーテン、可動式パーテーションを設置する場合、床にレールがない。 | E24: レールに躓くことによる事故を防止するため確認します。
A25: 相談室【必須】 | B25: 面積【必須】 | C25: ４㎡以上が内法有効面積として確保されている。 | E25: 柱や洗面、固定棚等は面積から除きます。
B26: 共用【必須】 | C26: 障害福祉事業等の他事業との共用の場合、事前に杉並区の指定担当に確認している。 | E26: プライバシー保護の観点から、他事業の相談室と分けていただくことが望ましい。
B27: プライバシー配慮【必須】 | C27: 部屋として壁で仕切られた空間、または天井まで柱のある固定式パーテーションにより仕切られた空間となっているか。 | E27: 固定式パーテーションの場合、消防法等の関係法令の基準を満たす等のために天井との間に隙間が生じることは問題ありません。
A28: 事務室【必須】 | B28: 面積【必須】 | C28: ４㎡以上が内法有効面積として確保されている。 | E28: 柱や洗面、固定棚等は面積から除きます。
B29: 個人情報保護【必須】 | C29: 部屋として壁で仕切られた空間、または天井まで柱のある固定式パーテーションにより仕切られた空間となっており、かつ出入口のドアに鍵が設置可能である。 | E29: ・カウンターが設置されていて、カウンター上の隙間から物理的に出入りできる場合は、窓を設置する等により出入りができない状態にしてください。 ・出入口のドアに設置する鍵は、外側がシリンダー錠になっていることが望ましい。
A30: 遊戯室 ※児発センターのみ【必須】 | B30: 面積 | C30: 児童発達支援センターは定員×１．６５㎡以上が内法有効面積として確保されている。 | E30: 柱や洗面、固定棚等は面積から除きます。
B31: 階数 | C31: 非常災害時に即時に避難できる場所に位置しているか。 | E31: １階または２階に位置していることが望ましい。
B32: 採光 | C32: 採光がとれる窓がある。
B33: 動線 | C33: 他事業の動線と被っていない。
B34: 見通し | C34: 遊戯室がＬ字等の死角のある形ではなく、見通しのよい空間であり、児童の安全を担保できる環境が確保されている。
B35: 安全性 | C35: アコーディオンカーテン、可動式パーテーションを設置する場合、床にレールがない。 | E35: レールに躓くことによる事故を防止するため確認します。
A36: 医務室 ※児発センターのみ【必須】 | B36: 独立性 | C36: 独立した部屋として用意されている。 | E36: 静養室と医務室を同じ部屋にすることは可能です。
A37: 屋外遊技場 ※児発センターのみ【必須】 | B37: 場所 | C37: 児発センターの建物と同一敷地内にあるか、または児発センターの建物から近距離に位置している。 | E37: 近距離の目安として、半径100ｍ以内にあることが望ましい。
B38: 階数 | C38: 非常災害時に即時に避難できる場所に位置しているか。 | E38: １階または２階に位置していることが望ましい。
A39: 調理室 ※児発センターのみ【必須】 | B39: 調理設備 | C39: 保健所の定める施設基準を満たしている、または満たす設備を設置できる予定である。（特区制度による給食の外部搬入を行う場合を除く） | E39: 「食品衛生の窓」（東京都の食品安全情報サイト）を参照してください。
A40: 静養室 ※主として知的障害児を通わせる児発センターのみ【必須】 | B40: 独立性 | C40: 独立した部屋として用意されている。 | E40: 静養室と医務室を同じ部屋にすることは可能です。
A41: 聴力検査室※主として難聴児を通わせる児発センターのみ【必須】 | B41: 独立性 | C41: 独立した部屋として用意されている。
...

Sheet ⑧利用実績（参考様式15）
A1: 参考様式15
A2: ＜利用実績＞
A3: 法人名（ ）
A4: 事業所名（ ）
A6: 実績事業所名（ ） | G6: 定員数（ ） | M6: （単位：人）
B7: ○○年○月
A8: 1日
A9: 2日
A10: 3日
A11: 4日
A12: 5日
A13: 6日
A14: 7日
A15: 8日
A16: 9日
A17: 10日
A18: 11日
A19: 12日
... A38: 31日
A39: 合計利用人数 | B39: =SUM(B8:B38) -> 0 | C39: =SUM(C8:C38) -> 0 | D39: =SUM(D8:D38) -> 0 | E39: =SUM(E8:E38) -> 0 | F39: =SUM(F8:F38) -> 0 | G39: =SUM(G8:G38) -> 0 | H39: =SUM(H8:H38) -> 0 | I39: =SUM(I8:I38) -> 0 | ... M39: =SUM(M8:M38) -> 0

Sheet ⑨実務経験証明書（参考様式３-２）
A1: 参考様式３-２
A2: 実 務 経 験 証 明 書
N3: 令和 年 月 日
H5: 法人名
H6: 法人所在地
H8: 代表者氏名 | N8: 印
H9: 電話番号
A11: 下記の者の実務経験は、以下のとおりであることを証明します。
A13: 氏 名 | F13: 生年月日 | G13: 選択してください | I13: 年 | K13: 月 | M13: 日
A14: 現 住 所
A15: 施設又は事業所名
A16: 事 業 種 別 | D16: 該当する事業、施設に〇をしてください。（該当がない場合はその他に記載） (1)障害児入所施設、乳児院、児童家庭支援センター、児童養護施設、障害者支援施設、児童自立支援施設 (2)認可保育園、幼保連携型認定保育園、地域型認定保育園、母子生活支援施設 (3)学校、幼稚園、幼稚園型認定保育園、事業所内保育事業、居宅訪問型保育事業、家庭的保育事業 (4)障害児通所支援事業、放課後児童健全育成事業 (5)小規模保育事業（定員 名）、病児保育事業、地域子育て支援拠点事業、子育て援助活動支援事業 (6)障害福祉サービス事業（生活介護、共同生活援助、居宅介護、就労継続支援など） (7)老人福祉施設、老人居宅介護、老人通所介護、地域包括支援センター、更生施設 (8)障害児（者）相談支援事業、児童相談所、地域生活支援事業、障害者就業支援センター (9)特別支援学校、特別支援学級 (10)その他（ ）
D17: (11)認可外保育園、企業主導型保育事業
A18: 業 務 期 間
D19: 実勤務日数 | H19: 日 | I19: 週平均 | L19: 日
A20: 業 務 内 容 | D20: 職名 | J20: 選択してください
A24: （注） | B24: １． | C24: 業務期間欄 対象者が要援護者に対する直接的な援助を行っていた期間を記入してください。 （産休・育休・療養休暇や長期研修期間等は業務期間となりません）
C26: 実務経験証明書作成日までの期間または退職した日までの期間を記入してください。
B28: ２． | C28: 業務内容欄 指導員、生活指導員、看護士等の職名を記入し、業務について、「主に○○に対し△△などの直接支援業務（相談業務）」など具体的に記入してください。
B32: ３． | C32: 証明内容を訂正した場合は、証明権者の職印を押印してください。なお、修正液による訂正は認められません。
B35: ４． | C35: 区市町村委託事業や区市町村補助事業等の公費支出事業での実務経験の場合は、（１０）その他に事業名を記載し、業務期間中に公費支出されていることが確認できる資料も添付してください。(例：補助金支給決定通知書等）
