Workbook

Sheet 提出書類一覧
A1: 児童福祉法に基づく事業者指定の申請に係る提出書類一覧
A2: （障害児通所支援事業）
A4: 申請書を作成する前に⇒ | D4: 【入力シート】で基本情報を入力・修正をする
A6: 事業所の名称 | C6: =基本情報入力シート!L45 -> 0 | H6: 所在地 (区市町村名) | I6: 杉並区
A8: ※様式欄に「任意様式」と記載のある書類については、指定のファイル名とし、提出フォーム（区HP〈ID：28826〉）からZIPファイル一式で提出してください。
A9: ※様式欄に「参考様式」と記載のある書類については、別途作成頂いた様式があれば、そちらを使用していただいて差し支えありません。
A10: 申請書及び添付書類 | G10: 様式 | H10: 申請者確認欄 | I10: 備考
B11: 新規指定申請書類チェックリスト ※多機能型の場合、それぞれ作成してください | G11: 区HP（ID：28826）参照
B12: 基本情報入力シート | I12: 基本情報入力シート
A13: 申請書等 | B13: 指定申請書 | G13: 様式１ | I13: 指定申請書
B14: 指定に係る記載事項 | D14: 児童発達支援 | G14: 付表１６ | I14: 付表 | J14: 重心外 | L14: 重心
D15: 放課後等デイサービス | G15: 付表１６ | J15: 重心外 | L15: 重心
D16: 居宅訪問型児童発達支援 | G16: 付表１７ | I16: 居宅訪問型児発
D17: 保育所等訪問支援 | G17: 付表１８ | I17: 保育所等訪問支援
B18: 障害児通所給付費の算定に係る体制等状況一覧表 | G18: 様式２ | I18: 体制等状況一覧表
B19: 【加算】 ①各加算の届出については、ZIPファイル中の必要書類のみ提出してください。 ※新規指定時は変更届出書の提出不要 ②報酬算定区分に関する届出書 ※新規指定時は必須（参考様式13－1）_居宅訪問型児童発達支援・保育所等訪問支援は不要 →①②をZIPファイルで提出してください。 | G19: 区HP（ID：28236）参照
B20: 社会保険及び労働保険への加入状況にかかる届出書 | G20: 参考様式１ | I20: 社会保険及び労働保険への加入状況にかかる届出書
B21: 法人の登記事項証明書（※最新の内容かつ原本（データも送付してください）であれば有効期限を設けていません。） ※ファイル件名を「法人の登記事項証明書」としてください。 | G21: 任意様式（他任意様式と併せZIPファイルで提出してください）
A22: 事業所の設備等 | B22: 事業所の平面図2枚 （実際に事業に供するスペースの内法有効面積を記載1枚、写真の撮影箇所・方向を番号と矢印で記入した図面1枚） ※ファイル件名を「事業所の平面図」としてください。 | G22: 任意様式（他任意様式と併せZIPファイルで提出してください）
B23: 事業所の写真 ※ファイル件名を「事業所の写真」としてください。 | G23: 任意様式（他任意様式と併せZIPファイルで提出してください） | I23: ※内装工事完了後
B24: 建物が賃貸の場合は賃貸借契約書（写）を添付してください。 自己所有の場合は不動産登記簿を添付してください。 ※ファイル件名を「賃貸借契約書（写）〈賃貸の場合〉」としてください。 「不動産登記簿〈自己所有の場合〉」としてください。 | G24: 任意様式（他任意様式と併せZIPファイルで提出してください）
A25: 管理者・児童発達支援管理責任者 | B25: 事業所の管理者及び児童発達支援管理責任者の経歴書 ※管理者と児童発達支援管理責任者を兼務する場合は、書類上部の表記を「管理者兼児童発達支援管理責任者経歴書」として1枚の作成で差し支えございません。
B26: 管理者経歴書 | G26: 参考様式２-１ | I26: 管理者経歴書
B27: 児童発達支援管理責任者経歴書 | E27: 基本情報入力シート | F27: =IF(基本情報入力シート!L50="児童発達支援センター","センター",IF(基本情報入力シート!L50="児童発達支援（重心外）","児発（重心外）",IF(基本情報入力シート!L50="児童発達支援（重心）","児発（重心）",IF(基本情報入力シート!L50="放課後等デイサービス（重心外）","放デイ（重心外）",IF(基本情報入力シート!L50="放課後等デイサービス（重心）","放デイ（重心）",IF(基本情報入力シート!L50="居宅訪問型児童発達支援","居宅",IF(基本情報入力シート!L50="保育所等訪問支援","保育所等",IF(基本情報入力シート!L50="選択して下さい。","事業①",)))))))) -> 事業① | G27: 参考様式２-２ | I27: 児童発達支援管理責任者経歴書①
B28: ※事業単位で児童発達支援管理責任者が異なる場合は、 児童発達支援管理責任者ごとに経歴書が必要です。 | F28: =IF(基本情報入力シート!L51="児童発達支援センター","センター",IF(基本情報入力シート!L51="児童発達支援（重心外）","児発（重心外）",IF(基本情報入力シート!L51="児童発達支援（重心）","児発（重心）",IF(基本情報入力シート!L51="放課後等デイサービス（重心外）","放デイ（重心外）",IF(基本情報入力シート!L51="放課後等デイサービス（重心）","放デイ（重心）",IF(基本情報入力シート!L51="居宅訪問型児童発達支援","居宅",IF(基本情報入力シート!L51="保育所等訪問支援","保育所等",IF(基本情報入力シート!L51="選択して下さい。","事業②",)))))))) -> 事業② | G28: 参考様式２-２ | I28: 児童発達支援管理責任者経歴書②
F29: =IF(基本情報入力シート!L52="児童発達支援センター","センター",IF(基本情報入力シート!L52="児童発達支援（重心外）","児発（重心外）",IF(基本情報入力シート!L52="児童発達支援（重心）","児発（重心）",IF(基本情報入力シート!L52="放課後等デイサービス（重心外）","放デイ（重心外）",IF(基本情報入力シート!L52="放課後等デイサービス（重心）","放デイ（重心）",IF(基本情報入力シート!L52="居宅訪問型児童発達支援","居宅",IF(基本情報入力シート!L52="保育所等訪問支援","保育所等",IF(基本情報入力シート!L52="選択して下さい。","事業③",)))))))) -> 事業③ | G29: 参考様式２-２ | I29: 児童発達支援管理責任者経歴書③
F30: =IF(基本情報入力シート!L53="児童発達支援センター","センター",IF(基本情報入力シート!L53="児童発達支援（重心外）","児発（重心外）",IF(基本情報入力シート!L53="児童発達支援（重心）","児発（重心）",IF(基本情報入力シート!L53="放課後等デイサービス（重心外）","放デイ（重心外）",IF(基本情報入力シート!L53="放課後等デイサービス（重心）","放デイ（重心）",IF(基本情報入力シート!L53="居宅訪問型児童発達支援","居宅",IF(基本情報入力シート!L53="保育所等訪問支援","保育所等",IF(基本情報入力シート!L53="選択して下さい。","事業④",)))))))) -> 事業④ | G30: 参考様式２-２ | I30: 児童発達支援管理責任者経歴書④
F31: =IF(基本情報入力シート!L54="児童発達支援センター","センター",IF(基本情報入力シート!L54="児童発達支援（重心外）","児発（重心外）",IF(基本情報入力シート!L54="児童発達支援（重心）","児発（重心）",IF(基本情報入力シート!L54="放課後等デイサービス（重心外）","放デイ（重心外）",IF(基本情報入力シート!L54="放課後等デイサービス（重心）","放デイ（重心）",IF(基本情報入力シート!L54="居宅訪問型児童発達支援","居宅",IF(基本情報入力シート!L54="保育所等訪問支援","保育所等",IF(基本情報入力シート!L54="選択して下さい。","事業⑤",)))))))) -> 事業⑤ | G31: 参考様式２-２ | I31: 児童発達支援管理責任者経歴書⑤
F32: =IF(基本情報入力シート!L55="児童発達支援センター","センター",IF(基本情報入力シート!L55="児童発達支援（重心外）","児発（重心外）",IF(基本情報入力シート!L55="児童発達支援（重心）","児発（重心）",IF(基本情報入力シート!L55="放課後等デイサービス（重心外）","放デイ（重心外）",IF(基本情報入力シート!L55="放課後等デイサービス（重心）","放デイ（重心）",IF(基本情報入力シート!L55="居宅訪問型児童発達支援","居宅",IF(基本情報入力シート!L55="保育所等訪問支援","保育所等",IF(基本情報入力シート!L55="選択して下さい。","事業⑥",)))))))) -> 事業⑥ | G32: 参考様式２-２ | I32: 児童発達支援管理責任者経歴書⑥
B33: 「児童発達支援管理責任者」として必要な研修の修了証（写)を添付してください。 ※ファイル件名を「「児童発達支援管理責任者」として必要な研修の修了証（写)」としてください。 | G33: 任意様式（他任意様式と併せZIPファイルで提出してください）
B34: 児童発達支援管理責任者の資格証（写） ※ファイル件名を「児童発達支援管理責任者の資格証（写）」としてください。 | G34: 任意様式（他任意様式と併せZIPファイルで提出してください）
B35: 児童発達支援管理責任者の実務経験証明書（写） ※押印後の書類（PDF）をお送りください | G35: 参考様式３-１ | I35: 児童発達支援管理責任者の実務経験証明書（写）
A36: その他添付書類 | B36: 従業者の実務経験証明書（写） ※児童福祉事業等の実務経験を記載して提出してください。 ※押印後の書類（PDF）をお送りください ※ファイル件名を「従業者の実務経験証明書（写）」としてください。 | G36: 参考様式３-２ | I36: 従業者の実務経験証明書（写）
B37: 従業者の資格証（写） ※保育士、児童指導員、機能訓練担当職員、看護職員等の資格 ※ファイル件名を「従業者の資格証（写）」としてください。 | G37: 任意様式（他任意様式と併せZIPファイルで提出してください）
B38: 運営規程 ※東京都書式ライブラリーに見本があります ※ファイル件名を「運営規程」としてください。 | G38: 任意様式（他任意様式と併せZIPファイルで提出してください） | I38: 東京都書式ライブラリー | N38: ←外部リンク
B39: 利用者（入所者）からの苦情を解決するために講ずる措置の概要 | G39: 参考様式４ | I39: 苦情解決措置概要
B40: 当該申請に係る事業に係る従事者の勤務の体制及び勤務形態一覧表 | G40: 参考様式５ | I40: 勤務体制・勤務形態一覧表
B41: 児童福祉法法第２１条５の１５第３項各号非該当誓約書 | G41: 参考様式６ | I41: 非該当誓約書
B42: 協力医療機関の名称及び診療科名（保育所等訪問支援は不要） | G42: 参考様式７ | I42: 協力医療機関
B43: 協力医療機関との協定書（写） ※ファイル件名を「協力医療機関との協定書（写）」としてください。 | G43: 任意様式（他任意様式と併せZIPファイルで提出してください）
...

Sheet 基本情報入力シート
C1: 基本情報入力シート | Z1: --選択下さい--
Z2: 同じである
Z3: 異なる
B4: ●はじめに
B5: 本シートの黄色セルに必要項目を入力することで、関係様式に必要な基礎情報が自動で記載されます。 一部、個別のセルに入力を行う必要もございます。各シートを確認の上、個別に入力が必要な箇所につきましても、忘れずにご入力ください。フリガナの箇所は必要に応じて、適宜手入力でご修正ください。
B10: ●基本情報
B11: Ｎｏ | D11: 入力項目 | L11: 入力箇所
B12: 申請者・設置者情報
B13: 1 | D13: 指定予定年月日
B14: 例 | D14: 令和９年４月１日 ※和暦で入力してください。
B15: 2 | D15: 主たる事務所の所在地郵便番号 | S15: －
B16: 例 | D16: 166-8570
B17: 3-1 | D17: 主たる事務所の所在地（建物名等除く）
B18: 例 | D18: 東京都杉並区阿佐谷南一丁目15番1号
B19: 3-2 | D19: 主たる事務所の所在地（建物名等）
B20: 例 | D20: 杉並区役所 ※建物名等なければ入力不要です。
B21: 4 | D21: 申請者（設置者）名称
B22: 例 | D22: 杉並区
B23: 5 | D23: 申請者（設置者）名称フリガナ
B24: 例 | D24: スギナミク
B25: 8 | D25: 法人種別
B26: 例 | D26: 地方公共団体
B27: 9 | D27: 法人所轄庁
B28: 例 | D28: 東京都 ※株式会社等の営利法人については入力不要です。
B29: 10 | D29: 法人電話番号
B30: 例 | D30: 03-0000-0000 ※記載例です。法人の電話番号を入力してください。
B31: 11 | D31: 法人ＦＡＸ番号
B32: 例 | D32: 03-0000-0000（記載例）
D33: 法人メールアドレス
B34: 例 | D34: example@example.jp（記載例）
B35: 12 | D35: 代表者の職名 | S35: 例 | T35: 代表取締役
B36: 14 | D36: 代表者の氏名（フリガナ） | S36: 例 | T36: スギナミ タロウ
B37: 13 | D37: 代表者の氏名 | S37: 例 | T37: 杉並 太郎
B38: 15 | D38: 代表者の住所 郵便番号 | S38: －
B39: 16-1 | D39: 代表者の住所（建物を除く）
B40: 16-2 | D40: 代表者の住所（建物名等）
B41: 16-3 | D41: 代表者の生年月日
B42: 指定を受けようとする事業所・施設の情報
B43: ★ | D43: --選択下さい-- | L43: 指定を受けようとする事業所・施設の所在地が、主たる事業所の所在地と”同じである”または"異なる"を選択して下さい。
B44: 18 | D44: 事業所・施設の名称（フリガナ）
...

Sheet 様式１（指定申請書）
A1: 様式１
A2: 指定障害児通所支援事業所
E4: 指定 | G4: 申請書
K5: 令和 | O5: 年 | R5: 月 | U5: 日
B6: 杉並区長殿
H7: 所在地 | K7: =基本情報入力シート!L17&基本情報入力シート!L19
G8: 申請者 | H8: 名 称 | K8: =基本情報入力シート!L21 -> 0
H9: 代表者 | K9: =基本情報入力シート!L35&" "&基本情報入力シート!L37
B11: 表題の事業所・施設に係る指定を受けたいので、下記のとおり、関係書類を添えて申請します。
F13: 法人番号(13桁)
A14: 申請者(設置者) | B14: フリガナ | D14: =基本情報入力シート!L23 -> 0
B15: 名称 | D15: =基本情報入力シート!L21 -> 0
B16: 主たる事務所の所在地 | D16: (郵便番号 | E16: =基本情報入力シート!L15 -> 0 | F16: - | G16: =基本情報入力シート!T15 -> 0 | I16: ）
D17: =基本情報入力シート!L17 -> 0
D18: =基本情報入力シート!L19 -> 0
B19: 連絡先 | D19: 電話番号 | E19: =IF(基本情報入力シート!L29<>"",基本情報入力シート!L29," (内線)") -> (内線)
D20: E-mailアドレス | F20: =基本情報入力シート!L33 -> 0
B21: 法人等の種類 | D21: =基本情報入力シート!L25 -> 0
B22: 代表者の職名・氏名・生年月日 | D22: 職名 | E22: =基本情報入力シート!L35 -> 0 | G22: フリガナ | H22: =基本情報入力シート!L36 -> 0 | M22: 生年月日 | O22: =基本情報入力シート!L41 -> 0
G23: 氏名 | H23: =基本情報入力シート!L37 -> 0
B24: 代表者の住所 | D24: (郵便番号 | E24: =基本情報入力シート!L38 -> 0 | F24: - | G24: =基本情報入力シート!T38 -> 0 | I24: ）
D25: =基本情報入力シート!L39 -> 0
D26: =基本情報入力シート!L40 -> 0
A27: 指定を受けようとする事業所・施設の種類 | B27: フリガナ | D27: =基本情報入力シート!L44 -> 0
B28: 名称 | D28: =基本情報入力シート!L45 -> 0
B29: 事業所(施設)の所在地 | D29: (郵便番号 | E29: =基本情報入力シート!L46 -> 0 | F29: - | G29: =基本情報入力シート!T46 -> 0 | I29: ）
D30: =基本情報入力シート!L47 -> 0
D31: =基本情報入力シート!L48 -> 0
B32: 多機能型事業所に係る指定の申請の場合は○
B33: 同一所在地において 行う事業等の種類 | F33: 今回の新規指定申請をする対象事業に○ | H33: 既に指定を受けている事業に○ | L33: =IF(E4="指定更新","指定有効期限","事業の開始予定年月日") -> 事業の開始予定年月日 | R33: 本申請書に添付して提出する様式(付表)
E34: 共生型サービスの指定を申請するものに○
B35: 指定障害児通所支援事業所 | C35: 児童発達支援 | R35: 付表16
C36: 放課後等デイサービス | R36: 付表16
C37: 居宅訪問型児童発達支援 | R37: 付表17
C38: 保育所等訪問支援 | R38: 付表18
A39: 【既に指定を受けている場合】事業所番号
A40: (備考)
A41: 1 | B41: 「法人等の種類」欄には、「社会福祉法人(社協以外)」、「社会福祉法人(社協)」、「医療法人」、「社団・財団」、「営利法人」、「非営利法人(ＮＰＯ)」、「農協」、「生協」、「その他法人」、「地方公共団体(都道府県)」、「地方公共団体(市町村)」、「地方公共団体(広域連合・一部事務組合等)」、「非法人」、「その他」のいずれかを記入してください。
A42: 2 | B42: 「同一所在地において行う事業等の種類」欄には、今回申請をする事業及び既に指定を受けている事業のそれぞれに「○」を記載してください。
A43: 3 | B43: 「【既に指定を受けている場合】事業所番号」欄には、申請を行う都道府県等において既に事業所としての指定を受け、番号が付番されている場合に、その事業所番号を記載してください。

Sheet 付表３－２
A1: 付表３－２ 一体的に実施する従たる事業所の指定に係る記載事項
L2: ※多機能型事業実施時は、各事業の付表と付表１３を併せて提出してください。
N4: 受付番号
B6: フリガナ
A7: 施 | B7: 名 称
B8: 所在地 | D8: （郵便番号 － ）
A9: 設 | F9: 県 | I9: 郡・市
B11: 連 絡 先 | D11: 電話番号 | K11: ＦＡＸ番号
A12: 実施主体が地方公共団体である場合は、当該事業の実施について定めてある条例等 | J12: 第 条第 項第 号
A13: サービス | C13: フリガナ | J13: 住 所 | L13: （郵便番号 － ）
A14: 管理責任者 | C14: 氏 名
A15: 従業者の職種・員数 | F15: 医 師 | I15: サービス管理責任者 | L15: 看護職員 | O15: 理学療法士 | R15: 作業療法士
F16: 専従 | G16: ※兼務 | I16: 専従 | J16: ※兼務 | L16: 専従 | M16: ※兼務 | O16: 専従 | P16: ※兼務 | R16: 専従 | S16: ※兼務
B17: 従業者数 | D17: 常勤（人）
D18: 非常勤（人）
B19: 常勤換算後の人数（人）
B20: 基準上の必要人数（人）
F21: 機能訓練指導員 | I21: 生活支援員 | L21: 精神保健福祉士 | O21: その他の従業者
F22: 専従 | G22: ※兼務 | I22: 専従 | J22: ※兼務 | L22: 専従 | M22: ※兼務 | O22: 専従 | P22: ※兼務
B23: 従業者数 | D23: 常勤（人）
D24: 非常勤（人）
B25: 常勤換算後の人数（人）
B26: 基準上の必要人数（人）
B27: 前年度の平均 実利用者数（人） | F27: 施設が申告する障害程度区分の平均値
F28: サービス単位 | I28: ４未満 | M28: ４以上５未満 | Q28: ５以上
F29: サービス単位１
F30: サービス単位２
F31: サービス単位３
A32: 主な掲示事項
B33: 営業日 | F33: 単位ごとの営業日
B34: 営業時間 | F34: 単位ごとのサービス提供時間（送迎時間を除く）（① ： ～ ： ② ： ～ ： ）
B35: 主たる対象者 | F35: 特定無し | H35: 身体障害者
H36: 細分無し | J36: 肢体不自由 | L36: 視覚障害 | N36: 聴覚・言語 | P36: 内部障害
F38: 知的障害者 | H38: 精神障害者 | J38: 難病等対象者
B41: 利用定員 | F41: 人（単位ごとの定員）（① ② ）
B42: 基準上の必要定員
B43: 多機能型実施の有無 | F43: 有 ・ 無
B44: 利用料
B46: その他の費用
B47: その他参考となる事項 | F47: 第三者評価の実施状況 | J47: している ・ していない
...

Sheet 付表16_児童発達支援（重心外）
A1: 付表16 児童発達支援事業所の指定等に係る記載事項
B2: 主として通わせる児童の障害の種別（重症心身障害児以外）
A3: サービス種別(申請する種別に○) | E3: =IF((COUNTIF(基本情報入力シート!L50:Z55,"*児童発達支援（重心*")+COUNTIF(基本情報入力シート!L50:Z55,"児童発達支援センター"))>0,"○","") | F3: 児童発達支援 | J3: 放課後等デイサービス
A4: 児童発達支援センターに該当するか （該当する場合は、○） | E4: =IF(COUNTIF(基本情報入力シート!L50:Z55,"児童発達支援センター")>0,"○","")
A6: 事業所 | B6: フリガナ | C6: =基本情報入力シート!L44 -> 0
B7: 名 称 | C7: =基本情報入力シート!L45 -> 0
B8: 所在地 | C8: (郵便番号 | D8: =基本情報入力シート!L46 -> 0 | E8: - | F8: =基本情報入力シート!T46 -> 0 | G8: )
C9: =基本情報入力シート!L47 -> 0
C10: =基本情報入力シート!L48 -> 0
B11: 電話番号 | C11: =基本情報入力シート!L56 -> 0
B12: E-Mail | C12: =基本情報入力シート!L58 -> 0
A13: 管理者 | B13: フリガナ | C13: =基本情報入力シート!L60 -> 0 | F13: 生年月日 | G13: =基本情報入力シート!L65 -> 0
B14: 氏 名 | C14: =基本情報入力シート!L59 -> 0
B15: 住 所 | C15: (郵便番号 | D15: =基本情報入力シート!L61 -> 0 | E15: - | F15: =基本情報入力シート!T61 -> 0 | G15: )
C16: =基本情報入力シート!L62 -> 0
C17: =基本情報入力シート!L63 -> 0
B18: 他の事業所又は施設の従業者との兼務(兼務の場合記入) | D18: 事業所等の名称
D19: 兼務する職種及び勤務時間等
A21: 児童発達支援管理責任者 | B21: フリガナ | C21: =IF(E4="○",IF(基本情報入力シート!D66="【児童発達支援センター】" & CHAR(10)&"児童発達支援管理責任者",基本情報入力シート!L68,IF(基本情報入力シート!D74="【児童発達支援センター】" & CHAR(10)&"児童発達支援管理責任者",基本情報入力シート!L76,IF(基本情報入力シート!D82="【児童発達支援センター】" & CHAR(10)&"児童発達支援管理責任者",基本情報入力シート!L84,IF(基本情報入力シート!D90="【児童発達支援センター】" & CHAR(10)&"児童発達支援管理責任者",基本情報入力シート!L92,IF(基本情報入力シート!D98="【児童発達支援センター】" & CHAR(10)&"児童発達支援管理責任者",基本情報入力シート!L100,IF(基本情報入力シート!D106="【児童発達支援センター】" & CHAR(10)&"児童発達支援管理責任者",基本情報入力シート!L108,"")))))),IF(基本情報入力シート!D66="【児童発達支援（重心外）】" & CHAR(10)&"児童発達支援管理責任者",基本情報入力シート!L68,IF(基本情報入力シート!D74="【児童発達支援（重心外）】" & CHAR(10)&"児童発達支援管理責任者",基本情報入力シート!L76,IF(基本情報入力シート!D82="【児童発達支援（重心外）】" & CHAR(10)&"児童発達支援管理責任者",基本情報入力シート!L84,IF(基本情報入力シート!D90="【児童発達支援（重心外）】" & CHAR(10)&"児童発達支援管理責任者",基本情報入力シート!L92,IF(基本情報入力シート!D98="【児童発達支援（重心外）】" & CHAR(10)&"児童発達支援管理責任者",基本情報入力シート!L100,IF(基本情報入力シート!D106="【児童発達支援（重心外）】" & CHAR(10)&"児童発達支援管理責任者",基本情報入力シート!L108,""))))))) | F21: 生年月日 | G21: =IF(E4="○",IF(基本情報入力シート!D66="【児童発達支援センター】" & CHAR(10)&"児童発達支援管理責任者",基本情報入力シート!L73,IF(基本情報入力シート!D74="【児童発達支援センター】" & CHAR(10)&"児童発達支援管理責任者",基本情報入力シート!L81,IF(基本情報入力シート!D82="【児童発達支援センター】" & CHAR(10)&"児童発達支援管理責任者",基本情報入力シート!L89,IF(基本情報入力シート!D90="【児童発達支援センター】" & CHAR(10)&"児童発達支援管理責任者",基本情報入力シート!L97,IF(基本情報入力シート!D98="【児童発達支援センター】" & CHAR(10)&"児童発達支援管理責任者",基本情報入力シート!L105,IF(基本情報入力シート!D106="【児童発達支援センター】" & CHAR(10)&"児童発達支援管理責任者",基本情報入力シート!L113," 年 月 日")))))),IF(基本情報入力シート!D66="【児童発達支援（重心外）】" & CHAR(10)&"児童発達支援管理責任者",基本情報入力シート!L73,IF(基本情報入力シート!D74="【児童発達支援（重心外）】" & CHAR(10)&"児童発達支援管理責任者",基本情報入力シート!L81,IF(基本情報入力シート!D82="【児童発達支援（重心外）】" & CHAR(10)&"児童発達支援管理責任者",基本情報入力シート!L89,IF(基本情報入力シート!D90="【児童発達支援（重心外）】" & CHAR(10)&"児童発達支援管理責任者",基本情報入力シート!L97,IF(基本情報入力シート!D98="【児童発達支援（重心外）】" & CHAR(10)&"児童発達支援管理責任者",基本情報入力シート!L105,IF(基本情報入力シート!D106="【児童発達支援（重心外）】" & CHAR(10)&"児童発達支援管理責任者",基本情報入力シート!L113," 年 月 日"))))))) -> 年 月 日
B22: 氏 名 | C22: =IF(E4="○",IF(基本情報入力シート!D66="【児童発達支援センター】" & CHAR(10)&"児童発達支援管理責任者",基本情報入力シート!L67,IF(基本情報入力シート!D74="【児童発達支援センター】" & CHAR(10)&"児童発達支援管理責任者",基本情報入力シート!L75,IF(基本情報入力シート!D82="【児童発達支援センター】" & CHAR(10)&"児童発達支援管理責任者",基本情報入力シート!L83,IF(基本情報入力シート!D90="【児童発達支援センター】" & CHAR(10)&"児童発達支援管理責任者",基本情報入力シート!L91,IF(基本情報入力シート!D98="【児童発達支援センター】" & CHAR(10)&"児童発達支援管理責任者",基本情報入力シート!L99,IF(基本情報入力シート!D106="【児童発達支援センター】" & CHAR(10)&"児童発達支援管理責任者",基本情報入力シート!L107,"")))))),IF(基本情報入力シート!D66="【児童発達支援（重心外）】" & CHAR(10)&"児童発達支援管理責任者",基本情報入力シート!L67,IF(基本情報入力シート!D74="【児童発達支援（重心外）】" & CHAR(10)&"児童発達支援管理責任者",基本情報入力シート!L75,IF(基本情報入力シート!D82="【児童発達支援（重心外）】" & CHAR(10)&"児童発達支援管理責任者",基本情報入力シート!L83,IF(基本情報入力シート!D90="【児童発達支援（重心外）】" & CHAR(10)&"児童発達支援管理責任者",基本情報入力シート!L91,IF(基本情報入力シート!D98="【児童発達支援（重心外）】" & CHAR(10)&"児童発達支援管理責任者",基本情報入力シート!L99,IF(基本情報入力シート!D106="【児童発達支援（重心外）】" & CHAR(10)&"児童発達支援管理責任者",基本情報入力シート!L107,"")))))))
B23: 住 所 | C23: (郵便番号 | D23: =IF(E4="○",IF(基本情報入力シート!D66="【児童発達支援センター】" & CHAR(10)&"児童発達支援管理責任者",基本情報入力シート!L69,IF(基本情報入力シート!D74="【児童発達支援センター】" & CHAR(10)&"児童発達支援管理責任者",基本情報入力シート!L77,IF(基本情報入力シート!D82="【児童発達支援センター】" & CHAR(10)&"児童発達支援管理責任者",基本情報入力シート!L85,IF(基本情報入力シート!D90="【児童発達支援センター】" & CHAR(10)&"児童発達支援管理責任者",基本情報入力シート!L93,IF(基本情報入力シート!D98="【児童発達支援センター】" & CHAR(10)&"児童発達支援管理責任者",基本情報入力シート!L101,IF(基本情報入力シート!D106="【児童発達支援センター】" & CHAR(10)&"児童発達支援管理責任者",基本情報入力シート!L109,"")))))),IF(基本情報入力シート!D66="【児童発達支援（重心外）】" & CHAR(10)&"児童発達支援管理責任者",基本情報入力シート!L69,IF(基本情報入力シート!D74="【児童発達支援（重心外）】" & CHAR(10)&"児童発達支援管理責任者",基本情報入力シート!L77,IF(基本情報入力シート!D82="【児童発達支援（重心外）】" & CHAR(10)&"児童発達支援管理責任者",基本情報入力シート!L85,IF(基本情報入力シート!D90="【児童発達支援（重心外）】" & CHAR(10)&"児童発達支援管理責任者",基本情報入力シート!L93,IF(基本情報入力シート!D98="【児童発達支援（重心外）】" & CHAR(10)&"児童発達支援管理責任者",基本情報入力シート!L101,IF(基本情報入力シート!D106="【児童発達支援（重心外）】" & CHAR(10)&"児童発達支援管理責任者",基本情報入力シート!L109,""))))))) | E23: - | F23: =IF(E4="○",IF(基本情報入力シート!D66="【児童発達支援センター】" & CHAR(10)&"児童発達支援管理責任者",基本情報入力シート!T69,IF(基本情報入力シート!D74="【児童発達支援センター】" & CHAR(10)&"児童発達支援管理責任者",基本情報入力シート!T77,IF(基本情報入力シート!D82="【児童発達支援センター】" & CHAR(10)&"児童発達支援管理責任者",基本情報入力シート!T85,IF(基本情報入力シート!D90="【児童発達支援センター】" & CHAR(10)&"児童発達支援管理責任者",基本情報入力シート!T93,IF(基本情報入力シート!D98="【児童発達支援センター】" & CHAR(10)&"児童発達支援管理責任者",基本情報入力シート!T101,IF(基本情報入力シート!D106="【児童発達支援センター】" & CHAR(10)&"児童発達支援管理責任者",基本情報入力シート!T109,"")))))),IF(基本情報入力シート!D66="【児童発達支援（重心外）】" & CHAR(10)&"児童発達支援管理責任者",基本情報入力シート!T69,IF(基本情報入力シート!D74="【児童発達支援（重心外）】" & CHAR(10)&"児童発達支援管理責任者",基本情報入力シート!T77,IF(基本情報入力シート!D82="【児童発達支援（重心外）】" & CHAR(10)&"児童発達支援管理責任者",基本情報入力シート!T85,IF(基本情報入力シート!D90="【児童発達支援（重心外）】" & CHAR(10)&"児童発達支援管理責任者",基本情報入力シート!T93,IF(基本情報入力シート!D98="【児童発達支援（重心外）】" & CHAR(10)&"児童発達支援管理責任者",基本情報入力シート!T101,IF(基本情報入力シート!D106="【児童発達支援（重心外）】" & CHAR(10)&"児童発達支援管理責任者",基本情報入力シート!T109,""))))))) | G23: )
C24: =IF(E4="○",IF(基本情報入力シート!D66="【児童発達支援センター】" & CHAR(10)&"児童発達支援管理責任者",基本情報入力シート!L70,IF(基本情報入力シート!D74="【児童発達支援センター】" & CHAR(10)&"児童発達支援管理責任者",基本情報入力シート!L78,IF(基本情報入力シート!D82="【児童発達支援センター】" & CHAR(10)&"児童発達支援管理責任者",基本情報入力シート!L86,IF(基本情報入力シート!D90="【児童発達支援センター】" & CHAR(10)&"児童発達支援管理責任者",基本情報入力シート!L94,IF(基本情報入力シート!D98="【児童発達支援センター】" & CHAR(10)&"児童発達支援管理責任者",基本情報入力シート!L102,IF(基本情報入力シート!D106="【児童発達支援センター】" & CHAR(10)&"児童発達支援管理責任者",基本情報入力シート!L110,"")))))),IF(基本情報入力シート!D66="【児童発達支援（重心外）】" & CHAR(10)&"児童発達支援管理責任者",基本情報入力シート!L70,IF(基本情報入力シート!D74="【児童発達支援（重心外）】" & CHAR(10)&"児童発達支援管理責任者",基本情報入力シート!L78,IF(基本情報入力シート!D82="【児童発達支援（重心外）】" & CHAR(10)&"児童発達支援管理責任者",基本情報入力シート!L86,IF(基本情報入力シート!D90="【児童発達支援（重心外）】" & CHAR(10)&"児童発達支援管理責任者",基本情報入力シート!L94,IF(基本情報入力シート!D98="【児童発達支援（重心外）】" & CHAR(10)&"児童発達支援管理責任者",基本情報入力シート!L102,IF(基本情報入力シート!D106="【児童発達支援（重心外）】" & CHAR(10)&"児童発達支援管理責任者",基本情報入力シート!L110,"")))))))
C25: =IF(E4="○",IF(基本情報入力シート!D66="【児童発達支援センター】" & CHAR(10)&"児童発達支援管理責任者",基本情報入力シート!L71,IF(基本情報入力シート!D74="【児童発達支援センター】" & CHAR(10)&"児童発達支援管理責任者",基本情報入力シート!L79,IF(基本情報入力シート!D82="【児童発達支援センター】" & CHAR(10)&"児童発達支援管理責任者",基本情報入力シート!L87,IF(基本情報入力シート!D90="【児童発達支援センター】" & CHAR(10)&"児童発達支援管理責任者",基本情報入力シート!L95,IF(基本情報入力シート!D98="【児童発達支援センター】" & CHAR(10)&"児童発達支援管理責任者",基本情報入力シート!L103,IF(基本情報入力シート!D106="【児童発達支援センター】" & CHAR(10)&"児童発達支援管理責任者",基本情報入力シート!L111,"")))))),IF(基本情報入力シート!D66="【児童発達支援（重心外）】" & CHAR(10)&"児童発達支援管理責任者",基本情報入力シート!L71,IF(基本情報入力シート!D74="【児童発達支援（重心外）】" & CHAR(10)&"児童発達支援管理責任者",基本情報入力シート!L79,IF(基本情報入力シート!D82="【児童発達支援（重心外）】" & CHAR(10)&"児童発達支援管理責任者",基本情報入力シート!L87,IF(基本情報入力シート!D90="【児童発達支援（重心外）】" & CHAR(10)&"児童発達支援管理責任者",基本情報入力シート!L95,IF(基本情報入力シート!D98="【児童発達支援（重心外）】" & CHAR(10)&"児童発達支援管理責任者",基本情報入力シート!L103,IF(基本情報入力シート!D106="【児童発達支援（重心外）】" & CHAR(10)&"児童発達支援管理責任者",基本情報入力シート!L111,"")))))))
A26: 実施主体が地方公共団体である場合は、当該事業の実施について定めてある条例等 | H26: 第 条 第 項 第 号
A27: ○運営・設備に関する基準の確認に必要な事項
A28: 利用定員(人)
A29: 利用者の推定数(人)
A30: 営業日(該当する日に○) | C30: 日 | D30: 月 | E30: 火 | F30: 水 | G30: 木 | H30: 金 | J30: 土 | L30: 祝
C32: その他(年末年始等)
A33: 営業時間 | C33: 平日 | E33: ： | G33: ～ | J33: ：
C34: 土曜 | E34: ： | G34: ～ | J34: ：
C35: 日・祝 | E35: ： | G35: ～ | J35: ：
A36: 送迎の有無 | C36: 有 | E36: 無 | F36: =IF(D36="○","","○") -> ○
A37: 利用料 | C37: こども家庭庁長官が定める基準による額
A38: その他の費用
A39: 通常の事業の実施地域 | C39: 杉並区
A40: 協力医療機関 | C40: 名称 | D40: =基本情報入力シート!L116 -> 0 | G40: 主な診療科名 | I40: =基本情報入力シート!L117 -> 0
A41: ○一体的に実施する従たる事業所の指定等に係る記載事項 従たる事業所の指定等を受ける場合は、以下に記載してください。
A42: 事業所 | B42: フリガナ
B43: 名 称
...

Sheet 付表16_児童発達支援（重心）
A1: 付表16 児童発達支援事業所の指定等に係る記載事項
B2: 主として通わせる児童の障害の種別 （重症心身障害児）
A3: サービス種別(申請する種別に○) | E3: =IF((COUNTIF(基本情報入力シート!L50:Z55,"*児童発達支援（重心*")+COUNTIF(基本情報入力シート!L50:Z55,"児童発達支援センター"))>0,"○","") | F3: 児童発達支援 | J3: 放課後等デイサービス
A4: 児童発達支援センターに該当するか （該当する場合は、○） | E4: =IF(COUNTIF(基本情報入力シート!L50:Z55,"児童発達支援センター")>0,"○","")
A6: 事業所 | B6: フリガナ | C6: =基本情報入力シート!L44 -> 0
B7: 名 称 | C7: =基本情報入力シート!L45 -> 0
B8: 所在地 | C8: (郵便番号 | D8: =基本情報入力シート!L46 -> 0 | E8: - | F8: =基本情報入力シート!T46 -> 0 | G8: )
C9: =基本情報入力シート!L47 -> 0
C10: =基本情報入力シート!L48 -> 0
B11: 電話番号 | C11: =基本情報入力シート!L56 -> 0
B12: E-Mail | C12: =基本情報入力シート!L58 -> 0
A13: 管理者 | B13: フリガナ | C13: =基本情報入力シート!L60 -> 0 | F13: 生年月日 | G13: =基本情報入力シート!L65 -> 0
B14: 氏 名 | C14: =基本情報入力シート!L59 -> 0
B15: 住 所 | C15: (郵便番号 | D15: =基本情報入力シート!L61 -> 0 | E15: - | F15: =基本情報入力シート!T61 -> 0 | G15: )
C16: =基本情報入力シート!L62 -> 0
C17: =基本情報入力シート!L63 -> 0
B18: 他の事業所又は施設の従業者との兼務(兼務の場合記入) | D18: 事業所等の名称
D19: 兼務する職種及び勤務時間等
A21: 児童発達支援管理責任者 | B21: フリガナ | C21: =IF(E4="○",IF(基本情報入力シート!D66="【児童発達支援センター】" & CHAR(10)&"児童発達支援管理責任者",基本情報入力シート!L68,IF(基本情報入力シート!D74="【児童発達支援センター】" & CHAR(10)&"児童発達支援管理責任者",基本情報入力シート!L76,IF(基本情報入力シート!D82="【児童発達支援センター】" & CHAR(10)&"児童発達支援管理責任者",基本情報入力シート!L84,IF(基本情報入力シート!D90="【児童発達支援センター】" & CHAR(10)&"児童発達支援管理責任者",基本情報入力シート!L92,IF(基本情報入力シート!D98="【児童発達支援センター】" & CHAR(10)&"児童発達支援管理責任者",基本情報入力シート!L100,IF(基本情報入力シート!D106="【児童発達支援センター】" & CHAR(10)&"児童発達支援管理責任者",基本情報入力シート!L108,"")))))),IF(基本情報入力シート!D66="【児童発達支援（重心）】" & CHAR(10)&"児童発達支援管理責任者",基本情報入力シート!L68,IF(基本情報入力シート!D74="【児童発達支援（重心）】" & CHAR(10)&"児童発達支援管理責任者",基本情報入力シート!L76,IF(基本情報入力シート!D82="【児童発達支援（重心）】" & CHAR(10)&"児童発達支援管理責任者",基本情報入力シート!L84,IF(基本情報入力シート!D90="【児童発達支援（重心）】" & CHAR(10)&"児童発達支援管理責任者",基本情報入力シート!L92,IF(基本情報入力シート!D98="【児童発達支援（重心）】" & CHAR(10)&"児童発達支援管理責任者",基本情報入力シート!L100,IF(基本情報入力シート!D106="【児童発達支援（重心）】" & CHAR(10)&"児童発達支援管理責任者",基本情報入力シート!L108,""))))))) | F21: 生年月日 | G21: =IF(E4="○",IF(基本情報入力シート!D66="【児童発達支援センター】" & CHAR(10)&"児童発達支援管理責任者",基本情報入力シート!L73,IF(基本情報入力シート!D74="【児童発達支援センター】" & CHAR(10)&"児童発達支援管理責任者",基本情報入力シート!L81,IF(基本情報入力シート!D82="【児童発達支援センター】" & CHAR(10)&"児童発達支援管理責任者",基本情報入力シート!L89,IF(基本情報入力シート!D90="【児童発達支援センター】" & CHAR(10)&"児童発達支援管理責任者",基本情報入力シート!L97,IF(基本情報入力シート!D98="【児童発達支援センター】" & CHAR(10)&"児童発達支援管理責任者",基本情報入力シート!L105,IF(基本情報入力シート!D106="【児童発達支援センター】" & CHAR(10)&"児童発達支援管理責任者",基本情報入力シート!L113," 年 月 日")))))),IF(基本情報入力シート!D66="【児童発達支援（重心）】" & CHAR(10)&"児童発達支援管理責任者",基本情報入力シート!L73,IF(基本情報入力シート!D74="【児童発達支援（重心）】" & CHAR(10)&"児童発達支援管理責任者",基本情報入力シート!L81,IF(基本情報入力シート!D82="【児童発達支援（重心）】" & CHAR(10)&"児童発達支援管理責任者",基本情報入力シート!L89,IF(基本情報入力シート!D90="【児童発達支援（重心）】" & CHAR(10)&"児童発達支援管理責任者",基本情報入力シート!L97,IF(基本情報入力シート!D98="【児童発達支援（重心）】" & CHAR(10)&"児童発達支援管理責任者",基本情報入力シート!L105,IF(基本情報入力シート!D106="【児童発達支援（重心）】" & CHAR(10)&"児童発達支援管理責任者",基本情報入力シート!L113," 年 月 日"))))))) -> 年 月 日
B22: 氏 名 | C22: =IF(E4="○",IF(基本情報入力シート!D66="【児童発達支援センター】" & CHAR(10)&"児童発達支援管理責任者",基本情報入力シート!L67,IF(基本情報入力シート!D74="【児童発達支援センター】" & CHAR(10)&"児童発達支援管理責任者",基本情報入力シート!L75,IF(基本情報入力シート!D82="【児童発達支援センター】" & CHAR(10)&"児童発達支援管理責任者",基本情報入力シート!L83,IF(基本情報入力シート!D90="【児童発達支援センター】" & CHAR(10)&"児童発達支援管理責任者",基本情報入力シート!L91,IF(基本情報入力シート!D98="【児童発達支援センター】" & CHAR(10)&"児童発達支援管理責任者",基本情報入力シート!L99,IF(基本情報入力シート!D106="【児童発達支援センター】" & CHAR(10)&"児童発達支援管理責任者",基本情報入力シート!L107,"")))))),IF(基本情報入力シート!D66="【児童発達支援（重心）】" & CHAR(10)&"児童発達支援管理責任者",基本情報入力シート!L67,IF(基本情報入力シート!D74="【児童発達支援（重心）】" & CHAR(10)&"児童発達支援管理責任者",基本情報入力シート!L75,IF(基本情報入力シート!D82="【児童発達支援（重心）】" & CHAR(10)&"児童発達支援管理責任者",基本情報入力シート!L83,IF(基本情報入力シート!D90="【児童発達支援（重心）】" & CHAR(10)&"児童発達支援管理責任者",基本情報入力シート!L91,IF(基本情報入力シート!D98="【児童発達支援（重心）】" & CHAR(10)&"児童発達支援管理責任者",基本情報入力シート!L99,IF(基本情報入力シート!D106="【児童発達支援（重心）】" & CHAR(10)&"児童発達支援管理責任者",基本情報入力シート!L107,"")))))))
B23: 住 所 | C23: (郵便番号 | D23: =IF(E4="○",IF(基本情報入力シート!D66="【児童発達支援センター】" & CHAR(10)&"児童発達支援管理責任者",基本情報入力シート!L69,IF(基本情報入力シート!D74="【児童発達支援センター】" & CHAR(10)&"児童発達支援管理責任者",基本情報入力シート!L77,IF(基本情報入力シート!D82="【児童発達支援センター】" & CHAR(10)&"児童発達支援管理責任者",基本情報入力シート!L85,IF(基本情報入力シート!D90="【児童発達支援センター】" & CHAR(10)&"児童発達支援管理責任者",基本情報入力シート!L93,IF(基本情報入力シート!D98="【児童発達支援センター】" & CHAR(10)&"児童発達支援管理責任者",基本情報入力シート!L101,IF(基本情報入力シート!D106="【児童発達支援センター】" & CHAR(10)&"児童発達支援管理責任者",基本情報入力シート!L109,"")))))),IF(基本情報入力シート!D66="【児童発達支援（重心）】" & CHAR(10)&"児童発達支援管理責任者",基本情報入力シート!L69,IF(基本情報入力シート!D74="【児童発達支援（重心）】" & CHAR(10)&"児童発達支援管理責任者",基本情報入力シート!L77,IF(基本情報入力シート!D82="【児童発達支援（重心）】" & CHAR(10)&"児童発達支援管理責任者",基本情報入力シート!L85,IF(基本情報入力シート!D90="【児童発達支援（重心）】" & CHAR(10)&"児童発達支援管理責任者",基本情報入力シート!L93,IF(基本情報入力シート!D98="【児童発達支援（重心）】" & CHAR(10)&"児童発達支援管理責任者",基本情報入力シート!L101,IF(基本情報入力シート!D106="【児童発達支援（重心）】" & CHAR(10)&"児童発達支援管理責任者",基本情報入力シート!L109,""))))))) | E23: - | F23: =IF(E4="○",IF(基本情報入力シート!D66="【児童発達支援センター】" & CHAR(10)&"児童発達支援管理責任者",基本情報入力シート!T69,IF(基本情報入力シート!D74="【児童発達支援センター】" & CHAR(10)&"児童発達支援管理責任者",基本情報入力シート!T77,IF(基本情報入力シート!D82="【児童発達支援センター】" & CHAR(10)&"児童発達支援管理責任者",基本情報入力シート!T85,IF(基本情報入力シート!D90="【児童発達支援センター】" & CHAR(10)&"児童発達支援管理責任者",基本情報入力シート!T93,IF(基本情報入力シート!D98="【児童発達支援センター】" & CHAR(10)&"児童発達支援管理責任者",基本情報入力シート!T101,IF(基本情報入力シート!D106="【児童発達支援センター】" & CHAR(10)&"児童発達支援管理責任者",基本情報入力シート!T109,"")))))),IF(基本情報入力シート!D66="【児童発達支援（重心）】" & CHAR(10)&"児童発達支援管理責任者",基本情報入力シート!T69,IF(基本情報入力シート!D74="【児童発達支援（重心）】" & CHAR(10)&"児童発達支援管理責任者",基本情報入力シート!T77,IF(基本情報入力シート!D82="【児童発達支援（重心）】" & CHAR(10)&"児童発達支援管理責任者",基本情報入力シート!T85,IF(基本情報入力シート!D90="【児童発達支援（重心）】" & CHAR(10)&"児童発達支援管理責任者",基本情報入力シート!T93,IF(基本情報入力シート!D98="【児童発達支援（重心）】" & CHAR(10)&"児童発達支援管理責任者",基本情報入力シート!T101,IF(基本情報入力シート!D106="【児童発達支援（重心）】" & CHAR(10)&"児童発達支援管理責任者",基本情報入力シート!T109,""))))))) | G23: )
C24: =IF(E4="○",IF(基本情報入力シート!D66="【児童発達支援センター】" & CHAR(10)&"児童発達支援管理責任者",基本情報入力シート!L70,IF(基本情報入力シート!D74="【児童発達支援センター】" & CHAR(10)&"児童発達支援管理責任者",基本情報入力シート!L78,IF(基本情報入力シート!D82="【児童発達支援センター】" & CHAR(10)&"児童発達支援管理責任者",基本情報入力シート!L86,IF(基本情報入力シート!D90="【児童発達支援センター】" & CHAR(10)&"児童発達支援管理責任者",基本情報入力シート!L94,IF(基本情報入力シート!D98="【児童発達支援センター】" & CHAR(10)&"児童発達支援管理責任者",基本情報入力シート!L102,IF(基本情報入力シート!D106="【児童発達支援センター】" & CHAR(10)&"児童発達支援管理責任者",基本情報入力シート!L110,"")))))),IF(基本情報入力シート!D66="【児童発達支援（重心）】" & CHAR(10)&"児童発達支援管理責任者",基本情報入力シート!L70,IF(基本情報入力シート!D74="【児童発達支援（重心）】" & CHAR(10)&"児童発達支援管理責任者",基本情報入力シート!L78,IF(基本情報入力シート!D82="【児童発達支援（重心）】" & CHAR(10)&"児童発達支援管理責任者",基本情報入力シート!L86,IF(基本情報入力シート!D90="【児童発達支援（重心）】" & CHAR(10)&"児童発達支援管理責任者",基本情報入力シート!L94,IF(基本情報入力シート!D98="【児童発達支援（重心）】" & CHAR(10)&"児童発達支援管理責任者",基本情報入力シート!L102,IF(基本情報入力シート!D106="【児童発達支援（重心）】" & CHAR(10)&"児童発達支援管理責任者",基本情報入力シート!L110,"")))))))
C25: =IF(E4="○",IF(基本情報入力シート!D66="【児童発達支援センター】" & CHAR(10)&"児童発達支援管理責任者",基本情報入力シート!L71,IF(基本情報入力シート!D74="【児童発達支援センター】" & CHAR(10)&"児童発達支援管理責任者",基本情報入力シート!L79,IF(基本情報入力シート!D82="【児童発達支援センター】" & CHAR(10)&"児童発達支援管理責任者",基本情報入力シート!L87,IF(基本情報入力シート!D90="【児童発達支援センター】" & CHAR(10)&"児童発達支援管理責任者",基本情報入力シート!L95,IF(基本情報入力シート!D98="【児童発達支援センター】" & CHAR(10)&"児童発達支援管理責任者",基本情報入力シート!L103,IF(基本情報入力シート!D106="【児童発達支援センター】" & CHAR(10)&"児童発達支援管理責任者",基本情報入力シート!L111,"")))))),IF(基本情報入力シート!D66="【児童発達支援（重心）】" & CHAR(10)&"児童発達支援管理責任者",基本情報入力シート!L71,IF(基本情報入力シート!D74="【児童発達支援（重心）】" & CHAR(10)&"児童発達支援管理責任者",基本情報入力シート!L79,IF(基本情報入力シート!D82="【児童発達支援（重心）】" & CHAR(10)&"児童発達支援管理責任者",基本情報入力シート!L87,IF(基本情報入力シート!D90="【児童発達支援（重心）】" & CHAR(10)&"児童発達支援管理責任者",基本情報入力シート!L95,IF(基本情報入力シート!D98="【児童発達支援（重心）】" & CHAR(10)&"児童発達支援管理責任者",基本情報入力シート!L103,IF(基本情報入力シート!D106="【児童発達支援（重心）】" & CHAR(10)&"児童発達支援管理責任者",基本情報入力シート!L111,"")))))))
A26: 実施主体が地方公共団体である場合は、当該事業の実施について定めてある条例等 | H26: 第 条 第 項 第 号
A27: ○運営・設備に関する基準の確認に必要な事項
A28: 利用定員(人)
A29: 利用者の推定数(人)
A30: 営業日(該当する日に○) | C30: 日 | D30: 月 | E30: 火 | F30: 水 | G30: 木 | H30: 金 | J30: 土 | L30: 祝
C32: その他(年末年始等)
A33: 営業時間 | C33: 平日 | E33: ： | G33: ～ | J33: ：
C34: 土曜 | E34: ： | G34: ～ | J34: ：
C35: 日・祝 | E35: ： | G35: ～ | J35: ：
A36: 送迎の有無 | C36: 有 | E36: 無 | F36: =IF(D36="○","","○") -> ○
A37: 利用料 | C37: こども家庭庁長官が定める基準による額
A38: その他の費用
A39: 通常の事業の実施地域 | C39: 杉並区
A40: 協力医療機関 | C40: 名称 | D40: =基本情報入力シート!L116 -> 0 | G40: 主な診療科名 | I40: =基本情報入力シート!L117 -> 0
A41: ○一体的に実施する従たる事業所の指定等に係る記載事項 従たる事業所の指定等を受ける場合は、以下に記載してください。
A42: 事業所 | B42: フリガナ
B43: 名 称
...

Sheet 付表16_放課後等デイサービス（重心外）
A1: 付表16 放課後等デイサービス事業所の指定等に係る記載事項
B2: 主として通わせる児童の障害の種別 （重症心身障害児以外）
A3: サービス種別(申請する種別に○) | F3: 児童発達支援 | H3: =IF(COUNTIF(基本情報入力シート!L50:Z55,"放課後等デイサービス（重心外）")>0,"○","") | J3: 放課後等デイサービス
A4: 児童発達支援センターに該当するか （該当する場合は、○）
A6: 事業所 | B6: フリガナ | C6: =基本情報入力シート!L44 -> 0
B7: 名 称 | C7: =基本情報入力シート!L45 -> 0
B8: 所在地 | C8: (郵便番号 | D8: =基本情報入力シート!L46 -> 0 | E8: - | F8: =基本情報入力シート!T46 -> 0 | G8: )
C9: =基本情報入力シート!L47 -> 0
C10: =基本情報入力シート!L48 -> 0
B11: 電話番号 | C11: =基本情報入力シート!L56 -> 0
B12: E-Mail | C12: =基本情報入力シート!L58 -> 0
A13: 管理者 | B13: フリガナ | C13: =基本情報入力シート!L60 -> 0 | F13: 生年月日 | G13: =基本情報入力シート!L65 -> 0
B14: 氏 名 | C14: =基本情報入力シート!L59 -> 0
B15: 住 所 | C15: (郵便番号 | D15: =基本情報入力シート!L61 -> 0 | E15: - | F15: =基本情報入力シート!T61 -> 0 | G15: )
C16: =基本情報入力シート!L62 -> 0
C17: =基本情報入力シート!L63 -> 0
B18: 他の事業所又は施設の従業者との兼務(兼務の場合記入) | D18: 事業所等の名称
D19: 兼務する職種及び勤務時間等
A21: 児童発達支援管理責任者 | B21: フリガナ | C21: =IF(基本情報入力シート!D66="【放課後等デイサービス（重心外）】" & CHAR(10)&"児童発達支援管理責任者",基本情報入力シート!L68,IF(基本情報入力シート!D74="【放課後等デイサービス（重心外）】" & CHAR(10)&"児童発達支援管理責任者",基本情報入力シート!L76,IF(基本情報入力シート!D82="【放課後等デイサービス（重心外）】" & CHAR(10)&"児童発達支援管理責任者",基本情報入力シート!L84,IF(基本情報入力シート!D90="【放課後等デイサービス（重心外）】" & CHAR(10)&"児童発達支援管理責任者",基本情報入力シート!L92,IF(基本情報入力シート!D98="【放課後等デイサービス（重心外）】" & CHAR(10)&"児童発達支援管理責任者",基本情報入力シート!L100,IF(基本情報入力シート!D106="【放課後等デイサービス（重心外）】" & CHAR(10)&"児童発達支援管理責任者",基本情報入力シート!L108,"")))))) | F21: 生年月日 | G21: =IF(基本情報入力シート!D66="【放課後等デイサービス（重心外）】" & CHAR(10)&"児童発達支援管理責任者",基本情報入力シート!L73,IF(基本情報入力シート!D74="【放課後等デイサービス（重心外）】" & CHAR(10)&"児童発達支援管理責任者",基本情報入力シート!L81,IF(基本情報入力シート!D82="【放課後等デイサービス（重心外）】" & CHAR(10)&"児童発達支援管理責任者",基本情報入力シート!L89,IF(基本情報入力シート!D90="【放課後等デイサービス（重心外）】" & CHAR(10)&"児童発達支援管理責任者",基本情報入力シート!L97,IF(基本情報入力シート!D98="【放課後等デイサービス（重心外）】" & CHAR(10)&"児童発達支援管理責任者",基本情報入力シート!L105,IF(基本情報入力シート!D106="【放課後等デイサービス（重心外）】" & CHAR(10)&"児童発達支援管理責任者",基本情報入力シート!L113," 年 月 日")))))) -> 年 月 日
B22: 氏 名 | C22: =IF(基本情報入力シート!D66="【放課後等デイサービス（重心外）】" & CHAR(10)&"児童発達支援管理責任者",基本情報入力シート!L67,IF(基本情報入力シート!D74="【放課後等デイサービス（重心外）】" & CHAR(10)&"児童発達支援管理責任者",基本情報入力シート!L75,IF(基本情報入力シート!D82="【放課後等デイサービス（重心外）】" & CHAR(10)&"児童発達支援管理責任者",基本情報入力シート!L83,IF(基本情報入力シート!D90="【放課後等デイサービス（重心外）】" & CHAR(10)&"児童発達支援管理責任者",基本情報入力シート!L91,IF(基本情報入力シート!D98="【放課後等デイサービス（重心外）】" & CHAR(10)&"児童発達支援管理責任者",基本情報入力シート!L99,IF(基本情報入力シート!D106="【放課後等デイサービス（重心外）】" & CHAR(10)&"児童発達支援管理責任者",基本情報入力シート!L107,""))))))
B23: 住 所 | C23: (郵便番号 | D23: =IF(基本情報入力シート!D66="【放課後等デイサービス（重心外）】" & CHAR(10)&"児童発達支援管理責任者",基本情報入力シート!L69,IF(基本情報入力シート!D74="【放課後等デイサービス（重心外）】" & CHAR(10)&"児童発達支援管理責任者",基本情報入力シート!L77,IF(基本情報入力シート!D82="【放課後等デイサービス（重心外）】" & CHAR(10)&"児童発達支援管理責任者",基本情報入力シート!L85,IF(基本情報入力シート!D90="【放課後等デイサービス（重心外）】" & CHAR(10)&"児童発達支援管理責任者",基本情報入力シート!L93,IF(基本情報入力シート!D98="【放課後等デイサービス（重心外）】" & CHAR(10)&"児童発達支援管理責任者",基本情報入力シート!L101,IF(基本情報入力シート!D106="【放課後等デイサービス（重心外）】" & CHAR(10)&"児童発達支援管理責任者",基本情報入力シート!L109,"")))))) | E23: - | F23: =IF(基本情報入力シート!D66="【放課後等デイサービス（重心外）】" & CHAR(10)&"児童発達支援管理責任者",基本情報入力シート!T69,IF(基本情報入力シート!D74="【放課後等デイサービス（重心外）】" & CHAR(10)&"児童発達支援管理責任者",基本情報入力シート!T77,IF(基本情報入力シート!D82="【放課後等デイサービス（重心外）】" & CHAR(10)&"児童発達支援管理責任者",基本情報入力シート!T85,IF(基本情報入力シート!D90="【放課後等デイサービス（重心外）】" & CHAR(10)&"児童発達支援管理責任者",基本情報入力シート!T93,IF(基本情報入力シート!D98="【放課後等デイサービス（重心外）】" & CHAR(10)&"児童発達支援管理責任者",基本情報入力シート!T101,IF(基本情報入力シート!D106="【放課後等デイサービス（重心外）】" & CHAR(10)&"児童発達支援管理責任者",基本情報入力シート!T109,"")))))) | G23: )
C24: =IF(基本情報入力シート!D66="【放課後等デイサービス（重心外）】" & CHAR(10)&"児童発達支援管理責任者",基本情報入力シート!L70,IF(基本情報入力シート!D74="【放課後等デイサービス（重心外）】" & CHAR(10)&"児童発達支援管理責任者",基本情報入力シート!L78,IF(基本情報入力シート!D82="【放課後等デイサービス（重心外）】" & CHAR(10)&"児童発達支援管理責任者",基本情報入力シート!L86,IF(基本情報入力シート!D90="【放課後等デイサービス（重心外）】" & CHAR(10)&"児童発達支援管理責任者",基本情報入力シート!L94,IF(基本情報入力シート!D98="【放課後等デイサービス（重心外）】" & CHAR(10)&"児童発達支援管理責任者",基本情報入力シート!L102,IF(基本情報入力シート!D106="【放課後等デイサービス（重心外）】" & CHAR(10)&"児童発達支援管理責任者",基本情報入力シート!L110,""))))))
C25: =IF(基本情報入力シート!D66="【放課後等デイサービス（重心外）】" & CHAR(10)&"児童発達支援管理責任者",基本情報入力シート!L71,IF(基本情報入力シート!D74="【放課後等デイサービス（重心外）】" & CHAR(10)&"児童発達支援管理責任者",基本情報入力シート!L79,IF(基本情報入力シート!D82="【放課後等デイサービス（重心外）】" & CHAR(10)&"児童発達支援管理責任者",基本情報入力シート!L87,IF(基本情報入力シート!D90="【放課後等デイサービス（重心外）】" & CHAR(10)&"児童発達支援管理責任者",基本情報入力シート!L95,IF(基本情報入力シート!D98="【放課後等デイサービス（重心外）】" & CHAR(10)&"児童発達支援管理責任者",基本情報入力シート!L103,IF(基本情報入力シート!D106="【放課後等デイサービス（重心外）】" & CHAR(10)&"児童発達支援管理責任者",基本情報入力シート!L111,""))))))
A26: 実施主体が地方公共団体である場合は、当該事業の実施について定めてある条例等 | H26: 第 条 第 項 第 号
A27: ○運営・設備に関する基準の確認に必要な事項
A28: 利用定員(人)
A29: 利用者の推定数(人)
A30: 営業日(該当する日に○) | C30: 日 | D30: 月 | E30: 火 | F30: 水 | G30: 木 | H30: 金 | J30: 土 | L30: 祝
C32: その他(年末年始等)
A33: 営業時間 | C33: 平日 | E33: ： | G33: ～ | J33: ：
C34: 土曜 | E34: ： | G34: ～ | J34: ：
C35: 日・祝 | E35: ： | G35: ～ | J35: ：
A36: 送迎の有無 | C36: 有 | E36: 無 | F36: =IF(D36="○","","○") -> ○
A37: 利用料 | C37: こども家庭庁長官が定める基準による額
A38: その他の費用
A39: 通常の事業の実施地域 | C39: 杉並区
A40: 協力医療機関 | C40: 名称 | D40: =基本情報入力シート!L116 -> 0 | G40: 主な診療科名 | I40: =基本情報入力シート!L117 -> 0
A41: ○一体的に実施する従たる事業所の指定等に係る記載事項 従たる事業所の指定等を受ける場合は、以下に記載してください。
A42: 事業所 | B42: フリガナ
B43: 名 称
...

Sheet 付表16_放課後等デイサービス（重心）
A1: 付表16 放課後等デイサービス事業所の指定等に係る記載事項
B2: 主として通わせる児童の障害の種別 （重症心身障害児）
A3: サービス種別(申請する種別に○) | F3: 児童発達支援 | H3: =IF(COUNTIF(基本情報入力シート!L50:Z55,"放課後等デイサービス")>0,"○","") | J3: 放課後等デイサービス
A4: 児童発達支援センターに該当するか （該当する場合は、○）
A6: 事業所 | B6: フリガナ | C6: =基本情報入力シート!L44 -> 0
B7: 名 称 | C7: =基本情報入力シート!L45 -> 0
B8: 所在地 | C8: (郵便番号 | D8: =基本情報入力シート!L46 -> 0 | E8: - | F8: =基本情報入力シート!T46 -> 0 | G8: )
C9: =基本情報入力シート!L47 -> 0
C10: =基本情報入力シート!L48 -> 0
B11: 電話番号 | C11: =基本情報入力シート!L56 -> 0
B12: E-Mail | C12: =基本情報入力シート!L58 -> 0
A13: 管理者 | B13: フリガナ | C13: =基本情報入力シート!L60 -> 0 | F13: 生年月日 | G13: =基本情報入力シート!L65 -> 0
B14: 氏 名 | C14: =基本情報入力シート!L59 -> 0
B15: 住 所 | C15: (郵便番号 | D15: =基本情報入力シート!L61 -> 0 | E15: - | F15: =基本情報入力シート!T61 -> 0 | G15: )
C16: =基本情報入力シート!L62 -> 0
C17: =基本情報入力シート!L63 -> 0
B18: 他の事業所又は施設の従業者との兼務(兼務の場合記入) | D18: 事業所等の名称
D19: 兼務する職種及び勤務時間等
A21: 児童発達支援管理責任者 | B21: フリガナ | C21: =IF(基本情報入力シート!D66="【放課後等デイサービス（重心）】" & CHAR(10)&"児童発達支援管理責任者",基本情報入力シート!L68,IF(基本情報入力シート!D74="【放課後等デイサービス（重心）】" & CHAR(10)&"児童発達支援管理責任者",基本情報入力シート!L76,IF(基本情報入力シート!D82="【放課後等デイサービス（重心）】" & CHAR(10)&"児童発達支援管理責任者",基本情報入力シート!L84,IF(基本情報入力シート!D90="【放課後等デイサービス（重心）】" & CHAR(10)&"児童発達支援管理責任者",基本情報入力シート!L92,IF(基本情報入力シート!D98="【放課後等デイサービス（重心）】" & CHAR(10)&"児童発達支援管理責任者",基本情報入力シート!L100,IF(基本情報入力シート!D106="【放課後等デイサービス（重心）】" & CHAR(10)&"児童発達支援管理責任者",基本情報入力シート!L108,"")))))) | F21: 生年月日 | G21: =IF(基本情報入力シート!D66="【放課後等デイサービス（重心）】" & CHAR(10)&"児童発達支援管理責任者",基本情報入力シート!L73,IF(基本情報入力シート!D74="【放課後等デイサービス（重心）】" & CHAR(10)&"児童発達支援管理責任者",基本情報入力シート!L81,IF(基本情報入力シート!D82="【放課後等デイサービス（重心）】" & CHAR(10)&"児童発達支援管理責任者",基本情報入力シート!L89,IF(基本情報入力シート!D90="【放課後等デイサービス（重心）】" & CHAR(10)&"児童発達支援管理責任者",基本情報入力シート!L97,IF(基本情報入力シート!D98="【放課後等デイサービス（重心）】" & CHAR(10)&"児童発達支援管理責任者",基本情報入力シート!L105,IF(基本情報入力シート!D106="【放課後等デイサービス（重心）】" & CHAR(10)&"児童発達支援管理責任者",基本情報入力シート!L113," 年 月 日")))))) -> 年 月 日
B22: 氏 名 | C22: =IF(基本情報入力シート!D66="【放課後等デイサービス（重心）】" & CHAR(10)&"児童発達支援管理責任者",基本情報入力シート!L67,IF(基本情報入力シート!D74="【放課後等デイサービス（重心）】" & CHAR(10)&"児童発達支援管理責任者",基本情報入力シート!L75,IF(基本情報入力シート!D82="【放課後等デイサービス（重心）】" & CHAR(10)&"児童発達支援管理責任者",基本情報入力シート!L83,IF(基本情報入力シート!D90="【放課後等デイサービス（重心）】" & CHAR(10)&"児童発達支援管理責任者",基本情報入力シート!L91,IF(基本情報入力シート!D98="【放課後等デイサービス（重心）】" & CHAR(10)&"児童発達支援管理責任者",基本情報入力シート!L99,IF(基本情報入力シート!D106="【放課後等デイサービス（重心）】" & CHAR(10)&"児童発達支援管理責任者",基本情報入力シート!L107,""))))))
B23: 住 所 | C23: (郵便番号 | D23: =IF(基本情報入力シート!D66="【放課後等デイサービス（重心）】" & CHAR(10)&"児童発達支援管理責任者",基本情報入力シート!L69,IF(基本情報入力シート!D74="【放課後等デイサービス（重心）】" & CHAR(10)&"児童発達支援管理責任者",基本情報入力シート!L77,IF(基本情報入力シート!D82="【放課後等デイサービス（重心）】" & CHAR(10)&"児童発達支援管理責任者",基本情報入力シート!L85,IF(基本情報入力シート!D90="【放課後等デイサービス（重心）】" & CHAR(10)&"児童発達支援管理責任者",基本情報入力シート!L93,IF(基本情報入力シート!D98="【放課後等デイサービス（重心）】" & CHAR(10)&"児童発達支援管理責任者",基本情報入力シート!L101,IF(基本情報入力シート!D106="【放課後等デイサービス（重心）】" & CHAR(10)&"児童発達支援管理責任者",基本情報入力シート!L109,"")))))) | E23: - | F23: =IF(基本情報入力シート!D66="【放課後等デイサービス（重心）】" & CHAR(10)&"児童発達支援管理責任者",基本情報入力シート!T69,IF(基本情報入力シート!D74="【放課後等デイサービス（重心）】" & CHAR(10)&"児童発達支援管理責任者",基本情報入力シート!T77,IF(基本情報入力シート!D82="【放課後等デイサービス（重心）】" & CHAR(10)&"児童発達支援管理責任者",基本情報入力シート!T85,IF(基本情報入力シート!D90="【放課後等デイサービス（重心）】" & CHAR(10)&"児童発達支援管理責任者",基本情報入力シート!T93,IF(基本情報入力シート!D98="【放課後等デイサービス（重心）】" & CHAR(10)&"児童発達支援管理責任者",基本情報入力シート!T101,IF(基本情報入力シート!D106="【放課後等デイサービス（重心）】" & CHAR(10)&"児童発達支援管理責任者",基本情報入力シート!T109,"")))))) | G23: )
C24: =IF(基本情報入力シート!D66="【放課後等デイサービス（重心）】" & CHAR(10)&"児童発達支援管理責任者",基本情報入力シート!L70,IF(基本情報入力シート!D74="【放課後等デイサービス（重心）】" & CHAR(10)&"児童発達支援管理責任者",基本情報入力シート!L78,IF(基本情報入力シート!D82="【放課後等デイサービス（重心）】" & CHAR(10)&"児童発達支援管理責任者",基本情報入力シート!L86,IF(基本情報入力シート!D90="【放課後等デイサービス（重心）】" & CHAR(10)&"児童発達支援管理責任者",基本情報入力シート!L94,IF(基本情報入力シート!D98="【放課後等デイサービス（重心）】" & CHAR(10)&"児童発達支援管理責任者",基本情報入力シート!L102,IF(基本情報入力シート!D106="【放課後等デイサービス（重心）】" & CHAR(10)&"児童発達支援管理責任者",基本情報入力シート!L110,""))))))
C25: =IF(基本情報入力シート!D66="【放課後等デイサービス（重心）】" & CHAR(10)&"児童発達支援管理責任者",基本情報入力シート!L71,IF(基本情報入力シート!D74="【放課後等デイサービス（重心）】" & CHAR(10)&"児童発達支援管理責任者",基本情報入力シート!L79,IF(基本情報入力シート!D82="【放課後等デイサービス（重心）】" & CHAR(10)&"児童発達支援管理責任者",基本情報入力シート!L87,IF(基本情報入力シート!D90="【放課後等デイサービス（重心）】" & CHAR(10)&"児童発達支援管理責任者",基本情報入力シート!L95,IF(基本情報入力シート!D98="【放課後等デイサービス（重心）】" & CHAR(10)&"児童発達支援管理責任者",基本情報入力シート!L103,IF(基本情報入力シート!D106="【放課後等デイサービス（重心）】" & CHAR(10)&"児童発達支援管理責任者",基本情報入力シート!L111,""))))))
A26: 実施主体が地方公共団体である場合は、当該事業の実施について定めてある条例等 | H26: 第 条 第 項 第 号
A27: ○運営・設備に関する基準の確認に必要な事項
A28: 利用定員(人)
A29: 利用者の推定数(人)
A30: 営業日(該当する日に○) | C30: 日 | D30: 月 | E30: 火 | F30: 水 | G30: 木 | H30: 金 | J30: 土 | L30: 祝
C32: その他(年末年始等)
A33: 営業時間 | C33: 平日 | E33: ： | G33: ～ | J33: ：
C34: 土曜 | E34: ： | G34: ～ | J34: ：
C35: 日・祝 | E35: ： | G35: ～ | J35: ：
A36: 送迎の有無 | C36: 有 | E36: 無 | F36: =IF(D36="○","","○") -> ○
A37: 利用料 | C37: こども家庭庁長官が定める基準による額
A38: その他の費用
A39: 通常の事業の実施地域 | C39: 杉並区
A40: 協力医療機関 | C40: 名称 | D40: =基本情報入力シート!L116 -> 0 | G40: 主な診療科名 | I40: =基本情報入力シート!L117 -> 0
A41: ○一体的に実施する従たる事業所の指定等に係る記載事項 従たる事業所の指定等を受ける場合は、以下に記載してください。
A42: 事業所 | B42: フリガナ
B43: 名 称
...

Sheet 付表17_居宅訪問型児童発達支援
A1: 付表17 居宅訪問型児童発達支援事業所の指定等に係る記載事項
A3: 事業所 | B3: フリガナ | C3: =基本情報入力シート!L44 -> 0
B4: 名 称 | C4: =基本情報入力シート!L45 -> 0
B5: 所在地 | C5: (郵便番号 | D5: =基本情報入力シート!L46 -> 0 | E5: - | F5: =基本情報入力シート!T46 -> 0 | G5: )
C6: =基本情報入力シート!L47 -> 0
B8: 電話番号 | C8: =基本情報入力シート!L56 -> 0
B9: E-Mail | C9: =基本情報入力シート!L58 -> 0
A10: 管理者 | B10: フリガナ | C10: =基本情報入力シート!L60 -> 0 | F10: 生年月日 | G10: =基本情報入力シート!L65 -> 0
B11: 氏 名 | C11: =基本情報入力シート!L59 -> 0
B12: 住 所 | C12: (郵便番号 | D12: =基本情報入力シート!L61 -> 0 | E12: - | F12: =基本情報入力シート!T61 -> 0 | G12: )
C13: =基本情報入力シート!L62 -> 0
C14: =基本情報入力シート!L63 -> 0
B15: 他の事業所又は施設の従業者との兼務(兼務の場合記入) | D15: 事業所等の名称
D16: 兼務する職種及び勤務時間等
A18: 児童発達支援管理責任者 | B18: フリガナ | C18: =IF(基本情報入力シート!D66="【居宅訪問型児童発達支援】" & CHAR(10)&"児童発達支援管理責任者",基本情報入力シート!L68,IF(基本情報入力シート!D74="【居宅訪問型児童発達支援】" & CHAR(10)&"児童発達支援管理責任者",基本情報入力シート!L76,IF(基本情報入力シート!D82="【居宅訪問型児童発達支援】" & CHAR(10)&"児童発達支援管理責任者",基本情報入力シート!L84,IF(基本情報入力シート!D90="【居宅訪問型児童発達支援】" & CHAR(10)&"児童発達支援管理責任者",基本情報入力シート!L92,IF(基本情報入力シート!D98="【居宅訪問型児童発達支援】" & CHAR(10)&"児童発達支援管理責任者",基本情報入力シート!L100,IF(基本情報入力シート!D106="【居宅訪問型児童発達支援】" & CHAR(10)&"児童発達支援管理責任者",基本情報入力シート!L108,"")))))) | F18: 生年月日 | G18: =IF(基本情報入力シート!D66="【居宅訪問型児童発達支援】" & CHAR(10)&"児童発達支援管理責任者",基本情報入力シート!L73,IF(基本情報入力シート!D74="【居宅訪問型児童発達支援】" & CHAR(10)&"児童発達支援管理責任者",基本情報入力シート!L81,IF(基本情報入力シート!D82="【居宅訪問型児童発達支援】" & CHAR(10)&"児童発達支援管理責任者",基本情報入力シート!L89,IF(基本情報入力シート!D90="【居宅訪問型児童発達支援】" & CHAR(10)&"児童発達支援管理責任者",基本情報入力シート!L97,IF(基本情報入力シート!D98="【居宅訪問型児童発達支援】" & CHAR(10)&"児童発達支援管理責任者",基本情報入力シート!L105,IF(基本情報入力シート!D106="【居宅訪問型児童発達支援】" & CHAR(10)&"児童発達支援管理責任者",基本情報入力シート!L113," 年 月 日")))))) -> 年 月 日
B19: 氏 名 | C19: =IF(基本情報入力シート!D66="【居宅訪問型児童発達支援】" & CHAR(10)&"児童発達支援管理責任者",基本情報入力シート!L67,IF(基本情報入力シート!D74="【居宅訪問型児童発達支援】" & CHAR(10)&"児童発達支援管理責任者",基本情報入力シート!L75,IF(基本情報入力シート!D82="【居宅訪問型児童発達支援】" & CHAR(10)&"児童発達支援管理責任者",基本情報入力シート!L83,IF(基本情報入力シート!D90="【居宅訪問型児童発達支援】" & CHAR(10)&"児童発達支援管理責任者",基本情報入力シート!L91,IF(基本情報入力シート!D98="【居宅訪問型児童発達支援】" & CHAR(10)&"児童発達支援管理責任者",基本情報入力シート!L99,IF(基本情報入力シート!D106="【居宅訪問型児童発達支援】" & CHAR(10)&"児童発達支援管理責任者",基本情報入力シート!L107,""))))))
B20: 住 所 | C20: (郵便番号 | D20: =IF(基本情報入力シート!D66="【居宅訪問型児童発達支援】" & CHAR(10)&"児童発達支援管理責任者",基本情報入力シート!L69,IF(基本情報入力シート!D74="【居宅訪問型児童発達支援】" & CHAR(10)&"児童発達支援管理責任者",基本情報入力シート!L77,IF(基本情報入力シート!D82="【居宅訪問型児童発達支援】" & CHAR(10)&"児童発達支援管理責任者",基本情報入力シート!L85,IF(基本情報入力シート!D90="【居宅訪問型児童発達支援】" & CHAR(10)&"児童発達支援管理責任者",基本情報入力シート!L93,IF(基本情報入力シート!D98="【居宅訪問型児童発達支援】" & CHAR(10)&"児童発達支援管理責任者",基本情報入力シート!L101,IF(基本情報入力シート!D106="【居宅訪問型児童発達支援】" & CHAR(10)&"児童発達支援管理責任者",基本情報入力シート!L109,"")))))) | E20: - | F20: =IF(基本情報入力シート!D66="【居宅訪問型児童発達支援】" & CHAR(10)&"児童発達支援管理責任者",基本情報入力シート!T69,IF(基本情報入力シート!D74="【居宅訪問型児童発達支援】" & CHAR(10)&"児童発達支援管理責任者",基本情報入力シート!T77,IF(基本情報入力シート!D82="【居宅訪問型児童発達支援】" & CHAR(10)&"児童発達支援管理責任者",基本情報入力シート!T85,IF(基本情報入力シート!D90="【居宅訪問型児童発達支援】" & CHAR(10)&"児童発達支援管理責任者",基本情報入力シート!T93,IF(基本情報入力シート!D98="【居宅訪問型児童発達支援】" & CHAR(10)&"児童発達支援管理責任者",基本情報入力シート!T101,IF(基本情報入力シート!D106="【居宅訪問型児童発達支援】" & CHAR(10)&"児童発達支援管理責任者",基本情報入力シート!T109,"")))))) | G20: )
C21: =IF(基本情報入力シート!D66="【居宅訪問型児童発達支援】" & CHAR(10)&"児童発達支援管理責任者",基本情報入力シート!L70,IF(基本情報入力シート!D74="【居宅訪問型児童発達支援】" & CHAR(10)&"児童発達支援管理責任者",基本情報入力シート!L78,IF(基本情報入力シート!D82="【居宅訪問型児童発達支援】" & CHAR(10)&"児童発達支援管理責任者",基本情報入力シート!L86,IF(基本情報入力シート!D90="【居宅訪問型児童発達支援】" & CHAR(10)&"児童発達支援管理責任者",基本情報入力シート!L94,IF(基本情報入力シート!D98="【居宅訪問型児童発達支援】" & CHAR(10)&"児童発達支援管理責任者",基本情報入力シート!L102,IF(基本情報入力シート!D106="【居宅訪問型児童発達支援】" & CHAR(10)&"児童発達支援管理責任者",基本情報入力シート!L110,""))))))
C22: =IF(基本情報入力シート!D66="【居宅訪問型児童発達支援】" & CHAR(10)&"児童発達支援管理責任者",基本情報入力シート!L71,IF(基本情報入力シート!D74="【居宅訪問型児童発達支援】" & CHAR(10)&"児童発達支援管理責任者",基本情報入力シート!L79,IF(基本情報入力シート!D82="【居宅訪問型児童発達支援】" & CHAR(10)&"児童発達支援管理責任者",基本情報入力シート!L87,IF(基本情報入力シート!D90="【居宅訪問型児童発達支援】" & CHAR(10)&"児童発達支援管理責任者",基本情報入力シート!L95,IF(基本情報入力シート!D98="【居宅訪問型児童発達支援】" & CHAR(10)&"児童発達支援管理責任者",基本情報入力シート!L103,IF(基本情報入力シート!D106="【居宅訪問型児童発達支援】" & CHAR(10)&"児童発達支援管理責任者",基本情報入力シート!L111,""))))))
A23: 実施主体が地方公共団体である場合は、当該事業の実施について定めてある条例等 | H23: 第 条 第 項 第 号
A24: ○運営・設備に関する基準の確認に必要な事項
A25: 専用の区画の有無 | C25: 有 | E25: 無 | F25: =IF(D25="○","","○") -> ○
A26: 営業日(該当する日に○) | C26: 日 | D26: 月 | E26: 火 | F26: 水 | G26: 木 | H26: 金 | J26: 土 | L26: 祝
C28: その他(年末年始等)
A29: 営業時間 | C29: 平日 | E29: ： | G29: ～ | J29: ：
C30: 土曜 | E30: ： | G30: ～ | J30: ：
C31: 日・祝 | E31: ： | G31: ～ | J31: ：
A32: 利用料 | C32: こども家庭庁長官が定める基準による額
A33: その他の費用
A34: 通常の事業の実施地域 | C34: 杉並区
A35: 協力医療機関 | C35: 名称 | D35: =基本情報入力シート!L116 -> 0 | G35: 主な診療科名 | I35: =基本情報入力シート!L117 -> 0
A36: (備考)
A37: １．記入欄が不足する場合は、次頁の「記入欄不足時の資料」に記載して添付してください。
A38: ２．「その他の費用」欄には、利用者に直接金銭の負担を求める場合のサービス内容についても記載してく ださい。
A39: 記入欄不足時の資料
A40: ■児童発達支援管理責任者 児童発達管理責任者を複数配置する場合には、以下に記載してください。
A41: 児童発達支援管理責任者 | B41: フリガナ | F41: 生年月日
B42: 氏 名 | H42: 年 | J42: 月 | L42: 日
B43: 住 所 | C43: (郵便番号 | E43: - | G43: )
D44: 都 | F44: 区
...

Sheet 付表18_保育所等訪問支援
A1: 付表18 保育所等訪問支援事業所の指定等に係る記載事項
A3: 事業所 | B3: フリガナ | C3: =基本情報入力シート!L44 -> 0
B4: 名 称 | C4: =基本情報入力シート!L45 -> 0
B5: 所在地 | C5: (郵便番号 | D5: =基本情報入力シート!L46 -> 0 | E5: - | F5: =基本情報入力シート!T46 -> 0 | G5: )
C6: =基本情報入力シート!L47 -> 0
B8: 電話番号 | C8: =基本情報入力シート!L56 -> 0
B9: E-Mail | C9: =基本情報入力シート!L58 -> 0
A10: 管理者 | B10: フリガナ | C10: =基本情報入力シート!L60 -> 0 | F10: 生年月日 | G10: =基本情報入力シート!L65 -> 0
B11: 氏 名 | C11: =基本情報入力シート!L59 -> 0
B12: 住 所 | C12: (郵便番号 | D12: =基本情報入力シート!L61 -> 0 | E12: - | F12: =基本情報入力シート!T61 -> 0 | G12: )
C13: =基本情報入力シート!L62 -> 0
C14: =基本情報入力シート!L63 -> 0
B15: 他の事業所又は施設の従業者との兼務(兼務の場合記入) | D15: 事業所等の名称
D16: 兼務する職種及び勤務時間等
A18: 児童発達支援管理責任者 | B18: フリガナ | C18: =IF(基本情報入力シート!D66="【保育所等訪問支援】" & CHAR(10)&"児童発達支援管理責任者",基本情報入力シート!L68,IF(基本情報入力シート!D74="【保育所等訪問支援】" & CHAR(10)&"児童発達支援管理責任者",基本情報入力シート!L76,IF(基本情報入力シート!D82="【保育所等訪問支援】" & CHAR(10)&"児童発達支援管理責任者",基本情報入力シート!L84,IF(基本情報入力シート!D90="【保育所等訪問支援】" & CHAR(10)&"児童発達支援管理責任者",基本情報入力シート!L92,IF(基本情報入力シート!D98="【保育所等訪問支援】" & CHAR(10)&"児童発達支援管理責任者",基本情報入力シート!L100,IF(基本情報入力シート!D106="【保育所等訪問支援】" & CHAR(10)&"児童発達支援管理責任者",基本情報入力シート!L108,"")))))) | F18: 生年月日 | G18: =IF(基本情報入力シート!D66="【保育所等訪問支援】" & CHAR(10)&"児童発達支援管理責任者",基本情報入力シート!L73,IF(基本情報入力シート!D74="【保育所等訪問支援】" & CHAR(10)&"児童発達支援管理責任者",基本情報入力シート!L81,IF(基本情報入力シート!D82="【保育所等訪問支援】" & CHAR(10)&"児童発達支援管理責任者",基本情報入力シート!L89,IF(基本情報入力シート!D90="【保育所等訪問支援】" & CHAR(10)&"児童発達支援管理責任者",基本情報入力シート!L97,IF(基本情報入力シート!D98="【保育所等訪問支援】" & CHAR(10)&"児童発達支援管理責任者",基本情報入力シート!L105,IF(基本情報入力シート!D106="【保育所等訪問支援】" & CHAR(10)&"児童発達支援管理責任者",基本情報入力シート!L113," 年 月 日")))))) -> 年 月 日
B19: 氏 名 | C19: =IF(基本情報入力シート!D66="【保育所等訪問支援】" & CHAR(10)&"児童発達支援管理責任者",基本情報入力シート!L67,IF(基本情報入力シート!D74="【保育所等訪問支援】" & CHAR(10)&"児童発達支援管理責任者",基本情報入力シート!L75,IF(基本情報入力シート!D82="【保育所等訪問支援】" & CHAR(10)&"児童発達支援管理責任者",基本情報入力シート!L83,IF(基本情報入力シート!D90="【保育所等訪問支援】" & CHAR(10)&"児童発達支援管理責任者",基本情報入力シート!L91,IF(基本情報入力シート!D98="【保育所等訪問支援】" & CHAR(10)&"児童発達支援管理責任者",基本情報入力シート!L99,IF(基本情報入力シート!D106="【保育所等訪問支援】" & CHAR(10)&"児童発達支援管理責任者",基本情報入力シート!L107,""))))))
B20: 住 所 | C20: (郵便番号 | D20: =IF(基本情報入力シート!D66="【保育所等訪問支援】" & CHAR(10)&"児童発達支援管理責任者",基本情報入力シート!L69,IF(基本情報入力シート!D74="【保育所等訪問支援】" & CHAR(10)&"児童発達支援管理責任者",基本情報入力シート!L77,IF(基本情報入力シート!D82="【保育所等訪問支援】" & CHAR(10)&"児童発達支援管理責任者",基本情報入力シート!L85,IF(基本情報入力シート!D90="【保育所等訪問支援】" & CHAR(10)&"児童発達支援管理責任者",基本情報入力シート!L93,IF(基本情報入力シート!D98="【保育所等訪問支援】" & CHAR(10)&"児童発達支援管理責任者",基本情報入力シート!L101,IF(基本情報入力シート!D106="【保育所等訪問支援】" & CHAR(10)&"児童発達支援管理責任者",基本情報入力シート!L109,"")))))) | E20: - | F20: =IF(基本情報入力シート!D66="【保育所等訪問支援】" & CHAR(10)&"児童発達支援管理責任者",基本情報入力シート!T69,IF(基本情報入力シート!D74="【保育所等訪問支援】" & CHAR(10)&"児童発達支援管理責任者",基本情報入力シート!T77,IF(基本情報入力シート!D82="【保育所等訪問支援】" & CHAR(10)&"児童発達支援管理責任者",基本情報入力シート!T85,IF(基本情報入力シート!D90="【保育所等訪問支援】" & CHAR(10)&"児童発達支援管理責任者",基本情報入力シート!T93,IF(基本情報入力シート!D98="【保育所等訪問支援】" & CHAR(10)&"児童発達支援管理責任者",基本情報入力シート!T101,IF(基本情報入力シート!D106="【保育所等訪問支援】" & CHAR(10)&"児童発達支援管理責任者",基本情報入力シート!T109,"")))))) | G20: )
C21: =IF(基本情報入力シート!D66="【保育所等訪問支援】" & CHAR(10)&"児童発達支援管理責任者",基本情報入力シート!L70,IF(基本情報入力シート!D74="【保育所等訪問支援】" & CHAR(10)&"児童発達支援管理責任者",基本情報入力シート!L78,IF(基本情報入力シート!D82="【保育所等訪問支援】" & CHAR(10)&"児童発達支援管理責任者",基本情報入力シート!L86,IF(基本情報入力シート!D90="【保育所等訪問支援】" & CHAR(10)&"児童発達支援管理責任者",基本情報入力シート!L94,IF(基本情報入力シート!D98="【保育所等訪問支援】" & CHAR(10)&"児童発達支援管理責任者",基本情報入力シート!L102,IF(基本情報入力シート!D106="【保育所等訪問支援】" & CHAR(10)&"児童発達支援管理責任者",基本情報入力シート!L110,""))))))
C22: =IF(基本情報入力シート!D66="【保育所等訪問支援】" & CHAR(10)&"児童発達支援管理責任者",基本情報入力シート!L71,IF(基本情報入力シート!D74="【保育所等訪問支援】" & CHAR(10)&"児童発達支援管理責任者",基本情報入力シート!L79,IF(基本情報入力シート!D82="【保育所等訪問支援】" & CHAR(10)&"児童発達支援管理責任者",基本情報入力シート!L87,IF(基本情報入力シート!D90="【保育所等訪問支援】" & CHAR(10)&"児童発達支援管理責任者",基本情報入力シート!L95,IF(基本情報入力シート!D98="【保育所等訪問支援】" & CHAR(10)&"児童発達支援管理責任者",基本情報入力シート!L103,IF(基本情報入力シート!D106="【保育所等訪問支援】" & CHAR(10)&"児童発達支援管理責任者",基本情報入力シート!L111,""))))))
A23: 実施主体が地方公共団体である場合は、当該事業の実施について定めてある条例等 | H23: 第 条 第 項 第 号
A24: ○運営・設備に関する基準の確認に必要な事項
A25: 営業日(該当する日に○) | C25: 日 | D25: 月 | E25: 火 | F25: 水 | G25: 木 | H25: 金 | J25: 土 | L25: 祝
C27: その他(年末年始等)
A28: 営業時間 | C28: 平日 | E28: ： | G28: ～ | J28: ：
C29: 土曜 | E29: ： | G29: ～ | J29: ：
C30: 日・祝 | E30: ： | G30: ～ | J30: ：
A31: 利用料 | C31: こども家庭庁長官が定める基準による額
A32: その他の費用
A33: 通常の事業の実施地域 | C33: 杉並区
A34: (備考)
A35: １．記入欄が不足する場合は、次頁の「記入欄不足時の資料」に記載して添付してください。
A36: ２．「その他の費用」欄には、利用者に直接金銭の負担を求める場合のサービス内容についても記載してく ださい。
A37: 記入欄不足時の資料
A38: ■児童発達支援管理責任者 児童発達管理責任者を複数配置する場合には、以下に記載してください。
A39: 児童発達支援管理責任者 | B39: フリガナ | F39: 生年月日
B40: 氏 名 | H40: 年 | J40: 月 | L40: 日
B41: 住 所 | C41: (郵便番号 | E41: - | G41: )
B44: フリガナ | F44: 生年月日
B45: 氏 名 | H45: 年 | J45: 月 | L45: 日
B46: 住 所 | C46: (郵便番号 | E46: - | G46: )
...

Sheet 様式２（体制等状況一覧表）
B1: 様式２
A2: 障害児通所給付費の算定に係る体制等状況一覧表
A4: 提供サービス | J4: 特例による指定の有無 | O4: 定員規模 （※1） | S4: 施設等区分 | Z4: 主たる障害種別 | AG4: その他該当する体制等
BJ5: 適用開始日
A6: 各サービス共通 | AG6: 地域区分 | AQ6: 11．一級地
A7: 障害児通所給付費 | B7: 児童発達支援 | S7: 選択下さい。 | AG7: 未就学児等支援区分 | AQ7: 選択下さい。 | BJ7: =IF(OR($BJ$6="",AQ7="選択下さい。"),"",$BJ$6)
AG8: 定員超過 | AQ8: 選択下さい。 | BJ8: =IF(OR($BJ$6="",AQ8="選択下さい。"),"",$BJ$6)
AG9: 職員欠如 | AQ9: 選択下さい。 | BJ9: =IF(OR($BJ$6="",AQ9="選択下さい。"),"",$BJ$6)
AG10: 児童発達支援管理責任者欠如 | AQ10: 選択下さい。 | BJ10: =IF(OR($BJ$6="",AQ10="選択下さい。"),"",$BJ$6)
AG11: 開所時間減算 | AQ11: 選択下さい。 | BJ11: =IF(OR($BJ$6="",AQ11="選択下さい。"),"",$BJ$6)
AG12: 開所時間減算区分（※2） | AQ12: 選択下さい。 | BJ12: =IF(OR($BJ$6="",AQ12="選択下さい。"),"",$BJ$6)
AG13: 自己評価結果等未公表減算 | AQ13: 選択下さい。 | BJ13: =IF(OR($BJ$6="",AQ13="選択下さい。"),"",$BJ$6)
AG14: 支援プログラム未公表減算 | AQ14: 選択下さい。 | BJ14: =IF(OR($BJ$6="",AQ14="選択下さい。"),"",$BJ$6)
AG15: 身体拘束廃止未実施 | AQ15: 選択下さい。 | BJ15: =IF(OR($BJ$6="",AQ15="選択下さい。"),"",$BJ$6)
AG16: 虐待防止措置未実施 | AQ16: 選択下さい。 | BJ16: =IF(OR($BJ$6="",AQ16="選択下さい。"),"",$BJ$6)
AG17: 業務継続計画未策定 | AQ17: 選択下さい。 | BJ17: =IF(OR($BJ$6="",AQ17="選択下さい。"),"",$BJ$6)
AG18: 情報公表未報告 | AQ18: 選択下さい。 | BJ18: =IF(OR($BJ$6="",AQ18="選択下さい。"),"",$BJ$6)
AG19: 児童指導員等加配体制 | AQ19: 選択下さい。 | BJ19: =IF(OR($BJ$6="",AQ19="選択下さい。"),"",$BJ$6)
... AG42: 経過措置対象区分 | AQ42: 選択下さい。 | BJ42: =IF(OR($BJ$6="",AQ42="選択下さい。"),"",$BJ$6)
A43: 障害児通所給付費 | B43: 放課後等デイサービス | Z43: 選択下さい。 | AG43: 定員超過 | AQ43: 選択下さい。 | BJ43: =IF(OR($BJ$6="",AQ43="選択下さい。"),"",$BJ$6)
AG44: 開所時間減算 | AQ44: 選択下さい。 | BJ44: =IF(OR($BJ$6="",AQ44="選択下さい。"),"",$BJ$6)
AG45: 開所時間減算区分（※2） | AQ45: 選択下さい。 | BJ45: =IF(OR($BJ$6="",AQ45="選択下さい。"),"",$BJ$6)
AG46: 職員欠如 | AQ46: 選択下さい。 | BJ46: =IF(OR($BJ$6="",AQ46="選択下さい。"),"",$BJ$6)
AG47: 児童発達支援管理責任者欠如 | AQ47: 選択下さい。 | BJ47: =IF(OR($BJ$6="",AQ47="選択下さい。"),"",$BJ$6)
AG48: 自己評価結果等未公表減算 | AQ48: 選択下さい。 | BJ48: =IF(OR($BJ$6="",AQ48="選択下さい。"),"",$BJ$6)
AG49: 支援プログラム未公表減算 | AQ49: 選択下さい。 | BJ49: =IF(OR($BJ$6="",AQ49="選択下さい。"),"",$BJ$6)
AG50: 身体拘束廃止未実施 | AQ50: 選択下さい。 | BJ50: =IF(OR($BJ$6="",AQ50="選択下さい。"),"",$BJ$6)
AG51: 虐待防止措置未実施 | AQ51: 選択下さい。 | BJ51: =IF(OR($BJ$6="",AQ51="選択下さい。"),"",$BJ$6)
AG52: 業務継続計画未策定 | AQ52: 選択下さい。 | BJ52: =IF(OR($BJ$6="",AQ52="選択下さい。"),"",$BJ$6)
AG53: 情報公表未報告 | AQ53: 選択下さい。 | BJ53: =IF(OR($BJ$6="",AQ53="選択下さい。"),"",$BJ$6)
AG54: 児童指導員等加配体制 | AQ54: 選択下さい。 | BJ54: =IF(OR($BJ$6="",AQ54="選択下さい。"),"",$BJ$6)
AG55: 看護職員加配体制（重度） | AQ55: 選択下さい。 | BJ55: =IF(OR($BJ$6="",AQ55="選択下さい。"),"",$BJ$6)
... AG59: 送迎体制（医ケア） | AQ59: 選択下さい。 | BJ59: =IF(OR($BJ$6="",AQ59="選択下さい。"),"",$BJ$6)
AG60: 延長支援体制 | AQ60: 選択下さい。 | BJ60: =IF(OR($BJ$6="",AQ60="選択下さい。"),"",$BJ$6) | BU60: 選択下さい。,１．なし,２．Ⅰイ,３．Ⅰロ,４．Ⅱイ,５．Ⅱロ,６．Ⅲ,７．Ⅳ
AG61: 専門的支援加算体制 | AQ61: 選択下さい。 | BJ61: =IF(OR($BJ$6="",AQ61="選択下さい。"),"",$BJ$6)
AG62: 専門的支援実施 | AQ62: 選択下さい。 | BJ62: =IF(OR($BJ$6="",AQ62="選択下さい。"),"",$BJ$6)
AG63: 中核機能強化事業所加算対象 | AQ63: 選択下さい。 | BJ63: =IF(OR($BJ$6="",AQ63="選択下さい。"),"",$BJ$6)
AG64: 個別サポート体制（Ⅰ） | AQ64: 選択下さい。 | BJ64: =IF(OR($BJ$6="",AQ64="選択下さい。"),"",$BJ$6)
AG65: 視覚・聴覚等支援体制 | AQ65: 選択下さい。 | BJ65: =IF(OR($BJ$6="",AQ65="選択下さい。"),"",$BJ$6)
AG66: 人工内耳装用児支援体制 | AQ66: 選択下さい。 | BJ66: =IF(OR($BJ$6="",AQ66="選択下さい。"),"",$BJ$6)
...

Sheet 参考様式１（社保・労保加入状況）
A1: 参考様式１
A2: 社会福祉事業等の事業所用
A3: 社会保険及び労働保険への加入状況にかかる確認票
A5: 貴事業所の現状等について、下記の項目に回答してください。
A6: Ⅰ．現在、厚生年金保険・健康保険に加入していますか。 （該当する番号に☑チェックを付してください。また、必要事項をご記入ください。）
B7: 加入状況
B8: 加入している。 →下記のいずれかの書類の写しを提出してください。（提示も可） | Q8: FALSE
B9: ●保険料の領収証書 ●社会保険料納入証明書
B10: ●社会保険料納入確認書
B11: ●健康保険・厚生年金保険資格取得確認および標準報酬決定通知書
B12: ●健康保険・厚生年金保険適用通知書
B13: ※上記書類を所持していない場合には事業所整理記号を下記に記載するのみで可。
B14: （本社等にて加入手続が行われている場合も事業所整理記号を下記に記載するのみで可。）
B17: 現在、加入手続中である。 | Q17: FALSE
B18: 今後、加入手続を行う。 | Q18: FALSE
B19: （申請から３か月以内に適用要件（法人事業所または従業員５人以上の個人事業所）に該当する予定の場合を含む。）
B20: 令和（ ）年（ ）月頃に手続予定。（申請から３か月以内の年月をご記入ください。）
B21: 適用要件に該当しない。（個人事業所（法人ではない事業所）であって従業員が４名以下の場合。申請から３か月以内に適用要件に該当する予定がない。） | Q21: FALSE
B22: 適用要件に該当するか不明である。 | Q22: FALSE
B23: （個人事業所（法人ではない事業所）であって、正社員と、正社員以外で１週間の所定労働時間及び１か月の所定労働日数が同じ事業所で同様の業務に従事している正社員の４分の３以上である者との合計が５人以上か不明な場合。）
A25: Ⅱ．現在、労働者災害補償保険・雇用保険に加入していますか。 （該当する番号に☑チェックを付してください。また、必要事項をご記入ください。）
B26: 加入状況
B27: 加入している。 →下記のいずれかの書類の写しを提出してください。（提示も可） | Q27: FALSE
B28: ●労働保険概算・確定保険料申告書
B29: ●納付書・領収証等 ●保険関係成立届
B30: ※上記書類を所持していない場合には労働保険番号を下記に記載するのみで可。
B31: （本社等にて加入手続が行われている場合も労働保険番号を下記に記載するのみで可。）
M32: －
B34: 現在、加入手続中である。 | Q34: FALSE
B35: 今後、加入手続を行う。 | Q35: FALSE
B36: （申請から３か月以内に従業員（パート・アルバイトを含む）を雇う予定がある場合を含む。）
B37: 令和（ ）年（ ）月頃に手続予定。（申請から３か月以内の年月をご記入ください。）
B38: 適用要件に該当しない。（事業主・役員・同居の親族のみで経営、従業員（パート・アルバイトを含む）がいない、申請から３か月以内に従業員を雇う予定がない。） | Q38: FALSE
A40: 回答年月日 | D40: 令和 年 月 日
A41: 事 業 所 名 称 | E41: =TEXT(基本情報入力シート!L45,"#")
A42: 事業所 所在地 | E42: =CONCATENATE(TEXT(基本情報入力シート!L15,"000"),"-",TEXT(基本情報入力シート!T15,"0000"),CHAR(10),TEXT(基本情報入力シート!L17,"#"),CHAR(10),TEXT(基本情報入力シート!L19,"#")) -> 000-0000
A43: 会社等法人番号
A44: 電 話 番 号 | E44: =TEXT(基本情報入力シート!L29,"#")
A46: ※ 事業主の皆様には、全ての法令を遵守していただきたいと考えています。社会保険・労働保険の適用が確認できない場合は、厚生労働省からの依頼に基づき、厚生労働省に情報提供いたします。
A47: ※ 社会保険・労働保険の適用促進以外の目的では使用いたしません。

Sheet 参考様式２-1（管理者経歴書）
A1: 参考様式２-１
C2: 管理者経歴書
A4: 事業所の名称 | C4: =TEXT(基本情報入力シート!L45,"#")
A5: フリガナ | B5: =TEXT(基本情報入力シート!L60,"#") | F5: 生年月日 | G5: =IF(基本情報入力シート!L65<>"",TEXT(基本情報入力シート!L65,"ggge年m月d日")," 年 月 日") -> 年 月 日
A6: 氏名 | B6: =TEXT(基本情報入力シート!L59,"#")
A8: 住所 | B8: =IF(TEXT(基本情報入力シート!L61,"000")="","（郵便番号 － ）",CONCATENATE("（郵便番号 ",ASC(TEXT(基本情報入力シート!L61,"000")),"-",ASC(TEXT(基本情報入力シート!T61,"0000")),"）")) -> （郵便番号 000-0000）
B9: =TEXT(基本情報入力シート!L62,"G/標準")&" "&TEXT(基本情報入力シート!L63,"G/標準") -> 0 0
A10: 電話番号 | B10: =IF(基本情報入力シート!L64<>"",TEXT(基本情報入力シート!L64,"G/標準"),"")
A11: 東京都障害児通所支援事業所指定協議説明会アンケート提出日
A12: 主な職歴等
A13: 年 月 日～ 年 月 日 | D13: 勤務先等(社名+事業所名) | G13: 職務内容
A29: 職務に関連する資格
A30: 資格の種類 | E30: 資格取得年月日
A38: 備考（研修等の受講の状況等）
A44: 備考１ 住所・電話番号は、自宅のものを記載してください。
A45: ２ 当該管理者が管理する事業所が複数の場合は、備考欄にその全てを記載してください。

Sheet 参考様式２-2（児発管経歴書_事業①）
A1: 参考様式２-２
C2: 児童発達支援管理責任者経歴書
A4: 事業所の名称 | C4: =TEXT(基本情報入力シート!L45,"#")
A5: フリガナ | B5: =IF(基本情報入力シート!L66="*兼務*",TEXT(基本情報入力シート!L60,"#"),TEXT(基本情報入力シート!L68,"#")) | F5: 生年月日 | G5: =IF(基本情報入力シート!L50<>"選択して下さい。",IF(基本情報入力シート!L66="*兼務*",TEXT(基本情報入力シート!L65,"ggge年m月d日"),TEXT(基本情報入力シート!L73,"ggge年m月d日"))," 年 月 日") -> 年 月 日
A6: 氏名 | B6: =IF(基本情報入力シート!L66="*兼務*",TEXT(基本情報入力シート!L59,"#"),TEXT(基本情報入力シート!L67,"#"))
A8: 住所 | B8: =IF(基本情報入力シート!L50<>"選択して下さい。",IF(基本情報入力シート!L66="*兼務*",CONCATENATE("（郵便番号 ",ASC(TEXT(基本情報入力シート!L61,"000")),"-",ASC(TEXT(基本情報入力シート!T61,"0000")),"）"),CONCATENATE("（郵便番号 ",ASC(TEXT(基本情報入力シート!L69,"000")),"-",ASC(TEXT(基本情報入力シート!T69,"0000")),"）")),"（郵便番号 － ）") -> （郵便番号 － ）
B9: =IF(基本情報入力シート!L66="*兼務*",TEXT(基本情報入力シート!L62,"G/標準")&" "&TEXT(基本情報入力シート!L63,"G/標準"),TEXT(基本情報入力シート!L70,"G/標準")&" "&TEXT(基本情報入力シート!L71,"G/標準"))
A10: 電話番号 | B10: =IF(基本情報入力シート!L50<>"選択して下さい。",IF(基本情報入力シート!L66="*兼務*",TEXT(基本情報入力シート!L64,"G/標準"),TEXT(基本情報入力シート!L72,"G/標準")),"")
A11: 東京都障害児通所支援事業所指定協議説明会アンケート提出日
A12: 主な職歴等
A13: 年 月 日～ 年 月 日 | D13: 勤務先等(社名+事業所名) | G13: 職務内容
A29: 職務に関連する資格
A30: 資格の種類 | E30: 資格取得年月日
A38: 備考（研修等の受講の状況等）
A44: 備考１ 住所・電話番号は、自宅のものを記載してください。
A45: ２ 当該管理者が管理する事業所が複数の場合は、備考欄にその全てを記載してください。

Sheet 参考様式２-2（児発管経歴書_事業②）
A1: 参考様式２-２
C2: 児童発達支援管理責任者経歴書
A4: 事業所の名称 | C4: =TEXT(基本情報入力シート!L45,"#")
A5: フリガナ | B5: =IF(基本情報入力シート!L74="*兼務*",TEXT(基本情報入力シート!L60,"#"),TEXT(基本情報入力シート!L76,"#")) | F5: 生年月日 | G5: =IF(基本情報入力シート!L51<>"選択して下さい。",IF(基本情報入力シート!L74="*兼務*",TEXT(基本情報入力シート!L65,"ggge年m月d日"),TEXT(基本情報入力シート!L81,"ggge年m月d日"))," 年 月 日") -> 年 月 日
A6: 氏名 | B6: =IF(基本情報入力シート!L74="*兼務*",TEXT(基本情報入力シート!L59,"#"),TEXT(基本情報入力シート!L75,"#"))
A8: 住所 | B8: =IF(基本情報入力シート!L51<>"選択して下さい。",IF(基本情報入力シート!L74="*兼務*",CONCATENATE("（郵便番号 ",ASC(TEXT(基本情報入力シート!L61,"000")),"-",ASC(TEXT(基本情報入力シート!T61,"0000")),"）"),CONCATENATE("（郵便番号 ",ASC(TEXT(基本情報入力シート!L77,"000")),"-",ASC(TEXT(基本情報入力シート!T77,"0000")),"）")),"（郵便番号 － ）") -> （郵便番号 － ）
B9: =IF(基本情報入力シート!L74="*兼務*",TEXT(基本情報入力シート!L62,"G/標準")&" "&TEXT(基本情報入力シート!L63,"G/標準"),TEXT(基本情報入力シート!L78,"G/標準")&" "&TEXT(基本情報入力シート!L79,"G/標準"))
A10: 電話番号 | B10: =IF(基本情報入力シート!L51<>"選択して下さい。",IF(基本情報入力シート!L74="*兼務*",TEXT(基本情報入力シート!L64,"G/標準"),TEXT(基本情報入力シート!L80,"G/標準")),"")
A11: 東京都障害児通所支援事業所指定協議説明会アンケート提出日
A12: 主な職歴等
A13: 年 月 日～ 年 月 日 | D13: 勤務先等(社名+事業所名) | G13: 職務内容
A29: 職務に関連する資格
A30: 資格の種類 | E30: 資格取得年月日
A38: 備考（研修等の受講の状況等）
A44: 備考１ 住所・電話番号は、自宅のものを記載してください。
A45: ２ 当該管理者が管理する事業所が複数の場合は、備考欄にその全てを記載してください。

Sheet 参考様式２-2（児発管経歴書_事業③）
A1: 参考様式２-２
C2: 児童発達支援管理責任者経歴書
A4: 事業所の名称 | C4: =TEXT(基本情報入力シート!L45,"#")
A5: フリガナ | B5: =IF(基本情報入力シート!L82="*兼務*",TEXT(基本情報入力シート!L60,"#"),TEXT(基本情報入力シート!L84,"#")) | F5: 生年月日 | G5: =IF(基本情報入力シート!L52<>"選択して下さい。",IF(基本情報入力シート!L82="*兼務*",TEXT(基本情報入力シート!L65,"ggge年m月d日"),TEXT(基本情報入力シート!L89,"ggge年m月d日"))," 年 月 日") -> 年 月 日
A6: 氏名 | B6: =IF(基本情報入力シート!L82="*兼務*",TEXT(基本情報入力シート!L59,"#"),TEXT(基本情報入力シート!L83,"#"))
A8: 住所 | B8: =IF(基本情報入力シート!L52<>"選択して下さい。",IF(基本情報入力シート!L82="*兼務*",CONCATENATE("（郵便番号 ",ASC(TEXT(基本情報入力シート!L61,"000")),"-",ASC(TEXT(基本情報入力シート!T61,"0000")),"）"),CONCATENATE("（郵便番号 ",ASC(TEXT(基本情報入力シート!L85,"000")),"-",ASC(TEXT(基本情報入力シート!T85,"0000")),"）")),"（郵便番号 － ）") -> （郵便番号 － ）
B9: =IF(基本情報入力シート!L82="*兼務*",TEXT(基本情報入力シート!L62,"G/標準")&" "&TEXT(基本情報入力シート!L63,"G/標準"),TEXT(基本情報入力シート!L86,"G/標準")&" "&TEXT(基本情報入力シート!L87,"G/標準"))
A10: 電話番号 | B10: =IF(基本情報入力シート!L52<>"選択して下さい。",IF(基本情報入力シート!L82="*兼務*",TEXT(基本情報入力シート!L64,"G/標準"),TEXT(基本情報入力シート!L88,"G/標準")),"")
A11: 東京都障害児通所支援事業所指定協議説明会アンケート提出日
A12: 主な職歴等
A13: 年 月 日～ 年 月 日 | D13: 勤務先等(社名+事業所名) | G13: 職務内容
A29: 職務に関連する資格
A30: 資格の種類 | E30: 資格取得年月日
A38: 備考（研修等の受講の状況等）
A44: 備考１ 住所・電話番号は、自宅のものを記載してください。
A45: ２ 当該管理者が管理する事業所が複数の場合は、備考欄にその全てを記載してください。

Sheet 参考様式２-2（児発管経歴書_事業④）
A1: 参考様式２-２
C2: 児童発達支援管理責任者経歴書
A4: 事業所の名称 | C4: =TEXT(基本情報入力シート!L45,"#")
A5: フリガナ | B5: =IF(基本情報入力シート!L82="*兼務*",TEXT(基本情報入力シート!L60,"#"),TEXT(基本情報入力シート!L84,"#")) | F5: 生年月日 | G5: =IF(基本情報入力シート!L53<>"選択して下さい。",IF(基本情報入力シート!L90="*兼務*",TEXT(基本情報入力シート!L65,"ggge年m月d日"),TEXT(基本情報入力シート!L97,"ggge年m月d日"))," 年 月 日") -> 年 月 日
A6: 氏名 | B6: =IF(基本情報入力シート!L82="*兼務*",TEXT(基本情報入力シート!L59,"#"),TEXT(基本情報入力シート!L83,"#"))
A8: 住所 | B8: =IF(基本情報入力シート!L53<>"選択して下さい。",IF(基本情報入力シート!L90="*兼務*",CONCATENATE("（郵便番号 ",ASC(TEXT(基本情報入力シート!L61,"000")),"-",ASC(TEXT(基本情報入力シート!T61,"0000")),"）"),CONCATENATE("（郵便番号 ",ASC(TEXT(基本情報入力シート!L93,"000")),"-",ASC(TEXT(基本情報入力シート!T93,"0000")),"）")),"（郵便番号 － ）") -> （郵便番号 － ）
B9: =IF(基本情報入力シート!L82="*兼務*",TEXT(基本情報入力シート!L62,"G/標準")&" "&TEXT(基本情報入力シート!L63,"G/標準"),TEXT(基本情報入力シート!L94,"G/標準")&" "&TEXT(基本情報入力シート!L95,"G/標準"))
A10: 電話番号 | B10: =IF(基本情報入力シート!L53<>"選択して下さい。",IF(基本情報入力シート!L90="*兼務*",TEXT(基本情報入力シート!L64,"G/標準"),TEXT(基本情報入力シート!L96,"G/標準")),"")
A11: 東京都障害児通所支援事業所指定協議説明会アンケート提出日
A12: 主な職歴等
A13: 年 月 日～ 年 月 日 | D13: 勤務先等(社名+事業所名) | G13: 職務内容
A29: 職務に関連する資格
A30: 資格の種類 | E30: 資格取得年月日
A38: 備考（研修等の受講の状況等）
A44: 備考１ 住所・電話番号は、自宅のものを記載してください。
A45: ２ 当該管理者が管理する事業所が複数の場合は、備考欄にその全てを記載してください。

Sheet 参考様式２-2（児発管経歴書_事業⑤）
A1: 参考様式２-２
C2: 児童発達支援管理責任者経歴書
A4: 事業所の名称 | C4: =TEXT(基本情報入力シート!L45,"#")
A5: フリガナ | B5: =IF(基本情報入力シート!L98="*兼務*",TEXT(基本情報入力シート!L60,"#"),TEXT(基本情報入力シート!L100,"#")) | F5: 生年月日 | G5: =IF(基本情報入力シート!L54<>"選択して下さい。",IF(基本情報入力シート!L98="*兼務*",TEXT(基本情報入力シート!L65,"ggge年m月d日"),TEXT(基本情報入力シート!L105,"ggge年m月d日"))," 年 月 日") -> 年 月 日
A6: 氏名 | B6: =IF(基本情報入力シート!L98="*兼務*",TEXT(基本情報入力シート!L59,"#"),TEXT(基本情報入力シート!L99,"#"))
A8: 住所 | B8: =IF(基本情報入力シート!L54<>"選択して下さい。",IF(基本情報入力シート!L98="*兼務*",CONCATENATE("（郵便番号 ",ASC(TEXT(基本情報入力シート!L61,"000")),"-",ASC(TEXT(基本情報入力シート!T61,"0000")),"）"),CONCATENATE("（郵便番号 ",ASC(TEXT(基本情報入力シート!L101,"000")),"-",ASC(TEXT(基本情報入力シート!T101,"0000")),"）")),"（郵便番号 － ）") -> （郵便番号 － ）
B9: =IF(基本情報入力シート!L98="*兼務*",TEXT(基本情報入力シート!L62,"G/標準")&" "&TEXT(基本情報入力シート!L63,"G/標準"),TEXT(基本情報入力シート!L102,"G/標準")&" "&TEXT(基本情報入力シート!L103,"G/標準"))
A10: 電話番号 | B10: =IF(基本情報入力シート!L54<>"選択して下さい。",IF(基本情報入力シート!L98="*兼務*",TEXT(基本情報入力シート!L64,"G/標準"),TEXT(基本情報入力シート!L104,"G/標準")),"")
A11: 東京都障害児通所支援事業所指定協議説明会アンケート提出日
A12: 主な職歴等
A13: 年 月 日～ 年 月 日 | D13: 勤務先等(社名+事業所名) | G13: 職務内容
A29: 職務に関連する資格
A30: 資格の種類 | E30: 資格取得年月日
A38: 備考（研修等の受講の状況等）
A44: 備考１ 住所・電話番号は、自宅のものを記載してください。
A45: ２ 当該管理者が管理する事業所が複数の場合は、備考欄にその全てを記載してください。

Sheet 参考様式２-2（児発管経歴書_事業⑥）
A1: 参考様式２-２
C2: 児童発達支援管理責任者経歴書
A4: 事業所の名称 | C4: =TEXT(基本情報入力シート!L45,"#")
A5: フリガナ | B5: =IF(基本情報入力シート!L106="*兼務*",TEXT(基本情報入力シート!L60,"#"),TEXT(基本情報入力シート!L108,"#")) | F5: 生年月日 | G5: =IF(基本情報入力シート!L55<>"選択して下さい。",IF(基本情報入力シート!L106="*兼務*",TEXT(基本情報入力シート!L65,"ggge年m月d日"),TEXT(基本情報入力シート!L113,"ggge年m月d日"))," 年 月 日") -> 年 月 日
A6: 氏名 | B6: =IF(基本情報入力シート!L106="*兼務*",TEXT(基本情報入力シート!L59,"#"),TEXT(基本情報入力シート!L107,"#"))
A8: 住所 | B8: =IF(基本情報入力シート!L55<>"選択して下さい。",IF(基本情報入力シート!L106="*兼務*",CONCATENATE("（郵便番号 ",ASC(TEXT(基本情報入力シート!L61,"000")),"-",ASC(TEXT(基本情報入力シート!T61,"0000")),"）"),CONCATENATE("（郵便番号 ",ASC(TEXT(基本情報入力シート!L107,"000")),"-",ASC(TEXT(基本情報入力シート!T107,"0000")),"）")),"（郵便番号 － ）") -> （郵便番号 － ）
B9: =IF(基本情報入力シート!L106="*兼務*",TEXT(基本情報入力シート!L62,"G/標準")&" "&TEXT(基本情報入力シート!L63,"G/標準"),TEXT(基本情報入力シート!L110,"G/標準")&" "&TEXT(基本情報入力シート!L111,"G/標準"))
A10: 電話番号 | B10: =IF(基本情報入力シート!L55<>"選択して下さい。",IF(基本情報入力シート!L106="*兼務*",TEXT(基本情報入力シート!L64,"G/標準"),TEXT(基本情報入力シート!L112,"G/標準")),"")
A11: 東京都障害児通所支援事業所指定協議説明会アンケート提出日
A12: 主な職歴等
A13: 年 月 日～ 年 月 日 | D13: 勤務先等(社名+事業所名) | G13: 職務内容
A29: 職務に関連する資格
A30: 資格の種類 | E30: 資格取得年月日
A38: 備考（研修等の受講の状況等）
A44: 備考１ 住所・電話番号は、自宅のものを記載してください。
A45: ２ 当該管理者が管理する事業所が複数の場合は、備考欄にその全てを記載してください。

Sheet 参考様式３-１（実務経験証明書）
A1: 参考様式３-１
A2: 実 務 経 験 証 明 書
N3: 令和 年 月 日
H5: 法人名
H6: 法人所在地
H8: 代表者氏名 | N8: 印
H9: 電話番号
A11: 下記の者の実務経験は、以下のとおりであることを証明します。
B12: 該当する児童発達支援管理責任者が従事する事業を選択してください。
A14: 氏 名 | D14: =IF(A12="①",基本情報入力シート!L67,IF(A12="②",基本情報入力シート!L75,IF(A12="③",基本情報入力シート!L83,IF(A12="④",基本情報入力シート!L91,IF(A12="⑤",基本情報入力シート!L99,IF(A12="⑥",基本情報入力シート!L107,"")))))) | F14: 生年月日 | G14: 選択してください | I14: 年 | K14: 月 | M14: 日 | Q14: ←
A15: 現 住 所 | D15: =IF(A12="①",基本情報入力シート!L70&" "&基本情報入力シート!L71,IF(A12="②",基本情報入力シート!L78&" "&基本情報入力シート!L79,IF(A12="③",基本情報入力シート!L86&" "&基本情報入力シート!L87,IF(A12="④",基本情報入力シート!L94&" "&基本情報入力シート!L95,IF(A12="⑤",基本情報入力シート!L102&" "&基本情報入力シート!L103,IF(A12="⑥",基本情報入力シート!L110&" "&基本情報入力シート!L111,""))))))
A16: 施設又は事業所名
A17: 事 業 種 別 | D17: 該当する事業、施設に〇をしてください。（該当がない場合はその他に記載） (1)障害児入所施設、乳児院、児童家庭支援センター、児童養護施設、障害者支援施設、児童自立支援施設 (2)認可保育園、幼保連携型認定保育園、地域型認定保育園、母子生活支援施設 (3)学校、幼稚園、幼稚園型認定保育園、事業所内保育事業、居宅訪問型保育事業、家庭的保育事業 (4)障害児通所支援事業、放課後児童健全育成事業 (5)小規模保育事業（定員 名）、病児保育事業、地域子育て支援拠点事業、子育て援助活動支援事業 (6)障害福祉サービス事業（生活介護、共同生活援助、居宅介護、就労継続支援など） (7)老人福祉施設、老人居宅介護、老人通所介護、地域包括支援センター、更生施設 (8)障害児（者）相談支援事業、児童相談所、地域生活支援事業、障害者就業支援センター (9)特別支援学校、特別支援学級 (10)その他（ ）
D18: (11)認可外保育園、企業主導型保育事業
A19: 業 務 期 間
D20: 実勤務日数 | H20: 日 | I20: 週平均 | L20: 日
A21: 業 務 内 容 | D21: 職名 | J21: 選択してください
A25: （注） | B25: １． | C25: 業務期間欄 対象者が要援護者に対する直接的な援助を行っていた期間を記入してください。 （産休・育休・療養休暇や長期研修期間等は業務期間となりません）
C27: 実務経験証明書作成日までの期間または退職した日までの期間を記入してください。
B29: ２． | C29: 業務内容欄 指導員、生活指導員、看護士等の職名を記入し、業務について、「主に○○に対し△△などの直接支援業務（相談業務）」など具体的に記入してください。
B33: ３． | C33: 証明内容を訂正した場合は、証明権者の職印を押印してください。なお、修正液による訂正は認められません。
B36: ４． | C36: 区市町村委託事業や区市町村補助事業等の公費支出事業での実務経験の場合は、(10)その他に事業名を記載し、業務期間中に公費支出されていることが確認できる資料も添付してください。(例：補助金支給決定通知書等）

Sheet 参考様式３-２（実務経験証明書）リンクなし
A1: 参考様式３-２
A2: 実 務 経 験 証 明 書
N3: 令和 年 月 日
H5: 法人名
H6: 法人所在地
H8: 代表者氏名 | N8: 印
H9: 電話番号
A11: 下記の者の実務経験は、以下のとおりであることを証明します。
